BEGIN:VCALENDAR
VERSION:2.0
PRODID:-//Eshel Online - ECPv6.0.0.1//NONSGML v1.0//EN
CALSCALE:GREGORIAN
METHOD:PUBLISH
X-ORIGINAL-URL:https://www.eshelonline.org
X-WR-CALDESC:Events for Eshel Online
REFRESH-INTERVAL;VALUE=DURATION:PT1H
X-Robots-Tag:noindex
X-PUBLISHED-TTL:PT1H
BEGIN:VTIMEZONE
TZID:America/New_York
BEGIN:DAYLIGHT
TZOFFSETFROM:-0500
TZOFFSETTO:-0400
TZNAME:EDT
DTSTART:20260308T070000
END:DAYLIGHT
BEGIN:STANDARD
TZOFFSETFROM:-0400
TZOFFSETTO:-0500
TZNAME:EST
DTSTART:20261101T060000
END:STANDARD
END:VTIMEZONE
BEGIN:VEVENT
DTSTART;TZID=America/New_York:20260511T120000
DTEND;TZID=America/New_York:20260511T130000
DTSTAMP:20260421T235157
CREATED:20220412T230234Z
LAST-MODIFIED:20260209T151542Z
UID:159229-1778500800-1778504400@www.eshelonline.org
SUMMARY:Israel Parent Meetup
DESCRIPTION:Join Eshel’s local chapter in Israel for parents of LGBTQ+ children. \nThis group will provide support and build community in an intimate\, confidential setting in English. This group meets in person most months\, with a Zoom meeting once per quarter. \nRegister below for monthly reminders\, links\, and location details. \n			\n			\n				\n				\n				\n				\n			\n				\n				\n				\n				\n				\n				\n				\n				\n				\n				\n				\n\n			\n				Sign up for our other newsletters
URL:https://www.eshelonline.org/event/israel-meetup-2022-05-24-2022-11-22-2022-12-19-2022-12-26-2023-09-25-2023-10-18-2024-01-17-2024-05-15-2024-06-19-2024-08-21-2024-09-18-2025-04-17-2025-08-21-2026-05-21/
END:VEVENT
BEGIN:VEVENT
DTSTART;TZID=America/New_York:20260511T200000
DTEND;TZID=America/New_York:20260511T210000
DTSTAMP:20260421T235157
CREATED:20230926T162921Z
LAST-MODIFIED:20251126T132119Z
UID:157254-1778529600-1778533200@www.eshelonline.org
SUMMARY:LGBTQ+ Support Group
DESCRIPTION:A confidential space for LGBTQ+ adults who are Orthodox\, formerly Orthodox\, or Orthodox-adjacent to access peer support\, share their experiences\, and connect and gain insights from others. \n  \nSecond Monday of the month \n8:00 pm ET\, 7:00 pm CT\, 6:00 pm MT\, 5:00 pm PT \nRegister below for Zoom link and to receive notifications each month.
URL:https://www.eshelonline.org/event/lgbtq-support-group-2-2024-01-01/2026-05-11/
ATTACH;FMTTYPE=image/png:https://www.eshelonline.org/wp-content/uploads/2023/09/Eshel-Support-groups-and-meetups.png
END:VEVENT
BEGIN:VEVENT
DTSTART;TZID=America/New_York:20260512T203000
DTEND;TZID=America/New_York:20260512T214500
DTSTAMP:20260421T235158
CREATED:20200218T173239Z
LAST-MODIFIED:20251223T192551Z
UID:163460-1778617800-1778622300@www.eshelonline.org
SUMMARY:Women's LBTQ+ Support Group
DESCRIPTION:Women’s New York Area Meetup on Zoom \nWhat: Meet other individuals who identify as female and who are exploring their Orthodox LGBTQ+ identities. \nWhen: Meeting Weekly: Every Tuesday from 8:30 pm – 9:45 pm \nWhere: For notifications and sign-in information\, register below. (You only need to register for this group one time.)
URL:https://www.eshelonline.org/event/womens-lgbtq-support-group-2025-09-11/2026-05-12/
CATEGORIES:Events
ATTACH;FMTTYPE=image/jpeg:https://www.eshelonline.org/wp-content/uploads/2020/02/Eshel-Support-groups-and-meetups-14.jpg
END:VEVENT
BEGIN:VEVENT
DTSTART;TZID=America/New_York:20260513T120000
DTEND;TZID=America/New_York:20260513T130000
DTSTAMP:20260421T235158
CREATED:20200518T143444Z
LAST-MODIFIED:20251210T192649Z
UID:157301-1778673600-1778677200@www.eshelonline.org
SUMMARY:Parents Drop-In Support Group
DESCRIPTION:Drop-in every Wednesday to shmooze\, chat\, ask questions\, and hear topics of interest! \nFor notifications and sign-in information\, please fill out the form below. (You only need to register for this group one time.)\n			\n				\n				\n				\n				\n				\n\n			\n			\n				\n				\n				\n				\n			\n				\n				\n				\n				\n				\n				\n			\n				\n				\n				\n				\n				\n				Subscribe to a Newsletter
URL:https://www.eshelonline.org/event/parents-drop-in/2026-05-13/
CATEGORIES:Events
ATTACH;FMTTYPE=image/jpeg:https://www.eshelonline.org/wp-content/uploads/2023/09/Parents-Drop-In-1.jpg
END:VEVENT
END:VCALENDAR