BEGIN:VCALENDAR
VERSION:2.0
PRODID:-//Eshel Online - ECPv6.0.0.1//NONSGML v1.0//EN
CALSCALE:GREGORIAN
METHOD:PUBLISH
X-ORIGINAL-URL:https://www.eshelonline.org
X-WR-CALDESC:Events for Eshel Online
REFRESH-INTERVAL;VALUE=DURATION:PT1H
X-Robots-Tag:noindex
X-PUBLISHED-TTL:PT1H
BEGIN:VTIMEZONE
TZID:America/New_York
BEGIN:DAYLIGHT
TZOFFSETFROM:-0500
TZOFFSETTO:-0400
TZNAME:EDT
DTSTART:20260308T070000
END:DAYLIGHT
BEGIN:STANDARD
TZOFFSETFROM:-0400
TZOFFSETTO:-0500
TZNAME:EST
DTSTART:20261101T060000
END:STANDARD
END:VTIMEZONE
BEGIN:VEVENT
DTSTART;VALUE=DATE:20260430
DTEND;VALUE=DATE:20260504
DTSTAMP:20260425T095319
CREATED:20251203T233413Z
LAST-MODIFIED:20251203T233413Z
UID:164584-1777507200-1777852799@www.eshelonline.org
SUMMARY:2026 Parent Retreat
DESCRIPTION:Learn More and Sign Up: https://www.eshelonline.org/2026-parent-retreat/
URL:https://www.eshelonline.org/event/2026-parent-retreat/
ATTACH;FMTTYPE=image/jpeg:https://www.eshelonline.org/wp-content/uploads/2025/11/Main-without-headshots.jpg
END:VEVENT
BEGIN:VEVENT
DTSTART;TZID=America/New_York:20260504T190000
DTEND;TZID=America/New_York:20260504T200000
DTSTAMP:20260425T095319
CREATED:20251027T205503Z
LAST-MODIFIED:20251027T205503Z
UID:164181-1777921200-1777924800@www.eshelonline.org
SUMMARY:Straight Spouses of LGBTQ+ Partners Support Group
DESCRIPTION:Straight Spouses of LGBTQ+ Partners Support Group \nHas your spouse come out to you? This support group is for anyone in the Orthodox community whose husband or wife has come out as gay\, lesbian\, or transgender\, whether you are married\, separated\, or divorced. This group is a confidential and supportive space to process difficult emotions\, connect with others in similar situations\, navigate co-parenting under these new circumstances\, and learn how to move forward with resilience. \nWhen: First Monday each month\, 7:00 pm ET / 6:00 pm CT / 4:00 pm PT \nWhere: Zoom – register to receive the link
URL:https://www.eshelonline.org/event/straight-spouses-of-lgbtq-partners-support-group/2026-05-04/
CATEGORIES:Events
ATTACH;FMTTYPE=image/jpeg:https://www.eshelonline.org/wp-content/uploads/2025/10/Eshel-Support-groups-and-meetups-5.jpg
END:VEVENT
BEGIN:VEVENT
DTSTART;TZID=America/New_York:20260504T190000
DTEND;TZID=America/New_York:20260504T210000
DTSTAMP:20260425T095319
CREATED:20260327T150106Z
LAST-MODIFIED:20260423T160448Z
UID:165504-1777921200-1777928400@www.eshelonline.org
SUMMARY:NYC LGBTQ+ Lag Ba'Omer Rooftop BBQ Social
DESCRIPTION:THIS EVENT IS AT-CAPACITY. PLEASE FILL OUT THE FORM BELOW TO BE ADDED TO OUR WAITLIST. \nCelebrate Lag B’Omer in style\, overlooking the Upper West Side on the Manhattan JCC’s rooftop! We cannot make bonfires on the roof\, but that doesn’t mean we can’t enjoy some good BBQ! There will be hot dogs\, smores\, and drinks. Ring in the special day with great company and great music! Rain or shine. \nThis event is 21+ and free. \nWhen: Monday\, May 4\, 7:00-9:00p\nWhere: Marlene Meyerson JCC Manhattan\, Rooftop
URL:https://www.eshelonline.org/event/nyc-lag-baomer-rooftop-bbq-social/
END:VEVENT
BEGIN:VEVENT
DTSTART;TZID=America/New_York:20260504T200000
DTEND;TZID=America/New_York:20260504T210000
DTSTAMP:20260425T095319
CREATED:20230912T015346Z
LAST-MODIFIED:20240819T154215Z
UID:157144-1777924800-1777928400@www.eshelonline.org
SUMMARY:Parents Drop-In Support Group
DESCRIPTION:Join our drop-in support group for parents! We meet every Wednesday at noon ET and the first Monday every month at 8pm ET. \nFor notifications and sign-in information\, please fill out the form below. (You only need to register for this group one time.) \n			\n				\n				\n				\n				\n				\n\n  hbspt.forms.create({\n    region: "na1"\,\n    portalId: "7837587"\,\n    formId: "7671fe05-c022-4625-b646-4d6c927cbdff"\n  });\n\n			\n			\n				\n				\n				\n				\n			\n				\n				\n				\n				\n				\n				\n				Sign up to Join\n			\n			\n				\n				\n				\n				\n				\n				Subscribe to a Newsletter
URL:https://www.eshelonline.org/event/drop-in-parents-support-group/2026-05-04/
ATTACH;FMTTYPE=image/jpeg:https://www.eshelonline.org/wp-content/uploads/2023/09/Parents-Drop-In-1.jpg
END:VEVENT
BEGIN:VEVENT
DTSTART;TZID=America/New_York:20260505T203000
DTEND;TZID=America/New_York:20260505T214500
DTSTAMP:20260425T095319
CREATED:20200218T173239Z
LAST-MODIFIED:20251223T192549Z
UID:163459-1778013000-1778017500@www.eshelonline.org
SUMMARY:Women's LBTQ+ Support Group
DESCRIPTION:Women’s New York Area Meetup on Zoom \nWhat: Meet other individuals who identify as female and who are exploring their Orthodox LGBTQ+ identities. \nWhen: Meeting Weekly: Every Tuesday from 8:30 pm – 9:45 pm \nWhere: For notifications and sign-in information\, register below. (You only need to register for this group one time.)
URL:https://www.eshelonline.org/event/womens-lgbtq-support-group-2025-09-11/2026-05-05/
CATEGORIES:Events
ATTACH;FMTTYPE=image/jpeg:https://www.eshelonline.org/wp-content/uploads/2020/02/Eshel-Support-groups-and-meetups-14.jpg
END:VEVENT
BEGIN:VEVENT
DTSTART;TZID=America/New_York:20260506T120000
DTEND;TZID=America/New_York:20260506T130000
DTSTAMP:20260425T095320
CREATED:20200518T143444Z
LAST-MODIFIED:20251210T192648Z
UID:157171-1778068800-1778072400@www.eshelonline.org
SUMMARY:Parents Drop-In Support Group
DESCRIPTION:Drop-in every Wednesday to shmooze\, chat\, ask questions\, and hear topics of interest! \nFor notifications and sign-in information\, please fill out the form below. (You only need to register for this group one time.)\n			\n				\n				\n				\n				\n				\n\n			\n			\n				\n				\n				\n				\n			\n				\n				\n				\n				\n				\n				\n			\n				\n				\n				\n				\n				\n				Subscribe to a Newsletter
URL:https://www.eshelonline.org/event/parents-drop-in/2026-05-06/
CATEGORIES:Events
ATTACH;FMTTYPE=image/jpeg:https://www.eshelonline.org/wp-content/uploads/2023/09/Parents-Drop-In-1.jpg
END:VEVENT
BEGIN:VEVENT
DTSTART;TZID=America/New_York:20260506T190000
DTEND;TZID=America/New_York:20260506T210000
DTSTAMP:20260425T095320
CREATED:20260424T194911Z
LAST-MODIFIED:20260424T194916Z
UID:165613-1778094000-1778101200@www.eshelonline.org
SUMMARY:Baltimore | Lag Ba'Omer Party
DESCRIPTION:Join Eshel Baltimore for a party to celebrate Lag B’omer! This event is family-friendly and open to LGBTQ+ people\, parents\, and any other family members you’d like to bring. 
URL:https://www.eshelonline.org/event/baltimore-lag-baomer-party/
ATTACH;FMTTYPE=image/jpeg:https://www.eshelonline.org/wp-content/uploads/2026/04/Lag-BOmer-picnic-1.jpg
END:VEVENT
END:VCALENDAR