BEGIN:VCALENDAR
VERSION:2.0
PRODID:-//Eshel Online - ECPv6.0.0.1//NONSGML v1.0//EN
CALSCALE:GREGORIAN
METHOD:PUBLISH
X-WR-CALNAME:Eshel Online
X-ORIGINAL-URL:https://www.eshelonline.org
X-WR-CALDESC:Events for Eshel Online
REFRESH-INTERVAL;VALUE=DURATION:PT1H
X-Robots-Tag:noindex
X-PUBLISHED-TTL:PT1H
BEGIN:VTIMEZONE
TZID:America/New_York
BEGIN:DAYLIGHT
TZOFFSETFROM:-0500
TZOFFSETTO:-0400
TZNAME:EDT
DTSTART:20260308T070000
END:DAYLIGHT
BEGIN:STANDARD
TZOFFSETFROM:-0400
TZOFFSETTO:-0500
TZNAME:EST
DTSTART:20261101T060000
END:STANDARD
END:VTIMEZONE
BEGIN:VEVENT
DTSTART;TZID=America/New_York:20260323T190000
DTEND;TZID=America/New_York:20260323T210000
DTSTAMP:20260425T080056
CREATED:20260301T001815Z
LAST-MODIFIED:20260301T002300Z
UID:165296-1774292400-1774299600@www.eshelonline.org
SUMMARY:NYC Crafting Freedom: DIY Haggadah Workshop feat. Rabbi Jamie Kuperman-Schwartz
DESCRIPTION:Get ready with Eshel for z’man cheiruteinu (the time of our freedom) with a homemade Haggadah crafting night! We will enjoy pizza and hear words of torah from Rabbi Jamie Kuperman-Schwartz\, then clear away all of our chametz to decorate our own Haggadahs\, which we can use at our Seders this Pesach! This event is 21+ and free to attend. \nAbout the Teacher \nRabbi Jamie Kuperman-Schwartz was ordained by Maharat in 2025.  She teaches seventh grade at Greenburgh Hebrew Center\, and hosts Talmud classes for adults in her community. Rabbi Kuperman-Schwartz has shared Torah in a variety of settings\, including Base Harlem\, The Philly Women’s Beit Midrash\, and the Eshel National Shabbaton. She lives in Washington Heights with her wife\, Esther\, loves murder mysteries\, and makes a mean potato kugel. \nWhen: Monday\, March 23\, 7:00-9:00pWhere: Marlene Meyerson JCC Manhattan \n 
URL:https://www.eshelonline.org/event/nyc-crafting-freedom-diy-haggadah-workshop-feat-rabbi-jamie-kuperman-schwartz/
END:VEVENT
BEGIN:VEVENT
DTSTART;TZID=America/New_York:20260323T210000
DTEND;TZID=America/New_York:20260323T220000
DTSTAMP:20260425T080057
CREATED:20200212T210217Z
LAST-MODIFIED:20241212T230224Z
UID:156330-1774299600-1774303200@www.eshelonline.org
SUMMARY:Parents of Trans & Gender Nonconforming Children Support Group
DESCRIPTION:What: This group is for traditional Jewish parents who may be struggling with their child’s gender identity and/or wish to connect with other parents like themselves.\n\n\n\nWhen: Fourth Monday of each month\, 9:00 PM EST – 8:00 PM CST – 6:00 PM PST \nWhere: For notifications and sign-in information\, please register below. (You only need to register for this group one time.) \nQuestions? Email info@eshelonline.org \n\n\n			\n				\n				\n				\n				\n				\n\n			\n			\n				\n				\n				\n				\n			\n				\n				\n				\n				\n				\n				\n			\n				\n				\n				\n				\n				\n				Subscribe to a Newsletter
URL:https://www.eshelonline.org/event/parents-of-transgender-and-gender-non-conforming-children-3/2026-03-23/
CATEGORIES:Events
ATTACH;FMTTYPE=image/jpeg:https://www.eshelonline.org/wp-content/uploads/2020/02/Eshel-Support-groups-and-meetups-16.jpg
END:VEVENT
BEGIN:VEVENT
DTSTART;TZID=America/New_York:20260324T203000
DTEND;TZID=America/New_York:20260324T214500
DTSTAMP:20260425T080057
CREATED:20200218T173239Z
LAST-MODIFIED:20251223T192545Z
UID:163453-1774384200-1774388700@www.eshelonline.org
SUMMARY:Women's LBTQ+ Support Group
DESCRIPTION:Women’s New York Area Meetup on Zoom \nWhat: Meet other individuals who identify as female and who are exploring their Orthodox LGBTQ+ identities. \nWhen: Meeting Weekly: Every Tuesday from 8:30 pm – 9:45 pm \nWhere: For notifications and sign-in information\, register below. (You only need to register for this group one time.)
URL:https://www.eshelonline.org/event/womens-lgbtq-support-group-2025-09-11/2026-03-24/
CATEGORIES:Events
ATTACH;FMTTYPE=image/jpeg:https://www.eshelonline.org/wp-content/uploads/2020/02/Eshel-Support-groups-and-meetups-14.jpg
END:VEVENT
BEGIN:VEVENT
DTSTART;TZID=America/New_York:20260327T184500
DTEND;TZID=America/New_York:20260327T184500
DTSTAMP:20260425T080057
CREATED:20260319T015815Z
LAST-MODIFIED:20260319T020311Z
UID:165433-1774637100-1774637100@www.eshelonline.org
SUMMARY:Cambridge | LGBTQ+ Community Dinner
DESCRIPTION:Register
URL:https://www.eshelonline.org/event/cambridge-lgbtq-community-dinner/
ATTACH;FMTTYPE=image/jpeg:https://www.eshelonline.org/wp-content/uploads/2026/03/Cambridge-LGBTQ-Community-Dinner.jpg
END:VEVENT
END:VCALENDAR