BEGIN:VCALENDAR
VERSION:2.0
PRODID:-//Eshel Online - ECPv6.0.0.1//NONSGML v1.0//EN
CALSCALE:GREGORIAN
METHOD:PUBLISH
X-ORIGINAL-URL:https://www.eshelonline.org
X-WR-CALDESC:Events for Eshel Online
REFRESH-INTERVAL;VALUE=DURATION:PT1H
X-Robots-Tag:noindex
X-PUBLISHED-TTL:PT1H
BEGIN:VTIMEZONE
TZID:America/New_York
BEGIN:DAYLIGHT
TZOFFSETFROM:-0500
TZOFFSETTO:-0400
TZNAME:EDT
DTSTART:20260308T070000
END:DAYLIGHT
BEGIN:STANDARD
TZOFFSETFROM:-0400
TZOFFSETTO:-0500
TZNAME:EST
DTSTART:20261101T060000
END:STANDARD
END:VTIMEZONE
BEGIN:VEVENT
DTSTART;TZID=America/New_York:20260302T183000
DTEND;TZID=America/New_York:20260302T223000
DTSTAMP:20260421T125812
CREATED:20260203T150737Z
LAST-MODIFIED:20260210T173544Z
UID:165143-1772476200-1772490600@www.eshelonline.org
SUMMARY:LGBTQ+ Community Purim Chagiga
DESCRIPTION:Come be marbin b’simcha on Monday\, March 2nd with Eshel and our partners for the annual LGBTQ+ Purim Chagiga! This year\, we come together again to hear the classic tale of Esther’s ascendance and the heated rivalry between Haman and Mordechai. Arrive dressed to the nines for Megillah (traditional Orthodox and egalitarian readings)\, followed by break-fast\, mishteh (drinks) and simcha dancing\, with music from DJ Shua—back by popular demand!  \nJoin just for Megillah reading (free for all ages!) or stay for the party. Party is 21+. \nFeaturing:🔊 DJ Shua spinning beats🍸 Open bar🍡 Delicious bites \nGeneral Admission – $36 ($40 at the door)🐦 Early Bird (ends Feb. 11) – $25 🐦Student Ticket – $18 \nRegistration required for both megillah reading and party. \nThanks to our community partners: UJA-Federation\, Sephardic Mizrahi Q Network\, Shalom Dykes\,  and the Marlene Meyerson JCC Manhattan. \n📅 Date: Monday\, March 2⏰ Time: 6:30 pm Maariv📜 7:00 pm Megillah Readings (egalitarian and Orthodox)\, followed by light break-fast🎉 8:00 – 10:30 pm Party and dinner \nA limited number of comped tickets will be offered to volunteers. To learn more about volunteer opportunities and expectations\, please contact info@eshelonline.org. \nPLEASE NOTE: For internal tracking and discretion purposes\, we require separate registrations for each guest. Thank you for your understanding.
URL:https://www.eshelonline.org/event/lgbtq-community-purim-chagiga/
CATEGORIES:Events
END:VEVENT
BEGIN:VEVENT
DTSTART;TZID=America/New_York:20260304T120000
DTEND;TZID=America/New_York:20260304T130000
DTSTAMP:20260421T125812
CREATED:20200518T143444Z
LAST-MODIFIED:20251210T192639Z
UID:155483-1772625600-1772629200@www.eshelonline.org
SUMMARY:Parents Drop-In Support Group
DESCRIPTION:Drop-in every Wednesday to shmooze\, chat\, ask questions\, and hear topics of interest! \nFor notifications and sign-in information\, please fill out the form below. (You only need to register for this group one time.)\n			\n				\n				\n				\n				\n				\n\n			\n			\n				\n				\n				\n				\n			\n				\n				\n				\n				\n				\n				\n			\n				\n				\n				\n				\n				\n				Subscribe to a Newsletter
URL:https://www.eshelonline.org/event/parents-drop-in/2026-03-04/
CATEGORIES:Events
ATTACH;FMTTYPE=image/jpeg:https://www.eshelonline.org/wp-content/uploads/2023/09/Parents-Drop-In-1.jpg
END:VEVENT
BEGIN:VEVENT
DTSTART;TZID=America/New_York:20260304T190000
DTEND;TZID=America/New_York:20260304T210000
DTSTAMP:20260421T125812
CREATED:20190418T151035Z
LAST-MODIFIED:20250825T222006Z
UID:155478-1772650800-1772658000@www.eshelonline.org
SUMMARY:Eshel Baltimore/DC Parents & LGBTQ+ Joint Meetup
DESCRIPTION:Get together with our Baltimore/DC Eshel family. Join us in this intimate\, confidential setting to meet others\, like yourself\, in the extended Eshel network. \nWHAT: A private gathering for LGBTQ+ individuals who are Orthodox\, Ortho-curious or formerly Orthodox and for traditional Jewish parents of LGBTQ+ people who may be struggling with their child’s sexual orientation or gender identity and/or wish to connect with other parents like themselves. \nWHEN: Meetings are usually held on the first Wednesday of every month\, 7:00-9:00 pm. \nWhere: For notifications and sign-in information\, please register below\, if you haven’t already. (You only need to register for this group one time.) \n			\n				\n				\n				\n				\n				\n\n			\n			\n				\n				\n				\n				\n			\n				\n				\n				\n				\n				\n				\n			\n				\n				\n				\n				\n				\n				Subscribe to a Newsletter
URL:https://www.eshelonline.org/event/baltimore-d-c-meet-up-2021-12-01/2026-03-04/
CATEGORIES:Events
ATTACH;FMTTYPE=image/jpeg:https://www.eshelonline.org/wp-content/uploads/2017/01/orthodox-lgbtq-support-group-meetup.jpg
END:VEVENT
BEGIN:VEVENT
DTSTART;TZID=America/New_York:20260305T120000
DTEND;TZID=America/New_York:20260305T130000
DTSTAMP:20260421T125812
CREATED:20220412T230234Z
LAST-MODIFIED:20260209T151402Z
UID:159228-1772712000-1772715600@www.eshelonline.org
SUMMARY:Israel Parent Meetup
DESCRIPTION:Join Eshel’s local chapter in Israel for parents of LGBTQ+ children. \nThis group will provide support and build community in an intimate\, confidential setting in English. This group meets in person most months\, with a Zoom meeting once per quarter. \nRegister below for monthly reminders\, links\, and location details. \n			\n			\n				\n				\n				\n				\n			\n				\n				\n				\n				\n				\n				\n				\n				\n				\n				\n				\n\n			\n				Sign up for our other newsletters
URL:https://www.eshelonline.org/event/israel-meetup-2022-05-24-2022-11-22-2022-12-19-2022-12-26-2023-09-25-2023-10-18-2024-01-17-2024-05-15-2024-06-19-2024-08-21-2024-09-18-2025-04-17-2025-08-21-2026-04-16/
END:VEVENT
BEGIN:VEVENT
DTSTART;TZID=America/New_York:20260307T200000
DTEND;TZID=America/New_York:20260307T213000
DTSTAMP:20260421T125812
CREATED:20200219T143836Z
LAST-MODIFIED:20260225T163714Z
UID:155837-1772913600-1772919000@www.eshelonline.org
SUMMARY:South Florida | Post-Purim Meetup
DESCRIPTION:Connect with other LGBTQ+ Jews and family members at Eshel’s South Florida Post-Purim Meetup. Join us for a relaxed evening together at a local restaurant.  \nDate: Saturday\, March 7thTime: 8:00 pmLocation: Grand Cafe\, 2905 Stirling Rd\, Hollywood\, FL \n\n\n\n \n\n			\n				\n				\n				\n				\n				\n\n			\n			\n				\n				\n				\n				\n			\n				\n				\n				\n				\n				\n				\n			\n				\n				\n				\n				\n				\n				Subscribe to a Newsletter
URL:https://www.eshelonline.org/event/south-florida-meetup-2026-03-16/
CATEGORIES:Events
ATTACH;FMTTYPE=image/jpeg:https://www.eshelonline.org/wp-content/uploads/2020/02/Florida-Post-Purim-Meetup-3.jpg
END:VEVENT
END:VCALENDAR