BEGIN:VCALENDAR
VERSION:2.0
PRODID:-//Eshel Online - ECPv6.0.0.1//NONSGML v1.0//EN
CALSCALE:GREGORIAN
METHOD:PUBLISH
X-WR-CALNAME:Eshel Online
X-ORIGINAL-URL:https://www.eshelonline.org
X-WR-CALDESC:Events for Eshel Online
REFRESH-INTERVAL;VALUE=DURATION:PT1H
X-Robots-Tag:noindex
X-PUBLISHED-TTL:PT1H
BEGIN:VTIMEZONE
TZID:America/New_York
BEGIN:DAYLIGHT
TZOFFSETFROM:-0500
TZOFFSETTO:-0400
TZNAME:EDT
DTSTART:20250309T070000
END:DAYLIGHT
BEGIN:STANDARD
TZOFFSETFROM:-0400
TZOFFSETTO:-0500
TZNAME:EST
DTSTART:20251102T060000
END:STANDARD
END:VTIMEZONE
BEGIN:VEVENT
DTSTART;TZID=America/New_York:20250720T100000
DTEND;TZID=America/New_York:20250720T110000
DTSTAMP:20260423T173538
CREATED:20250702T025657Z
LAST-MODIFIED:20250715T173104Z
UID:162993-1753005600-1753009200@www.eshelonline.org
SUMMARY:Parent Retreat Brunch Reunion
DESCRIPTION:This is a Zoom reunion for anyone who attended the 2025 Eshel Parents Retreat. To enjoy a festive brunch together\, we’re digitally sending a $5 Starbucks gift card for anyone who signs up by July 18. This will be a space where we can all connect with a cup of tea or coffee while we discuss topics of interest or just catch up. \nWhen: July 20 10-11AM EST\nWhere: On Zoom
URL:https://www.eshelonline.org/event/brunch-reunion-for-parent-retreat/
ATTACH;FMTTYPE=image/png:https://www.eshelonline.org/wp-content/uploads/2025/07/Copy-of-eshel-bbq-brooklyn-cki-2.png
END:VEVENT
BEGIN:VEVENT
DTSTART;TZID=America/New_York:20250721T200000
DTEND;TZID=America/New_York:20250721T213000
DTSTAMP:20260423T173538
CREATED:20200219T143836Z
LAST-MODIFIED:20251111T001743Z
UID:152198-1753128000-1753133400@www.eshelonline.org
SUMMARY:South Florida LGBTQ+ & Parents Meetup
DESCRIPTION:What: Meet other LGBTQ+ individuals in the area of Miami\, Florida! Family members and relatives of LGBTQ+ folks are also welcome to join! Our coordinators speak Spanish and French. \nWhen: The third Monday of each month from 8:00 pm – 9:00 pm. \nWhere: For notifications and sign-in information\, please register below. (You only need to register for this group one time.) \nFor more information or questions\, please contact us at southflorida@eshelonline.org. \n			\n				\n				\n				\n				\n				\n\n			\n			\n				\n				\n				\n				\n			\n				\n				\n				\n				\n				\n				\n			\n				\n				\n				\n				\n				\n				Subscribe to a Newsletter
URL:https://www.eshelonline.org/event/south-florida-meetup/2025-07-21/
CATEGORIES:Events
ATTACH;FMTTYPE=image/jpeg:https://www.eshelonline.org/wp-content/uploads/2020/02/Eshel-Support-groups-and-meetups-12.jpg
END:VEVENT
BEGIN:VEVENT
DTSTART;TZID=America/New_York:20250723T120000
DTEND;TZID=America/New_York:20250723T130000
DTSTAMP:20260423T173538
CREATED:20200518T143444Z
LAST-MODIFIED:20251210T192614Z
UID:152204-1753272000-1753275600@www.eshelonline.org
SUMMARY:Parents Drop-In Support Group
DESCRIPTION:Drop-in every Wednesday to shmooze\, chat\, ask questions\, and hear topics of interest! \nFor notifications and sign-in information\, please fill out the form below. (You only need to register for this group one time.)\n			\n				\n				\n				\n				\n				\n\n			\n			\n				\n				\n				\n				\n			\n				\n				\n				\n				\n				\n				\n			\n				\n				\n				\n				\n				\n				Subscribe to a Newsletter
URL:https://www.eshelonline.org/event/parents-drop-in/2025-07-23/
CATEGORIES:Events
ATTACH;FMTTYPE=image/jpeg:https://www.eshelonline.org/wp-content/uploads/2023/09/Parents-Drop-In-1.jpg
END:VEVENT
BEGIN:VEVENT
DTSTART;TZID=America/New_York:20250724T120000
DTEND;TZID=America/New_York:20250724T120000
DTSTAMP:20260423T173538
CREATED:20250703T212929Z
LAST-MODIFIED:20250703T213946Z
UID:163005-1753358400-1753358400@www.eshelonline.org
SUMMARY:Eshel Israel Meetup
DESCRIPTION:On Thursday\, July 24 at 7:00PM\, we will have our final meeting of the year in Ramat Beit Shemesh. Our guest will be Dr. Debbie Rubel\, a child psychologist for Beit Shemesh City. She also coordinates the suicide task force for the Beit Shemesh schools and will discuss this serious topic with us.\nLocation: Ramat Beit Shemesh\nA lovely dinner will be served
URL:https://www.eshelonline.org/event/eshel-israel-meetup-07-24-25/
ATTACH;FMTTYPE=image/png:https://www.eshelonline.org/wp-content/uploads/2025/07/Eshel-Support-groups-and-meetups-8.png
END:VEVENT
BEGIN:VEVENT
DTSTART;TZID=America/New_York:20250724T203000
DTEND;TZID=America/New_York:20250724T214500
DTSTAMP:20260423T173538
CREATED:20200218T173239Z
LAST-MODIFIED:20250519T173340Z
UID:159476-1753389000-1753393500@www.eshelonline.org
SUMMARY:Women's LBTQ+ Support Group
DESCRIPTION:Women’s New York Area Meetup on Zoom \nWhat: Meet other individuals who identify as female and who are exploring their Orthodox LGBTQ+ identities. \nWhen: Meeting Weekly: Every THURSDAY (Previously Tuesday) from 8:30 pm – 9:45 pm \nWhere: For notifications and sign-in information\, register below. (You only need to register for this group one time.)
URL:https://www.eshelonline.org/event/womens-lgbtq-support-group/2025-07-24/
CATEGORIES:Events
ATTACH;FMTTYPE=image/jpeg:https://www.eshelonline.org/wp-content/uploads/2020/02/Eshel-Support-groups-and-meetups-14.jpg
END:VEVENT
END:VCALENDAR