BEGIN:VCALENDAR
VERSION:2.0
PRODID:-//Eshel Online - ECPv6.0.0.1//NONSGML v1.0//EN
CALSCALE:GREGORIAN
METHOD:PUBLISH
X-ORIGINAL-URL:https://www.eshelonline.org
X-WR-CALDESC:Events for Eshel Online
REFRESH-INTERVAL;VALUE=DURATION:PT1H
X-Robots-Tag:noindex
X-PUBLISHED-TTL:PT1H
BEGIN:VTIMEZONE
TZID:America/New_York
BEGIN:DAYLIGHT
TZOFFSETFROM:-0500
TZOFFSETTO:-0400
TZNAME:EDT
DTSTART:20250309T070000
END:DAYLIGHT
BEGIN:STANDARD
TZOFFSETFROM:-0400
TZOFFSETTO:-0500
TZNAME:EST
DTSTART:20251102T060000
END:STANDARD
END:VTIMEZONE
BEGIN:VEVENT
DTSTART;TZID=America/New_York:20250106T193000
DTEND;TZID=America/New_York:20250106T210000
DTSTAMP:20260421T155739
CREATED:20241219T195928Z
LAST-MODIFIED:20241226T200034Z
UID:160773-1736191800-1736197200@www.eshelonline.org
SUMMARY:NYC | Tracing Your Roots: A Jewish Genealogy Workshop
DESCRIPTION:Join Eshel on Monday\, January 6th\, from 7:30–9:30 PM for our monthly meetup! Rabbi Scott Kalmikoff will lead an engaging Jewish Genealogy Workshop\, where you’ll learn how to do personal genealogical research and uncover meaningful connections to your family history. Enjoy an evening of learning\, great company\, and delicious nosh. We can’t wait to see you there!
URL:https://www.eshelonline.org/event/nyc-tracing-your-roots-a-jewish-genealogy-workshop/
END:VEVENT
BEGIN:VEVENT
DTSTART;TZID=America/New_York:20250106T200000
DTEND;TZID=America/New_York:20250106T210000
DTSTAMP:20260421T155739
CREATED:20230912T015346Z
LAST-MODIFIED:20240819T152112Z
UID:152948-1736193600-1736197200@www.eshelonline.org
SUMMARY:Parents Drop-In Support Group
DESCRIPTION:Join our drop-in support group for parents! We meet every Wednesday at noon ET and the first Monday every month at 8pm ET. \nFor notifications and sign-in information\, please fill out the form below. (You only need to register for this group one time.) \n			\n				\n				\n				\n				\n				\n\n			\n			\n				\n				\n				\n				\n			\n				\n				\n				\n				\n				\n				\n				Sign up to Join\n			\n			\n				\n				\n				\n				\n				\n				Subscribe to a Newsletter
URL:https://www.eshelonline.org/event/drop-in-parents-support-group/2025-01-06/
ATTACH;FMTTYPE=image/jpeg:https://www.eshelonline.org/wp-content/uploads/2023/09/Parents-Drop-In-1.jpg
END:VEVENT
BEGIN:VEVENT
DTSTART;TZID=America/New_York:20250108T120000
DTEND;TZID=America/New_York:20250108T130000
DTSTAMP:20260421T155739
CREATED:20200518T143444Z
LAST-MODIFIED:20251210T192552Z
UID:150455-1736337600-1736341200@www.eshelonline.org
SUMMARY:Parents Drop-In Support Group
DESCRIPTION:Drop-in every Wednesday to shmooze\, chat\, ask questions\, and hear topics of interest! \nFor notifications and sign-in information\, please fill out the form below. (You only need to register for this group one time.)\n			\n				\n				\n				\n				\n				\n\n			\n			\n				\n				\n				\n				\n			\n				\n				\n				\n				\n				\n				\n			\n				\n				\n				\n				\n				\n				Subscribe to a Newsletter
URL:https://www.eshelonline.org/event/parents-drop-in/2025-01-08/
CATEGORIES:Events
ATTACH;FMTTYPE=image/jpeg:https://www.eshelonline.org/wp-content/uploads/2023/09/Parents-Drop-In-1.jpg
END:VEVENT
BEGIN:VEVENT
DTSTART;TZID=America/New_York:20250108T190000
DTEND;TZID=America/New_York:20250108T210000
DTSTAMP:20260421T155739
CREATED:20190418T151035Z
LAST-MODIFIED:20241210T145509Z
UID:150428-1736362800-1736370000@www.eshelonline.org
SUMMARY:Eshel Baltimore/DC Parents & LGBTQ+ Joint Meetup
DESCRIPTION:Get together with our Baltimore/DC Eshel family. Join us in this intimate\, confidential setting to meet others\, like yourself\, in the extended Eshel network. \nWHAT: A private gathering for LGBTQ+ individuals who are Orthodox\, Ortho-curious or formerly Orthodox and for traditional Jewish parents of LGBTQ+ people who may be struggling with their child’s sexual orientation or gender identity and/or wish to connect with other parents like themselves. \nWHEN: Meetings are usually held on the first Wednesday of every month\, 7:00-9:00 pm. \nWhere: For notifications and sign-in information\, please register below\, if you haven’t already. (You only need to register for this group one time.) \n			\n				\n				\n				\n				\n				\n\n			\n			\n				\n				\n				\n				\n			\n				\n				\n				\n				\n				\n				\n			\n				\n				\n				\n				\n				\n				Subscribe to a Newsletter
URL:https://www.eshelonline.org/event/baltimore-d-c-meet-up-2021-12-01-2025-01-01/
CATEGORIES:Events
ATTACH;FMTTYPE=image/jpeg:https://www.eshelonline.org/wp-content/uploads/2017/01/orthodox-lgbtq-support-group-meetup.jpg
END:VEVENT
BEGIN:VEVENT
DTSTART;TZID=America/New_York:20250109T203000
DTEND;TZID=America/New_York:20250109T214500
DTSTAMP:20260421T155739
CREATED:20200218T173239Z
LAST-MODIFIED:20250519T173311Z
UID:159448-1736454600-1736459100@www.eshelonline.org
SUMMARY:Women's LBTQ+ Support Group
DESCRIPTION:Women’s New York Area Meetup on Zoom \nWhat: Meet other individuals who identify as female and who are exploring their Orthodox LGBTQ+ identities. \nWhen: Meeting Weekly: Every THURSDAY (Previously Tuesday) from 8:30 pm – 9:45 pm \nWhere: For notifications and sign-in information\, register below. (You only need to register for this group one time.)
URL:https://www.eshelonline.org/event/womens-lgbtq-support-group/2025-01-09/
CATEGORIES:Events
ATTACH;FMTTYPE=image/jpeg:https://www.eshelonline.org/wp-content/uploads/2020/02/Eshel-Support-groups-and-meetups-14.jpg
END:VEVENT
END:VCALENDAR