BEGIN:VCALENDAR
VERSION:2.0
PRODID:-//Eshel Online - ECPv6.0.0.1//NONSGML v1.0//EN
CALSCALE:GREGORIAN
METHOD:PUBLISH
X-ORIGINAL-URL:https://www.eshelonline.org
X-WR-CALDESC:Events for Eshel Online
REFRESH-INTERVAL;VALUE=DURATION:PT1H
X-Robots-Tag:noindex
X-PUBLISHED-TTL:PT1H
BEGIN:VTIMEZONE
TZID:America/New_York
BEGIN:DAYLIGHT
TZOFFSETFROM:-0500
TZOFFSETTO:-0400
TZNAME:EDT
DTSTART:20240310T070000
END:DAYLIGHT
BEGIN:STANDARD
TZOFFSETFROM:-0400
TZOFFSETTO:-0500
TZNAME:EST
DTSTART:20241103T060000
END:STANDARD
END:VTIMEZONE
BEGIN:VEVENT
DTSTART;TZID=America/New_York:20240526T120000
DTEND;TZID=America/New_York:20240526T143000
DTSTAMP:20260420T063453
CREATED:20240509T023715Z
LAST-MODIFIED:20240514T091400Z
UID:157173-1716724800-1716733800@www.eshelonline.org
SUMMARY:Baltimore Lag Baomer Picnic
DESCRIPTION:We’re excited to see you for our Lag Baomer BBQ Picnic! Join us on Sunday\, May 26 from 12:00 – 2:30 pm. \nWe’ll have activities for the whole family! Join us for games\, Torah\, and plenty of food! We will have a covered pavilion\, so the picnic is on rain or shine.
URL:https://www.eshelonline.org/event/baltimore-lag-baomer-picnic/
END:VEVENT
BEGIN:VEVENT
DTSTART;TZID=America/New_York:20240526T150000
DTEND;TZID=America/New_York:20240526T180000
DTSTAMP:20260420T063453
CREATED:20240513T072157Z
LAST-MODIFIED:20240626T165613Z
UID:157257-1716735600-1716746400@www.eshelonline.org
SUMMARY:NYC Lag BaOmer BBQ
DESCRIPTION:Join us to kickoff Pride month and celebrate Lag B’Omer as we come together as a community to honor our shared identities as Jews and members of the LGBTQ+ community. This kosher event\, hosted by Eshel\, aims to create a welcoming and safe space for individuals to celebrate their intersecting identities and embrace the diversity within our community. \nThis event is hosted in the backyard of a Brooklyn apartment – address sent to attendees! \nRegistration is closed for this event.
URL:https://www.eshelonline.org/event/nyc-lag-baomer-bbq/
END:VEVENT
BEGIN:VEVENT
DTSTART;TZID=America/New_York:20240527T133000
DTEND;TZID=America/New_York:20240527T150000
DTSTAMP:20260420T063453
CREATED:20220412T230234Z
LAST-MODIFIED:20251111T225457Z
UID:163044-1716816600-1716822000@www.eshelonline.org
SUMMARY:Israel Parent Meetup
DESCRIPTION:Join Eshel’s local chapter in Israel for parents of LGBTQ+ children. \nThis group will provide support and build community in an intimate\, confidential setting in English. This group meets in person most months\, with a Zoom meeting once per quarter. \nRegister below for monthly reminders\, links\, and location details.
URL:https://www.eshelonline.org/event/israel-meetup-2022-05-24-2022-11-22-2022-12-19-2022-12-26/2024-05-27/
END:VEVENT
BEGIN:VEVENT
DTSTART;TZID=America/New_York:20240527T210000
DTEND;TZID=America/New_York:20240527T220000
DTSTAMP:20260420T063453
CREATED:20200212T210217Z
LAST-MODIFIED:20241212T230203Z
UID:147644-1716843600-1716847200@www.eshelonline.org
SUMMARY:Parents of Trans & Gender Nonconforming Children Support Group
DESCRIPTION:What: This group is for traditional Jewish parents who may be struggling with their child’s gender identity and/or wish to connect with other parents like themselves.\n\n\n\nWhen: Fourth Monday of each month\, 9:00 PM EST – 8:00 PM CST – 6:00 PM PST \nWhere: For notifications and sign-in information\, please register below. (You only need to register for this group one time.) \nQuestions? Email info@eshelonline.org \n\n\n			\n				\n				\n				\n				\n				\n\n			\n			\n				\n				\n				\n				\n			\n				\n				\n				\n				\n				\n				\n			\n				\n				\n				\n				\n				\n				Subscribe to a Newsletter
URL:https://www.eshelonline.org/event/parents-of-transgender-and-gender-non-conforming-children-3/2024-05-27/
CATEGORIES:Events
ATTACH;FMTTYPE=image/jpeg:https://www.eshelonline.org/wp-content/uploads/2020/02/Eshel-Support-groups-and-meetups-16.jpg
END:VEVENT
BEGIN:VEVENT
DTSTART;TZID=America/New_York:20240528T203000
DTEND;TZID=America/New_York:20240528T214500
DTSTAMP:20260420T063453
CREATED:20200218T173239Z
LAST-MODIFIED:20240809T160817Z
UID:148213-1716928200-1716932700@www.eshelonline.org
SUMMARY:Eshel Brooklyn Women's LBTQ+ Meetup
DESCRIPTION:Women’s New York Area Meetup on Zoom \nWhat: Meet other individuals who identify as female and who are exploring their Orthodox LGBTQ+ identities. \nWhen: Meeting Weekly: Every Tuesday from 8:30 pm – 9:45 pm \nWhere: For notifications and sign-in information\, register below. (You only need to register for this group one time.)
URL:https://www.eshelonline.org/event/womens-new-york-area-meetup-2020-04-22-2022-03-22-2023-11-21/2024-05-28/
CATEGORIES:Events
ATTACH;FMTTYPE=image/jpeg:https://www.eshelonline.org/wp-content/uploads/2020/02/Eshel-Support-groups-and-meetups-14.jpg
END:VEVENT
BEGIN:VEVENT
DTSTART;TZID=America/New_York:20240529T120000
DTEND;TZID=America/New_York:20240529T130000
DTSTAMP:20260420T063453
CREATED:20200518T143444Z
LAST-MODIFIED:20251210T192535Z
UID:148066-1716984000-1716987600@www.eshelonline.org
SUMMARY:Parents Drop-In Support Group
DESCRIPTION:Drop-in every Wednesday to shmooze\, chat\, ask questions\, and hear topics of interest! \nFor notifications and sign-in information\, please fill out the form below. (You only need to register for this group one time.)\n			\n				\n				\n				\n				\n				\n\n			\n			\n				\n				\n				\n				\n			\n				\n				\n				\n				\n				\n				\n			\n				\n				\n				\n				\n				\n				Subscribe to a Newsletter
URL:https://www.eshelonline.org/event/parents-drop-in/2024-05-29/
CATEGORIES:Events
ATTACH;FMTTYPE=image/jpeg:https://www.eshelonline.org/wp-content/uploads/2023/09/Parents-Drop-In-1.jpg
END:VEVENT
END:VCALENDAR