BEGIN:VCALENDAR
VERSION:2.0
PRODID:-//Eshel Online - ECPv6.0.0.1//NONSGML v1.0//EN
CALSCALE:GREGORIAN
METHOD:PUBLISH
X-ORIGINAL-URL:https://www.eshelonline.org
X-WR-CALDESC:Events for Eshel Online
REFRESH-INTERVAL;VALUE=DURATION:PT1H
X-Robots-Tag:noindex
X-PUBLISHED-TTL:PT1H
BEGIN:VTIMEZONE
TZID:America/New_York
BEGIN:DAYLIGHT
TZOFFSETFROM:-0500
TZOFFSETTO:-0400
TZNAME:EDT
DTSTART:20230312T070000
END:DAYLIGHT
BEGIN:STANDARD
TZOFFSETFROM:-0400
TZOFFSETTO:-0500
TZNAME:EST
DTSTART:20231105T060000
END:STANDARD
END:VTIMEZONE
BEGIN:VEVENT
DTSTART;TZID=America/New_York:20231119T190000
DTEND;TZID=America/New_York:20231119T213000
DTSTAMP:20260423T003236
CREATED:20231102T164455Z
LAST-MODIFIED:20231120T001454Z
UID:153787-1700420400-1700429400@www.eshelonline.org
SUMMARY:The Holy Closet - LA film screening & panel discussion
DESCRIPTION:What does the wedding ceremony of two religious Jewish gay men look like? Or a family of two mothers and four children? Or the pregnancy of a religious trans man? “The Holy Closet” delves into these questions and offers a heartfelt portrayal of LGBTQ+ individuals who choose to remain dedicated to their religious observance while navigating the complexities of their identities. \nFollowing the screening\, join us for a thought-provoking panel discussion featuring leaders and members of the LGBTQ+ and Jewish community. This will be a unique opportunity to engage in meaningful conversations and gain insights into the way LGBTQ+ Jews are changing Orthodoxy here in the US. \nEvent starts at 7 with the film at 7:30\, followed by the panel discussion. \n			\n				\n				\n				\n				\n				For last minute reservations\, please email sgoldman@tbala.org.
URL:https://www.eshelonline.org/event/the-holy-closet-la/
ATTACH;FMTTYPE=image/png:https://www.eshelonline.org/wp-content/uploads/2023/11/holy-closet-LA-horizontal-6.png
END:VEVENT
BEGIN:VEVENT
DTSTART;TZID=America/New_York:20231121T203000
DTEND;TZID=America/New_York:20231121T214500
DTSTAMP:20260423T003236
CREATED:20200218T173239Z
LAST-MODIFIED:20240809T160752Z
UID:146154-1700598600-1700603100@www.eshelonline.org
SUMMARY:Eshel Brooklyn Women's LBTQ+ Meetup
DESCRIPTION:Women’s New York Area Meetup on Zoom \nWhat: Meet other individuals who identify as female and who are exploring their Orthodox LGBTQ+ identities. \nWhen: Meeting Weekly: Every Tuesday from 8:30 pm – 9:45 pm \nWhere: For notifications and sign-in information\, register below. (You only need to register for this group one time.)
URL:https://www.eshelonline.org/event/womens-new-york-area-meetup-2020-04-22-2022-03-22-2023-11-21/2023-11-21/
CATEGORIES:Events
ATTACH;FMTTYPE=image/jpeg:https://www.eshelonline.org/wp-content/uploads/2020/02/Eshel-Support-groups-and-meetups-14.jpg
END:VEVENT
END:VCALENDAR