BEGIN:VCALENDAR
VERSION:2.0
PRODID:-//Eshel Online - ECPv6.0.0.1//NONSGML v1.0//EN
CALSCALE:GREGORIAN
METHOD:PUBLISH
X-ORIGINAL-URL:https://www.eshelonline.org
X-WR-CALDESC:Events for Eshel Online
REFRESH-INTERVAL;VALUE=DURATION:PT1H
X-Robots-Tag:noindex
X-PUBLISHED-TTL:PT1H
BEGIN:VTIMEZONE
TZID:America/New_York
BEGIN:DAYLIGHT
TZOFFSETFROM:-0500
TZOFFSETTO:-0400
TZNAME:EDT
DTSTART:20230312T070000
END:DAYLIGHT
BEGIN:STANDARD
TZOFFSETFROM:-0400
TZOFFSETTO:-0500
TZNAME:EST
DTSTART:20231105T060000
END:STANDARD
END:VTIMEZONE
BEGIN:VEVENT
DTSTART;TZID=America/New_York:20231115T123000
DTEND;TZID=America/New_York:20231115T140000
DTSTAMP:20260422T174520
CREATED:20220412T230234Z
LAST-MODIFIED:20231110T135719Z
UID:152283-1700051400-1700056800@www.eshelonline.org
SUMMARY:Israel Parent Meetup
DESCRIPTION:Wednesday\, November 15\n7:30 pm Israel Time\nJoin Eshel’s local chapter in Israel for parents of LGBTQ+ children. \nThis group will provide support and build community in an intimate\, confidential setting in English. This group meets in person most months\, with a Zoom meeting once per quarter. \nRegister below for monthly reminders\, links\, and location details. \n			\n			\n				\n				\n				\n				\n			\n				\n				\n				\n				\n				\n				\n				\n				\n				\n				\n				\n\n			\n				Sign up for our other newsletters
URL:https://www.eshelonline.org/event/israel-meetup-2022-05-24-2022-11-22-2022-12-19-2022-12-26-2023-09-25-2023-10-18-2023-11-15/
END:VEVENT
BEGIN:VEVENT
DTSTART;TZID=America/New_York:20231116T200000
DTEND;TZID=America/New_York:20231116T200000
DTSTAMP:20260422T174520
CREATED:20231107T181456Z
LAST-MODIFIED:20231108T171647Z
UID:153843-1700164800-1700164800@www.eshelonline.org
SUMMARY:Navigating Challenging Times for Queer Jewish Students on College Campuses
DESCRIPTION:Jewish students at universities across the US are experiencing the worst outbreak of antisemitism and anti-Zionism in recent memory. Hate speech and threats of violence are sharply on the rise on many campuses. This is even more pronounced in liberal spaces\, where some LGBTQ activists have stoked the flames of anti-Zionism. As queer Jews\, we feel particularly heartbroken by the loss of these spaces which once felt welcoming.\n \nWhile many Jews who desire a just solution to the Israeli-Palestinian conflict have felt abandoned by friends who have engaged in justification of Hamas\, the need for a space for religious LGBTQ+ Jewish students that welcomes and affirms all aspects of their identity is especially strong at this moment.\n \nWe are gathering to sustain and support each other\, to learn what we can from each other\, to build friendships and alliances from campus to campus\, and to affirm our deep love of Israel alongside our commitment to the image of G-d in every human being.
URL:https://www.eshelonline.org/event/navigating-challenging-times-for-queer-jewish-students-on-college-campuses/
ATTACH;FMTTYPE=image/jpeg:https://www.eshelonline.org/wp-content/uploads/2023/11/Challenging-Times-with-Hillel-Logo.jpg
END:VEVENT
END:VCALENDAR