BEGIN:VCALENDAR
VERSION:2.0
PRODID:-//Eshel Online - ECPv6.0.0.1//NONSGML v1.0//EN
CALSCALE:GREGORIAN
METHOD:PUBLISH
X-WR-CALNAME:Eshel Online
X-ORIGINAL-URL:https://www.eshelonline.org
X-WR-CALDESC:Events for Eshel Online
REFRESH-INTERVAL;VALUE=DURATION:PT1H
X-Robots-Tag:noindex
X-PUBLISHED-TTL:PT1H
BEGIN:VTIMEZONE
TZID:America/New_York
BEGIN:DAYLIGHT
TZOFFSETFROM:-0500
TZOFFSETTO:-0400
TZNAME:EDT
DTSTART:20230312T070000
END:DAYLIGHT
BEGIN:STANDARD
TZOFFSETFROM:-0400
TZOFFSETTO:-0500
TZNAME:EST
DTSTART:20231105T060000
END:STANDARD
END:VTIMEZONE
BEGIN:VEVENT
DTSTART;TZID=America/New_York:20231010T200000
DTEND;TZID=America/New_York:20231010T210000
DTSTAMP:20260422T174119
CREATED:20230927T021106Z
LAST-MODIFIED:20260319T193742Z
UID:153371-1696968000-1696971600@www.eshelonline.org
SUMMARY:Closeted Men's Support Group
DESCRIPTION:Connect with other closeted Orthodox men in a welcoming\, supportive\, and confidential peer support group. This group offers a warm and empathetic environment where you can share your thoughts\, feelings\, and experiences with other LGBTQ+ frum\, Jewish men. This is a nonjudgmental space to explore your questions and concerns wherever you are on your journey. We welcome those from all backgrounds\, whether you’re Chassidic\, Haredi\, Yeshivish\, modern Orthodox\, or not sure where you fit.  \nSecond Tuesday of the month \n8:00 pm ET / 7:00 pm CT / 6:00 pm MT / 5:00 pm PT
URL:https://www.eshelonline.org/event/closeted-mens-support-group/2023-10-10/
ATTACH;FMTTYPE=image/png:https://www.eshelonline.org/wp-content/uploads/2023/09/11.png
END:VEVENT
BEGIN:VEVENT
DTSTART;TZID=America/New_York:20231011T201500
DTEND;TZID=America/New_York:20231011T214500
DTSTAMP:20260422T174119
CREATED:20230303T192824Z
LAST-MODIFIED:20230913T212107Z
UID:151312-1697055300-1697060700@www.eshelonline.org
SUMMARY:Closeted in Crown Heights
DESCRIPTION:In our community\, there are many women who feel vulnerable and that they have much to lose if they come out: a job\, housing\, children\, or family. This group is here to provide mutual support and unconditional love no matter where your journey is leading you. This support group is a non-judgmental space – there is no pressure to change your situation unless you want to. \nThis group might be for you if you: \n\nAre a woman in the closet\nAre married or divorced\nHave children\nAre afraid of what you might lose if you come out\n\nThis is a confidential group. Respect for each others’ desire to remain confidential or anonymous is of the utmost importance. \nThis group will meet in person in Crown Heights\, but participants living in other locations are welcome. \n			\n				\n				\n				\n				\n				\n\n\n\n			\n				Sign up for our weekly newsletter
URL:https://www.eshelonline.org/event/closted-in-crown-heights-2023-10-05/
END:VEVENT
END:VCALENDAR