BEGIN:VCALENDAR
VERSION:2.0
PRODID:-//Eshel Online - ECPv6.0.0.1//NONSGML v1.0//EN
CALSCALE:GREGORIAN
METHOD:PUBLISH
X-WR-CALNAME:Eshel Online
X-ORIGINAL-URL:https://www.eshelonline.org
X-WR-CALDESC:Events for Eshel Online
REFRESH-INTERVAL;VALUE=DURATION:PT1H
X-Robots-Tag:noindex
X-PUBLISHED-TTL:PT1H
BEGIN:VTIMEZONE
TZID:America/New_York
BEGIN:DAYLIGHT
TZOFFSETFROM:-0500
TZOFFSETTO:-0400
TZNAME:EDT
DTSTART:20230312T070000
END:DAYLIGHT
BEGIN:STANDARD
TZOFFSETFROM:-0400
TZOFFSETTO:-0500
TZNAME:EST
DTSTART:20231105T060000
END:STANDARD
END:VTIMEZONE
BEGIN:VEVENT
DTSTART;VALUE=DATE:20230730
DTEND;VALUE=DATE:20230731
DTSTAMP:20260421T161129
CREATED:20230531T182630Z
LAST-MODIFIED:20230724T190315Z
UID:151803-1690675200-1690761599@www.eshelonline.org
SUMMARY:Day on Fire Island
DESCRIPTION:Join Eshel for a Sunday outing on Fire Island! Eshel’s Board President\, Shlomo Ashkinazy\, and his husband\, Michael Gomillion have generously invited Eshel members to join them on Sunday\, July 30\, in their rented beach house in Cherry Grove on Fire Island. \nSpend the day enjoying all that Fire Island has to offer\, and enjoy a potluck lunch with the Eshel community at 1:00pm! Please bring a kosher dairy or pareve dish to share that serves at least 6. The rest of the day is yours to plan – feel free to use Shlomo and Michael’s place as a central spot for meeting up\, resting\, eating\, bathroom breaks\, and washing up between activities. If there’s enough interest\, we also may host mincha. \nCherry Grove offers a variety of opportunities for fun activities to choose from\, including: \n\nBeautiful Beach\nHotel Pool\nNature Walks\nExtremely Friendly Community\nLive Cabaret Pool Show at 3PM\nLive show in The Hotel’s Ice Palace Cabaret/Disco at 6PM\n\nDon’t forget to bring: \n\nswimsuit\ntowel\nbeach blanket\nsandals\nsunscreen\nsunglasses\n\nNote: Cherry Grove is a world famous\, predominantly LGBT Community\, with a reputation for skimpy attire and occasional nudity. Much of the entertainment includes off-color humor\, and coarse language. This event is not recommended for people who may be sensitive to such material. \nHow to Get There: \nCherry Grove is located on Fire Island\, and is accessible by Ferry from the Ferry Terminal in Sayville\, Long Island. Round Trip Ferry Fare is  $18. \nTravel to Sayville\, Long Island via the Long Island Rail Road from Penn Station. (Mini-Buses transport passengers from the Sayville train depot directly to the Ferry Terminal\, a few minutes away) \nSayville can also be reached by car via the Long Island Expressway or the Southern State Parkway. Cars are not allowed in Cherry Grove\, so drivers will need to leave their cars in the Parking Lot at the Ferry Terminal and take the Ferry. (Parking is $10 per day) \nExpect a minimum of 2 hours travel time from Manhattan. \n			\n			\n				\n				\n				\n				\n				\n				\n				\n				\n				\n				This event is at capacity. Check out our calendar for more upcoming events.
URL:https://www.eshelonline.org/event/day-on-fire-island/
ATTACH;FMTTYPE=image/png:https://www.eshelonline.org/wp-content/uploads/2023/05/A-Day-On-Fire-Island-with-Eshel.png
END:VEVENT
BEGIN:VEVENT
DTSTART;TZID=America/New_York:20230730T173000
DTEND;TZID=America/New_York:20230730T210000
DTSTAMP:20260421T161129
CREATED:20230629T203145Z
LAST-MODIFIED:20230707T161654Z
UID:151983-1690738200-1690750800@www.eshelonline.org
SUMMARY:NJ Parent Picnic
DESCRIPTION:Join us on Sunday\, July 30th at 5:30 pm for a picnic for Orthodox parents of LGBTQ+ children. \nWe will meet at the home of Eshel parents in Englewood\, NJ. Please bring a kosher dairy or pareve dish to share. \nRegister to receive location details – one registration per adult.
URL:https://www.eshelonline.org/event/nj-parent-picnic/
ATTACH;FMTTYPE=image/png:https://www.eshelonline.org/wp-content/uploads/2023/06/Here-are-the-details-we-will-publicly-advertise-Picnic-for-Orthodox-Parents-of-LGBTQ-people-in-the-home-of-Eshel-parents-in-englewood-630-pm-July-30th-Kosher-Dairy-Potluck.png
END:VEVENT
BEGIN:VEVENT
DTSTART;TZID=America/New_York:20230801T210000
DTEND;TZID=America/New_York:20230801T223000
DTSTAMP:20260421T161129
CREATED:20201104T174130Z
LAST-MODIFIED:20230712T174327Z
UID:143949-1690923600-1690929000@www.eshelonline.org
SUMMARY:Orthodox+* People of Trans Experience Support Group
DESCRIPTION:Welcome to Eshel’s Meetup!\nWhat: This virtual support group will be a space for people who identify as transgender\, non-binary\, and gender questioning. All shades of Orthodox including Chareidi\, Modern Orthodox\, Ex-Orthodox\, are welcome to come and share in a safe and confidential virtual group. \nWhen: Meetings will be held on the third Thursday of every month at 9 pm EST – 6 pm PST. \nWhere: For notifications and sign-in information\, please register below. (You only need to register for this group one time.) \nThis group is confidential: all attendees are required to adhere to the privacy of its members. \nAbout the Group Coordinator \nThis Eshel Meetup is led by Joshua Avishur\, a transgender Orthodox Jew who enjoys connecting with people and embracing the beauty in all individuals. Joshua is a Masters-in-Social-Work student with experience in mentoring LGBTQ+ folk and developing and leading therapy groups for children and individual counseling with at-risk youth. Joshua is also a transgender panel moderator and panelist. \n			\n			\n				\n				\n				\n				\n			\n				\n				\n				\n				\n				\n				\n			\n				\n				\n				\n				\n				\n			\n				\n				\n				\n				\n				\n			\n				\n				\n				\n				\n			\n				\n				\n				\n				\n				\n				\n			\n				\n				\n				\n				\n				\n				Subscribe to a Newsletter
URL:https://www.eshelonline.org/event/a-support-group-for-orthodox-people-of-trans-experience-2023-07-20/
CATEGORIES:Events
END:VEVENT
END:VCALENDAR