BEGIN:VCALENDAR
VERSION:2.0
PRODID:-//Eshel Online - ECPv6.0.0.1//NONSGML v1.0//EN
CALSCALE:GREGORIAN
METHOD:PUBLISH
X-ORIGINAL-URL:https://www.eshelonline.org
X-WR-CALDESC:Events for Eshel Online
REFRESH-INTERVAL;VALUE=DURATION:PT1H
X-Robots-Tag:noindex
X-PUBLISHED-TTL:PT1H
BEGIN:VTIMEZONE
TZID:America/New_York
BEGIN:DAYLIGHT
TZOFFSETFROM:-0500
TZOFFSETTO:-0400
TZNAME:EDT
DTSTART:20230312T070000
END:DAYLIGHT
BEGIN:STANDARD
TZOFFSETFROM:-0400
TZOFFSETTO:-0500
TZNAME:EST
DTSTART:20231105T060000
END:STANDARD
END:VTIMEZONE
BEGIN:VEVENT
DTSTART;TZID=America/New_York:20230709T193000
DTEND;TZID=America/New_York:20230709T210000
DTSTAMP:20260421T151639
CREATED:20230630T200544Z
LAST-MODIFIED:20230707T192028Z
UID:152018-1688931000-1688936400@www.eshelonline.org
SUMMARY:It's Not About the Bakery: How to Be an Ally to the LGBTQ+ Community
DESCRIPTION:Join Eshel for an intimate\, sensitive discussion on how to be an Orthodox ally to the LGBTQ+ community in West Orange. We all have more to learn about how we can be supportive to LGBTQ+ people in Orthodox communities. \nJoin us Sunday\, July 9 at 7:30 pm in West Orange at the home of a parent of an LGBTQ+ child for a thought-provoking conversation led by Eshel Executive Director Miryam Kabakov.  \nThis event is for anyone who is an ally or looking to learn more\, families of LGTBQ+ people\, and members of the LGBTQ+ community within the West Orange Orthodox community. \nThis event is now full. Sign up below to hear about future events like this one.
URL:https://www.eshelonline.org/event/its-not-about-the-bakery-how-to-be-an-ally-to-the-lgbtq-community/
ATTACH;FMTTYPE=image/jpeg:https://www.eshelonline.org/wp-content/uploads/2023/06/THIS-ONE-1.jpg
END:VEVENT
BEGIN:VEVENT
DTSTART;TZID=America/New_York:20230710T193000
DTEND;TZID=America/New_York:20230710T210000
DTSTAMP:20260421T151639
CREATED:20171031T182722Z
LAST-MODIFIED:20230623T195622Z
UID:145261-1689017400-1689022800@www.eshelonline.org
SUMMARY:Eshel New York City LGBTQ+ Meetup
DESCRIPTION:Calling all adult members of the NYC queer community who are Orthodox\, formerly Orthodox\, or “Ortho-curious.” If you are interested in connecting with other individuals who are exploring their Orthodox LGBTQ+ identity please join us! Members will have the opportunity to mingle and engage in peer-led discussions in a casual and confidential environment. \nWHAT: A  confidential gathering for people who identify as LGBTQ+ and are Orthodox\, Ortho-curious\, or formerly Orthodox. \nWHEN: The first Monday of every month  |  7:30 – 9:00 PM \nWHERE: For notifications and sign-in information\, please sign up below. (You only need to register for this group one time.) \nQuestions? Email new-york@eshelonline.org. \nParticipants are asked to adhere to strict confidentiality. \n			\n			\n				\n				\n				\n				\n			\n				\n				\n				\n				\n				\n				\n			\n				\n				\n				\n				\n				\n			\n				\n				\n				\n				\n				\n			\n				\n				\n				\n				\n			\n				\n				\n				\n				\n				\n				\n			\n				\n				\n				\n				\n				\n				Subscribe to a Newsletter
URL:https://www.eshelonline.org/event/new-york-city-meetup-2020-04-07-2020-05-11-2021-12-06-2023-07-03/
CATEGORIES:Events
ATTACH;FMTTYPE=image/jpeg:https://www.eshelonline.org/wp-content/uploads/2017/10/eshel-nyc.jpeg
END:VEVENT
BEGIN:VEVENT
DTSTART;TZID=America/New_York:20230711T190000
DTEND;TZID=America/New_York:20230711T210000
DTSTAMP:20260421T151639
CREATED:20230607T223207Z
LAST-MODIFIED:20230614T202849Z
UID:151837-1689102000-1689109200@www.eshelonline.org
SUMMARY:In-Person Israel Chapter Meetup
DESCRIPTION:Join other members of Eshel’s Israel Chapter Tuesday\, July 11 at 7:00pm for a dairy potluck dinner in Beit Shemesh. Open to parents and family members of LGBTQ+ people. \nPlease sign up even if you’ve previously joined the group so we know who to expect!
URL:https://www.eshelonline.org/event/in-person-israel-chapter-meetup/
ATTACH;FMTTYPE=image/jpeg:https://www.eshelonline.org/wp-content/uploads/2023/06/Eshel-Israel-Updated-Graphic-2.jpg
END:VEVENT
END:VCALENDAR