BEGIN:VCALENDAR
VERSION:2.0
PRODID:-//Eshel Online - ECPv6.0.0.1//NONSGML v1.0//EN
CALSCALE:GREGORIAN
METHOD:PUBLISH
X-ORIGINAL-URL:https://www.eshelonline.org
X-WR-CALDESC:Events for Eshel Online
REFRESH-INTERVAL;VALUE=DURATION:PT1H
X-Robots-Tag:noindex
X-PUBLISHED-TTL:PT1H
BEGIN:VTIMEZONE
TZID:America/New_York
BEGIN:DAYLIGHT
TZOFFSETFROM:-0500
TZOFFSETTO:-0400
TZNAME:EDT
DTSTART:20220313T070000
END:DAYLIGHT
BEGIN:STANDARD
TZOFFSETFROM:-0400
TZOFFSETTO:-0500
TZNAME:EST
DTSTART:20221106T060000
END:STANDARD
END:VTIMEZONE
BEGIN:VEVENT
DTSTART;TZID=America/New_York:20220608T190000
DTEND;TZID=America/New_York:20220608T200000
DTSTAMP:20260425T095220
CREATED:20220518T133245Z
LAST-MODIFIED:20221223T183620Z
UID:147149-1654714800-1654718400@www.eshelonline.org
SUMMARY:Ensuring Mental Wellbeing for LGBTQ+ People During Challenging Times
DESCRIPTION:Mental wellbeing is more challenging for everyone in the era of COVID. Isolation\, depression\, anxiety\, and other mental health concerns have become more visible and prevalent in our world today. In this session\, we will explore the increased rate and severity of these concerns within the LGBTQ community. What are some of the reasons for this? What can we do to ensure emotional wellbeing for all of us? \nRegister to receive the Zoom link.
URL:https://www.eshelonline.org/event/ensuring-mental-wellbeing-for-lgbtq-people-during-challenging-times/2022-06-08/
ATTACH;FMTTYPE=image/png:https://www.eshelonline.org/wp-content/uploads/2022/05/Ensuring-Mental-Wellbeing-for-LGBTQ-People-During-Challenging-Times-4.png
END:VEVENT
BEGIN:VEVENT
DTSTART;TZID=America/New_York:20220611T150000
DTEND;TZID=America/New_York:20220611T180000
DTSTAMP:20260425T095220
CREATED:20220607T172256Z
LAST-MODIFIED:20220607T200404Z
UID:147229-1654959600-1654970400@www.eshelonline.org
SUMMARY:Brooklyn Pride 2022 Rooftop Gathering
DESCRIPTION:Saturday\, June 11\n3:00 – 6:00 pm\nHosted by Eshel board member Shlomo Ashkinazy\, join Eshel members to watch the Brooklyn Pride march! We will meet on Shlomo’s rooftop near 5th Avenue and 10th Street for some fun and a light seudah shlishit. Address provided upon registration. For more information contact info@eshelonline.org
URL:https://www.eshelonline.org/event/brooklyn-pride-2022-rooftop-gathering/
END:VEVENT
END:VCALENDAR