BEGIN:VCALENDAR
VERSION:2.0
PRODID:-//Eshel Online - ECPv6.0.0.1//NONSGML v1.0//EN
CALSCALE:GREGORIAN
METHOD:PUBLISH
X-WR-CALNAME:Eshel Online
X-ORIGINAL-URL:https://www.eshelonline.org
X-WR-CALDESC:Events for Eshel Online
REFRESH-INTERVAL;VALUE=DURATION:PT1H
X-Robots-Tag:noindex
X-PUBLISHED-TTL:PT1H
BEGIN:VTIMEZONE
TZID:America/New_York
BEGIN:DAYLIGHT
TZOFFSETFROM:-0500
TZOFFSETTO:-0400
TZNAME:EDT
DTSTART:20200308T070000
END:DAYLIGHT
BEGIN:STANDARD
TZOFFSETFROM:-0400
TZOFFSETTO:-0500
TZNAME:EST
DTSTART:20201101T060000
END:STANDARD
END:VTIMEZONE
BEGIN:VEVENT
DTSTART;TZID=America/New_York:20201104T190000
DTEND;TZID=America/New_York:20201104T210000
DTSTAMP:20260421T162650
CREATED:20190418T151035Z
LAST-MODIFIED:20201104T200952Z
UID:126798-1604516400-1604523600@www.eshelonline.org
SUMMARY:Eshel Baltimore/DC Parents & LGBTQ+ Joint Meetup
DESCRIPTION:Get together with our Baltimore/DC Eshel family. Join us in this intimate\, confidential setting to meet others\, like yourself\, in the extended Eshel network. \nWHAT: A private gathering for LGBTQ+ individuals who are Orthodox\, Ortho-curious or formerly Orthodox and for traditional Jewish parents of LGBTQ+ people who may be struggling with their child’s sexual orientation or gender identity and/or wish to connect with other parents like themselves. \nWHEN: Meetings are usually held on the first Wednesday of every month\, 7:00-9:00 pm. \nWhere: For notifications and sign-in information\, please register below. (You only need to register for this group one time.) \n			\n			\n				\n				\n				\n				\n			\n				\n				\n				\n				\n				\n				\n			\n				\n				\n				\n				\n				\n			\n				\n				\n				\n				\n				\n			\n				\n				\n				\n				\n			\n				\n				\n				\n				\n				\n				\n			\n				\n				\n				\n				\n				\n				Subscribe to a Newsletter
URL:https://www.eshelonline.org/event/baltimore-d-c-meet-up-2020-11-04/
CATEGORIES:Events
ATTACH;FMTTYPE=image/jpeg:https://www.eshelonline.org/wp-content/uploads/2017/01/orthodox-lgbtq-support-group-meetup.jpg
END:VEVENT
BEGIN:VEVENT
DTSTART;TZID=America/New_York:20201105T193000
DTEND;TZID=America/New_York:20201105T210000
DTSTAMP:20260421T162650
CREATED:20201015T153405Z
LAST-MODIFIED:20201021T165903Z
UID:135839-1604604600-1604610000@www.eshelonline.org
SUMMARY:Eshel Across America: Unbinding Isaac with Professor Aaron Koller
DESCRIPTION:Eshel Across America Weekend (November 5-8\, 2020) \nAs we read every year in Parashat Vayera\, Avraham and Sarah plant an Eshel tree near their tent to signal the welcome of strangers. It is during this weekend that we\, the Eshel community\, celebrate our commitment to inclusion and dialogue. \nUnbinding Isaac with Professor Aaron Koller \nUnder our virtual tent\, this year we will kick off this weekend with Dr. Aaron Koller of the Bernard Revel Graduate School of Jewish Studies\, Yeshiva University\, who will share insights from his new book: Unbinding of Isaac.  \nHave you ever felt both moved and troubled by the Akedah?\n“The notion that sincere individual faith can license the suspension of all ethical considerations is a deeply dangerous idea\,” says Dr. Aaron Koller in his new work\, Unbinding Isaac. He claims that the use of the Akedah as a foundation for the suspension of the ethical is a misreading of the text. \nContemporary Jewish thinkers as central as Rabbi Joseph Soloveitchik have fallen in various ways for this reading\, which has been corrosive for the halakhic enterprise. Professor Koller’s reading of the Akedah unbinds us all\, offering a way for faithful LGBTQ+ Jews to stake their claims for halakhic renovation as a fulfillment of Abraham’s vision and not a rejection of it. \nHow to obtain the book: You may order Professor Koller’s book from the Univesity of Nebraska Press\, which is offering a 50% discount with the code 6FALL20. You can also receive a free gift copy of the book by sponsoring this event. Info will follow after you register below. \n[As you register for Eshel events\, you may see some interesting questions\, which allow us to serve you better in terms of programs and communications.]
URL:https://www.eshelonline.org/event/unbinding-isaac-with-professor-aaron-koller/
CATEGORIES:Events
ATTACH;FMTTYPE=image/jpeg:https://www.eshelonline.org/wp-content/uploads/2020/10/Eshel-Across-America-2020-1.jpg
END:VEVENT
BEGIN:VEVENT
DTSTART;TZID=America/New_York:20201107T210000
DTEND;TZID=America/New_York:20201107T223000
DTSTAMP:20260421T162650
CREATED:20201015T170302Z
LAST-MODIFIED:20201103T143610Z
UID:135850-1604782800-1604788200@www.eshelonline.org
SUMMARY:Eshel Across America: Melave Malka
DESCRIPTION:Eshel Across America Weekend (November 5-8\, 2020) \nAs we read every year in Parashat Vayera\, Avraham and Sarah plant an Eshel tree near their tent to signal the welcome of strangers. It is during this weekend that we\, the Eshel community\, celebrate our commitment to inclusion and dialogue. \nMelava Malka \nJoin Eshel for a community-wide Melave Malka on Saturday evening with music\, singing\, and special guests: Rabbanit Dasi Fruchter and Sam Glazer. We will have a chance to welcome new members and meet each other in dialogue—the hallmark of the Eshel Across America weekend. \nRabbanit Dasi Fruchter is the founder and spiritual leader of the South Philadelphia Shtiebel. She received semikha in 2016 and completed her M.P.A. in Non-Profit Administration and M.A. in Jewish Studies from New York University’s Wagner School of Public Service. Rabbanit Fruchter\, Wexner Graduate Fellow\, is a passionate educator and community builder and has served on the clergy team at Beth Sholom Congregation and Talmud Torah in Potomac\, MD\, the largest Modern Orthodox Congregation in the Washington Metropolitan area. She is driven by relationship-based community building\, facilitating meaningful ritual\, and harnessing the power of the spiritual community to make the world a better place. \n \n \nSam Glaser’s soulful music has become part of the fabric of Jewish life in communities worldwide. Named one of the top ten Jewish performers by Moment magazine\, Glaser is equally comfortable behind a grand piano in intimate solo concerts\, leading his 8-piece band. \n“Some consider Sam Glaser to be the hardest working man in Jewish music today. With over 20 albums under his belt and his annual fifty city concert tour which plays for over 100\,000 fans\, we think that Sam has earned the title.” Jewish Music Group Online. Check out Sam’s videos here.  \n  \n[As you register for Eshel events\, you may see some interesting questions\, which allow us to serve you better in terms of programs and communications.]
URL:https://www.eshelonline.org/event/melave-malka/
CATEGORIES:Events
ATTACH;FMTTYPE=image/jpeg:https://www.eshelonline.org/wp-content/uploads/2020/10/Eshel-Across-America-2020-1.jpg
END:VEVENT
END:VCALENDAR