BEGIN:VCALENDAR
VERSION:2.0
PRODID:-//Eshel Online - ECPv6.0.0.1//NONSGML v1.0//EN
CALSCALE:GREGORIAN
METHOD:PUBLISH
X-ORIGINAL-URL:https://www.eshelonline.org
X-WR-CALDESC:Events for Eshel Online
REFRESH-INTERVAL;VALUE=DURATION:PT1H
X-Robots-Tag:noindex
X-PUBLISHED-TTL:PT1H
BEGIN:VTIMEZONE
TZID:America/New_York
BEGIN:DAYLIGHT
TZOFFSETFROM:-0500
TZOFFSETTO:-0400
TZNAME:EDT
DTSTART:20170312T070000
END:DAYLIGHT
BEGIN:STANDARD
TZOFFSETFROM:-0400
TZOFFSETTO:-0500
TZNAME:EST
DTSTART:20171105T060000
END:STANDARD
END:VTIMEZONE
BEGIN:VEVENT
DTSTART;VALUE=DATE:20170624
DTEND;VALUE=DATE:20170626
DTSTAMP:20260419T093349
CREATED:20170511T035742Z
LAST-MODIFIED:20170516T185438Z
UID:3207-1498334400-1498420799@www.eshelonline.org
SUMMARY:Twin Cities Pride Festival
DESCRIPTION:2017 Twin Cities Pride Festival on June 25\, 2017\nMarch wearing Eshel’s t-shirts (free):\n\nOrthodox Ally\nWe’re Here We’re Queer We’re Machmir\nStay tuned for more details!
URL:https://www.eshelonline.org/event/twin-cities-pride-festival/
LOCATION:Makom Hadash/Eshel office\, 125 Maiden Lane\, Suite 8B\, New York\, New York\, 10038\, United States
CATEGORIES:Events
ATTACH;FMTTYPE=image/jpeg:https://www.eshelonline.org/wp-content/uploads/2017/05/Orthodox-Allies.jpg
GEO:40.7066092;-74.0062499
X-APPLE-STRUCTURED-LOCATION;VALUE=URI;X-ADDRESS=Makom Hadash/Eshel office 125 Maiden Lane Suite 8B New York New York 10038 United States;X-APPLE-RADIUS=500;X-TITLE=125 Maiden Lane\, Suite 8B:geo:-74.0062499,40.7066092
END:VEVENT
BEGIN:VEVENT
DTSTART;TZID=America/New_York:20170604T070000
DTEND;TZID=America/New_York:20170604T120000
DTSTAMP:20260419T093349
CREATED:20170511T033445Z
LAST-MODIFIED:20170512T180637Z
UID:3200-1496559600-1496577600@www.eshelonline.org
SUMMARY:Celebrate Israel Parade
DESCRIPTION:Sunday\, June 4\, 2017  |  11:00 AM to 4:00 PM\nMarch with Eshel! Rain or Shine!\nEvery marcher will get a free t-shirt! You can even help carry the Eshel banner!\nWhere:\nSection 7E\n53rd St between 5th & Madison Ave\nNew York City\, NY\n\nAssembly Time:\n12:20 PM\nThe LGBTQ Cluster will be #7\, coming after the Solomon Schechter School of Manhattan and before the Jewish Federation Greater Orange County and JCC.
URL:https://www.eshelonline.org/event/celebrate-israel-pride/
LOCATION:Makom Hadash/Eshel office\, 125 Maiden Lane\, Suite 8B\, New York\, New York\, 10038\, United States
CATEGORIES:Events
ATTACH;FMTTYPE=image/jpeg:https://www.eshelonline.org/wp-content/uploads/2017/05/Eshel-March.jpg
GEO:40.7066092;-74.0062499
X-APPLE-STRUCTURED-LOCATION;VALUE=URI;X-ADDRESS=Makom Hadash/Eshel office 125 Maiden Lane Suite 8B New York New York 10038 United States;X-APPLE-RADIUS=500;X-TITLE=125 Maiden Lane\, Suite 8B:geo:-74.0062499,40.7066092
END:VEVENT
END:VCALENDAR