BEGIN:VCALENDAR
VERSION:2.0
PRODID:-//Eshel Online - ECPv6.0.0.1//NONSGML v1.0//EN
CALSCALE:GREGORIAN
METHOD:PUBLISH
X-WR-CALNAME:Eshel Online
X-ORIGINAL-URL:https://www.eshelonline.org
X-WR-CALDESC:Events for Eshel Online
REFRESH-INTERVAL;VALUE=DURATION:PT1H
X-Robots-Tag:noindex
X-PUBLISHED-TTL:PT1H
BEGIN:VTIMEZONE
TZID:America/New_York
BEGIN:DAYLIGHT
TZOFFSETFROM:-0500
TZOFFSETTO:-0400
TZNAME:EDT
DTSTART:20250309T070000
END:DAYLIGHT
BEGIN:STANDARD
TZOFFSETFROM:-0400
TZOFFSETTO:-0500
TZNAME:EST
DTSTART:20251102T060000
END:STANDARD
END:VTIMEZONE
BEGIN:VEVENT
DTSTART;TZID=America/New_York:20251201T183000
DTEND;TZID=America/New_York:20251201T203000
DTSTAMP:20260423T173548
CREATED:20240214T185353Z
LAST-MODIFIED:20251110T232603Z
UID:155367-1764613800-1764621000@www.eshelonline.org
SUMMARY:Self Portrait Workshop with Artist Tobi Kahn
DESCRIPTION:Join Eshel for a night of self-reflection and artistic expression\, with a self-portrait workshop led by respected artist Tobi Kahn. For those of us balancing LGBTQ+ and Jewish identity\, the endeavor of self-perception can be equal parts daunting\, confusing\, and exciting. So too\, self-presentation is often a process that requires deep introspection and experimentation. Through presence\, we can approach our identities in new and creative ways. At this event\, we will explore literal and abstract expressions of the self in what is sure to be a meaningful and fun night. Light refreshments will be served after the workshop. \nPlease note: This event is 21+ and for LGBTQ+ members of our community. \nAbout the ArtistTobi Kahn is a painter and sculptor whose art has been shown in over 70 solo museumexhibitions. He is currently working a solo survey exhibition that will open in the Fall of 2026 atthe Boca Raton Museum of Art in Florida. Works by Kahn are in major museum collections\,including the Solomon R. Guggenheim Museum\, NYC; the Houston Museum of Fine Arts\, TX;The Phillips Collection\, DC; Albright-Knox Art Gallery\, Buffalo\, NY; Minneapolis Institute ofArt\, MN; Yale University Art Gallery\, CT; and The Jewish Museum\, NYC. His travelingmuseum exhibitions include Tobi Kahn: Metamorphoses; Avoda: Objects of the Spirit;Microcosmos; Tobi Kahn: Sky &amp; Water; and Tobi Kahn: Sacred Spaces for the 21st Century.Kahn’s commissioned installations include “Shalev\,” an outdoor sculpture\, New Harmony\, IN;“Emet\,” a meditative space for the HealthCare Chaplaincy\, NYC; two Holocaust memorialgardens\, La Jolla\, CA\, and Tenafly\, NJ; the sanctuary ark doors\, murals\, and ceremonial objectsfor Congregation Emanu-El B’ne Jeshurun\, Milwaukee\, WI; “M’AHL\,” a floor installation in theexhibition Rendering the Unthinkable\, 9/11 Memorial Museum\, NYC; a meditative space forAuburn Theological Seminary\, NYC; and an installation of paintings and outdoor sculpture forthe campuses of Thomas Jefferson University\, Philadelphia\, PA.Kahn also communicates his vision through his passion for teaching. For over 40 years\, he hastaught fine arts at the School of Visual Arts\, NYC. Kahn lectures extensively at universities andpublic forums internationally on the importance of visual language and on art as healing.
URL:https://www.eshelonline.org/event/self-portrait-workshop-with-artist-tobi-kahn/
END:VEVENT
BEGIN:VEVENT
DTSTART;TZID=America/New_York:20251201T190000
DTEND;TZID=America/New_York:20251201T200000
DTSTAMP:20260423T173548
CREATED:20251027T205503Z
LAST-MODIFIED:20251027T205503Z
UID:164176-1764615600-1764619200@www.eshelonline.org
SUMMARY:Straight Spouses of LGBTQ+ Partners Support Group
DESCRIPTION:Straight Spouses of LGBTQ+ Partners Support Group \nHas your spouse come out to you? This support group is for anyone in the Orthodox community whose husband or wife has come out as gay\, lesbian\, or transgender\, whether you are married\, separated\, or divorced. This group is a confidential and supportive space to process difficult emotions\, connect with others in similar situations\, navigate co-parenting under these new circumstances\, and learn how to move forward with resilience. \nWhen: First Monday each month\, 7:00 pm ET / 6:00 pm CT / 4:00 pm PT \nWhere: Zoom – register to receive the link
URL:https://www.eshelonline.org/event/straight-spouses-of-lgbtq-partners-support-group/2025-12-01/
CATEGORIES:Events
ATTACH;FMTTYPE=image/jpeg:https://www.eshelonline.org/wp-content/uploads/2025/10/Eshel-Support-groups-and-meetups-5.jpg
END:VEVENT
BEGIN:VEVENT
DTSTART;TZID=America/New_York:20251201T200000
DTEND;TZID=America/New_York:20251201T210000
DTSTAMP:20260423T173548
CREATED:20230912T015346Z
LAST-MODIFIED:20240819T154211Z
UID:154369-1764619200-1764622800@www.eshelonline.org
SUMMARY:Parents Drop-In Support Group
DESCRIPTION:Join our drop-in support group for parents! We meet every Wednesday at noon ET and the first Monday every month at 8pm ET. \nFor notifications and sign-in information\, please fill out the form below. (You only need to register for this group one time.) \n			\n				\n				\n				\n				\n				\n\n  hbspt.forms.create({\n    region: "na1"\,\n    portalId: "7837587"\,\n    formId: "7671fe05-c022-4625-b646-4d6c927cbdff"\n  });\n\n			\n			\n				\n				\n				\n				\n			\n				\n				\n				\n				\n				\n				\n				Sign up to Join\n			\n			\n				\n				\n				\n				\n				\n				Subscribe to a Newsletter
URL:https://www.eshelonline.org/event/drop-in-parents-support-group/2025-12-01/
ATTACH;FMTTYPE=image/jpeg:https://www.eshelonline.org/wp-content/uploads/2023/09/Parents-Drop-In-1.jpg
END:VEVENT
BEGIN:VEVENT
DTSTART;TZID=America/New_York:20251202T203000
DTEND;TZID=America/New_York:20251202T214500
DTSTAMP:20260423T173548
CREATED:20200218T173239Z
LAST-MODIFIED:20251223T192529Z
UID:163437-1764707400-1764711900@www.eshelonline.org
SUMMARY:Women's LBTQ+ Support Group
DESCRIPTION:Women’s New York Area Meetup on Zoom \nWhat: Meet other individuals who identify as female and who are exploring their Orthodox LGBTQ+ identities. \nWhen: Meeting Weekly: Every Tuesday from 8:30 pm – 9:45 pm \nWhere: For notifications and sign-in information\, register below. (You only need to register for this group one time.)
URL:https://www.eshelonline.org/event/womens-lgbtq-support-group-2025-09-11/2025-12-02/
CATEGORIES:Events
ATTACH;FMTTYPE=image/jpeg:https://www.eshelonline.org/wp-content/uploads/2020/02/Eshel-Support-groups-and-meetups-14.jpg
END:VEVENT
BEGIN:VEVENT
DTSTART;TZID=America/New_York:20251203T120000
DTEND;TZID=America/New_York:20251203T130000
DTSTAMP:20260423T173548
CREATED:20200518T143444Z
LAST-MODIFIED:20251210T192627Z
UID:154382-1764763200-1764766800@www.eshelonline.org
SUMMARY:Parents Drop-In Support Group
DESCRIPTION:Drop-in every Wednesday to shmooze\, chat\, ask questions\, and hear topics of interest! \nFor notifications and sign-in information\, please fill out the form below. (You only need to register for this group one time.)\n			\n				\n				\n				\n				\n				\n\n			\n			\n				\n				\n				\n				\n			\n				\n				\n				\n				\n				\n				\n			\n				\n				\n				\n				\n				\n				Subscribe to a Newsletter
URL:https://www.eshelonline.org/event/parents-drop-in/2025-12-03/
CATEGORIES:Events
ATTACH;FMTTYPE=image/jpeg:https://www.eshelonline.org/wp-content/uploads/2023/09/Parents-Drop-In-1.jpg
END:VEVENT
BEGIN:VEVENT
DTSTART;TZID=America/New_York:20251208T200000
DTEND;TZID=America/New_York:20251208T210000
DTSTAMP:20260423T173548
CREATED:20230926T162921Z
LAST-MODIFIED:20251126T132113Z
UID:154669-1765224000-1765227600@www.eshelonline.org
SUMMARY:LGBTQ+ Support Group
DESCRIPTION:A confidential space for LGBTQ+ adults who are Orthodox\, formerly Orthodox\, or Orthodox-adjacent to access peer support\, share their experiences\, and connect and gain insights from others. \n  \nSecond Monday of the month \n8:00 pm ET\, 7:00 pm CT\, 6:00 pm MT\, 5:00 pm PT \nRegister below for Zoom link and to receive notifications each month.
URL:https://www.eshelonline.org/event/lgbtq-support-group-2-2024-01-01/2025-12-08/
ATTACH;FMTTYPE=image/png:https://www.eshelonline.org/wp-content/uploads/2023/09/Eshel-Support-groups-and-meetups.png
END:VEVENT
BEGIN:VEVENT
DTSTART;TZID=America/New_York:20251209T183000
DTEND;TZID=America/New_York:20251209T183000
DTSTAMP:20260423T173548
CREATED:20251124T235840Z
LAST-MODIFIED:20251124T235932Z
UID:164450-1765305000-1765305000@www.eshelonline.org
SUMMARY:Winter Wellness: Self Care with JQY and Eshel
DESCRIPTION:Sign Up!
URL:https://www.eshelonline.org/event/winter-wellness-self-care-with-jqy-and-eshel/
ATTACH;FMTTYPE=image/png:https://www.eshelonline.org/wp-content/uploads/2025/11/Self-Care.png
END:VEVENT
BEGIN:VEVENT
DTSTART;TZID=America/New_York:20251209T203000
DTEND;TZID=America/New_York:20251209T214500
DTSTAMP:20260423T173548
CREATED:20200218T173239Z
LAST-MODIFIED:20251223T192530Z
UID:163438-1765312200-1765316700@www.eshelonline.org
SUMMARY:Women's LBTQ+ Support Group
DESCRIPTION:Women’s New York Area Meetup on Zoom \nWhat: Meet other individuals who identify as female and who are exploring their Orthodox LGBTQ+ identities. \nWhen: Meeting Weekly: Every Tuesday from 8:30 pm – 9:45 pm \nWhere: For notifications and sign-in information\, register below. (You only need to register for this group one time.)
URL:https://www.eshelonline.org/event/womens-lgbtq-support-group-2025-09-11/2025-12-09/
CATEGORIES:Events
ATTACH;FMTTYPE=image/jpeg:https://www.eshelonline.org/wp-content/uploads/2020/02/Eshel-Support-groups-and-meetups-14.jpg
END:VEVENT
BEGIN:VEVENT
DTSTART;TZID=America/New_York:20251210T120000
DTEND;TZID=America/New_York:20251210T130000
DTSTAMP:20260423T173548
CREATED:20200518T143444Z
LAST-MODIFIED:20251210T192628Z
UID:154675-1765368000-1765371600@www.eshelonline.org
SUMMARY:Parents Drop-In Support Group
DESCRIPTION:Drop-in every Wednesday to shmooze\, chat\, ask questions\, and hear topics of interest! \nFor notifications and sign-in information\, please fill out the form below. (You only need to register for this group one time.)\n			\n				\n				\n				\n				\n				\n\n			\n			\n				\n				\n				\n				\n			\n				\n				\n				\n				\n				\n				\n			\n				\n				\n				\n				\n				\n				Subscribe to a Newsletter
URL:https://www.eshelonline.org/event/parents-drop-in/2025-12-10/
CATEGORIES:Events
ATTACH;FMTTYPE=image/jpeg:https://www.eshelonline.org/wp-content/uploads/2023/09/Parents-Drop-In-1.jpg
END:VEVENT
BEGIN:VEVENT
DTSTART;TZID=America/New_York:20251210T180000
DTEND;TZID=America/New_York:20251210T180000
DTSTAMP:20260423T173548
CREATED:20251126T081610Z
LAST-MODIFIED:20251209T182505Z
UID:164464-1765389600-1765389600@www.eshelonline.org
SUMMARY:Laugh Out Proud
DESCRIPTION:Join our Atlanta community for a fun\, laughter-filled night out! We’ll kick things off with drinks at The Establishment at 6:00 PM — a perfect chance to meet new friends and connect with fellow LGBTQ+ Jews. Then we’ll head over together to enjoy the always-hilarious Modi live on stage. \nGrab your show ticket on your own\, and RSVP below to let us know you’re coming for the pre-show hang. Come for the community\, stay for the comedy. We can’t wait to see you there! \nDrinks 6:00PM (RSVP For bar address) \nShow 7:30PM (Center Stage Theater) \nSay hello to Modi after the show!
URL:https://www.eshelonline.org/event/laugh-out-proud/
END:VEVENT
BEGIN:VEVENT
DTSTART;TZID=America/New_York:20251212T161500
DTEND;TZID=America/New_York:20251212T210000
DTSTAMP:20260423T173548
CREATED:20251120T160014Z
LAST-MODIFIED:20251212T044929Z
UID:164410-1765556100-1765573200@www.eshelonline.org
SUMMARY:Building a Jewish Queer Family: Planning and Parenthood - Community Dinner in Brooklyn
DESCRIPTION:REGISTRATION FOR THIS PROGRAM IS NOW CLOSED. \nEshel\, Atara Minyan\, and PHS invite you to join us for davening and dinner at Luria Academy\, followed by a conversation about LGBTQ+ family\, from planning to parenthood\, moderated by our Director of Marketing and Communications and current Maharat student\, Sara Singer. \nNavigating having children\, from conception to rearing\, is an exciting and often challenging process for LGBTQ+ people. Learn from community members about how they have navigated this process\, not just as queer people\, but also as Jews. We will address questions surrounding how bringing children into the world also impacts LGBTQ+ Jews in their choice of community and how reproductive decisions are informed by Halacha. \nWhere: Luria Academy (address sent with registration confirmation) \n4:15pm – Davening – PHS Minyan in the Beit Midrash\, Egal minyan in the gym \n5:30pm – Light Kiddush/L’chaims \n6:15pm – Dinner  \n7:15-9pm – Panel\, led by Sara Singer \nThis program is open to all community members. No charge for children under the age of 3. \nRegular Price: $36 \nStudent Price: $18 \nChildren (under 18): $15 \nPLEASE NOTE: For internal tracking and discretion purposes\, we require separate registrations for each guest. Thank you for your understanding.
URL:https://www.eshelonline.org/event/building-a-jewish-queer-family-planning-and-parenthood-community-dinner-in-brooklyn/
END:VEVENT
BEGIN:VEVENT
DTSTART;TZID=America/New_York:20251215T190000
DTEND;TZID=America/New_York:20251215T220000
DTSTAMP:20260423T173548
CREATED:20251119T142409Z
LAST-MODIFIED:20251216T174117Z
UID:164369-1765825200-1765836000@www.eshelonline.org
SUMMARY:Ignite the Night: LGBTQ+ Community Chanukah Party
DESCRIPTION:Join Eshel and our partners for the Annual LGBTQ+ Chanukah Party!  \nCelebrate Night Two of the Festival of Lights with the LGBTQ+ Jewish community of NYC! \nEnjoy a dairy dinner–complete with latkes\, sufganiyot\, and chocolate gelt\, a wine bar\, and DJ! We will eat\, drink\, dance\, and have a special candle lighting ceremony. Let’s ignite the night together!  \nDate: December 15\, 2025  \nTime: 7-10pm (volunteer shifts begin at 5:30pm) \nThe JCC facilities are elevator and ramp accessible. If you have additional access needs or questions\, email info@eshelonline.org. \nRegular Admission Price – $36 ($40 at-the-door) \nEarly Bird Ticket (ends Dec. 1) – $25  \nStudent Ticket – $18 \nA limited number of comped tickets will be offered to volunteers. To learn more about volunteer opportunities and expectations\, please contact info@eshelonline.org. \nSold out!
URL:https://www.eshelonline.org/event/ignite-the-night-lgbtq-community-chanukah-party/
CATEGORIES:Events
END:VEVENT
BEGIN:VEVENT
DTSTART;TZID=America/New_York:20251215T200000
DTEND;TZID=America/New_York:20251215T213000
DTSTAMP:20260423T173548
CREATED:20200219T143836Z
LAST-MODIFIED:20251111T001748Z
UID:154691-1765828800-1765834200@www.eshelonline.org
SUMMARY:South Florida LGBTQ+ & Parents Meetup
DESCRIPTION:What: Meet other LGBTQ+ individuals in the area of Miami\, Florida! Family members and relatives of LGBTQ+ folks are also welcome to join! Our coordinators speak Spanish and French. \nWhen: The third Monday of each month from 8:00 pm – 9:00 pm. \nWhere: For notifications and sign-in information\, please register below. (You only need to register for this group one time.) \nFor more information or questions\, please contact us at southflorida@eshelonline.org. \n			\n				\n				\n				\n				\n				\n\n			\n			\n				\n				\n				\n				\n			\n				\n				\n				\n				\n				\n				\n			\n				\n				\n				\n				\n				\n				Subscribe to a Newsletter
URL:https://www.eshelonline.org/event/south-florida-meetup/2025-12-15/
CATEGORIES:Events
ATTACH;FMTTYPE=image/jpeg:https://www.eshelonline.org/wp-content/uploads/2020/02/Eshel-Support-groups-and-meetups-12.jpg
END:VEVENT
BEGIN:VEVENT
DTSTART;TZID=America/New_York:20251216T203000
DTEND;TZID=America/New_York:20251216T214500
DTSTAMP:20260423T173548
CREATED:20200218T173239Z
LAST-MODIFIED:20251223T192531Z
UID:163439-1765917000-1765921500@www.eshelonline.org
SUMMARY:Women's LBTQ+ Support Group
DESCRIPTION:Women’s New York Area Meetup on Zoom \nWhat: Meet other individuals who identify as female and who are exploring their Orthodox LGBTQ+ identities. \nWhen: Meeting Weekly: Every Tuesday from 8:30 pm – 9:45 pm \nWhere: For notifications and sign-in information\, register below. (You only need to register for this group one time.)
URL:https://www.eshelonline.org/event/womens-lgbtq-support-group-2025-09-11/2025-12-16/
CATEGORIES:Events
ATTACH;FMTTYPE=image/jpeg:https://www.eshelonline.org/wp-content/uploads/2020/02/Eshel-Support-groups-and-meetups-14.jpg
END:VEVENT
BEGIN:VEVENT
DTSTART;TZID=America/New_York:20251217T120000
DTEND;TZID=America/New_York:20251217T130000
DTSTAMP:20260423T173548
CREATED:20200518T143444Z
LAST-MODIFIED:20251210T192629Z
UID:154697-1765972800-1765976400@www.eshelonline.org
SUMMARY:Parents Drop-In Support Group
DESCRIPTION:Drop-in every Wednesday to shmooze\, chat\, ask questions\, and hear topics of interest! \nFor notifications and sign-in information\, please fill out the form below. (You only need to register for this group one time.)\n			\n				\n				\n				\n				\n				\n\n			\n			\n				\n				\n				\n				\n			\n				\n				\n				\n				\n				\n				\n			\n				\n				\n				\n				\n				\n				Subscribe to a Newsletter
URL:https://www.eshelonline.org/event/parents-drop-in/2025-12-17/
CATEGORIES:Events
ATTACH;FMTTYPE=image/jpeg:https://www.eshelonline.org/wp-content/uploads/2023/09/Parents-Drop-In-1.jpg
END:VEVENT
BEGIN:VEVENT
DTSTART;TZID=America/New_York:20251218T210000
DTEND;TZID=America/New_York:20251218T223000
DTSTAMP:20260423T173548
CREATED:20201104T174130Z
LAST-MODIFIED:20240904T162619Z
UID:154699-1766091600-1766097000@www.eshelonline.org
SUMMARY:Orthodox+* People of Trans Experience Support Group
DESCRIPTION:Welcome to Eshel’s Meetup!\nWhat: This virtual support group will be a space for people who identify as transgender\, non-binary\, and gender questioning. All shades of Orthodox including Chareidi\, Modern Orthodox\, Ex-Orthodox\, are welcome to come and share in a safe and confidential virtual group. \nWhen: Meetings will be held on the third Thursday of every month at 9 pm EST – 6 pm PST. \nWhere: For notifications and sign-in information\, please register below. (You only need to register for this group one time.) \nThis group is confidential: all attendees are required to adhere to the privacy of its members. \nAbout the Group Coordinator \nThis Eshel Meetup is led by Joshua Avishur\, a transgender Orthodox Jew who enjoys connecting with people and embracing the beauty in all individuals. Joshua is a Masters-in-Social-Work student with experience in mentoring LGBTQ+ folk and developing and leading therapy groups for children and individual counseling with at-risk youth. Joshua is also a transgender panel moderator and panelist. \n			\n				\n				\n				\n				\n				\n\n			\n			\n				\n				\n				\n				\n			\n				\n				\n				\n				\n				\n				\n			\n				\n				\n				\n				\n				\n				Subscribe to a Newsletter
URL:https://www.eshelonline.org/event/a-support-group-for-orthodox-people-of-trans-experience/2025-12-18/
CATEGORIES:Events
ATTACH;FMTTYPE=image/jpeg:https://www.eshelonline.org/wp-content/uploads/2020/11/Eshel-Support-groups-and-meetups-15.jpg
END:VEVENT
BEGIN:VEVENT
DTSTART;TZID=America/New_York:20251221T100000
DTEND;TZID=America/New_York:20251221T120000
DTSTAMP:20260423T173548
CREATED:20251202T221408Z
LAST-MODIFIED:20251202T221414Z
UID:164568-1766311200-1766318400@www.eshelonline.org
SUMMARY:Baltimore Chanukah Party
DESCRIPTION:Join Baltimore/DC Eshel for a Chanukah celebration on Sunday\, December 21 from 10AM to noon. The location will be shared upon signing up. Please volunteer to set up\, clean up\, give a Dvar Torah or run some games. We look forward to celebrating Chanukah among Eshel community members\, and hope to see you there!
URL:https://www.eshelonline.org/event/baltimore-chanukah-party/
END:VEVENT
BEGIN:VEVENT
DTSTART;TZID=America/New_York:20251222T120000
DTEND;TZID=America/New_York:20251222T130000
DTSTAMP:20260423T173548
CREATED:20220412T230234Z
LAST-MODIFIED:20251202T190759Z
UID:159224-1766404800-1766408400@www.eshelonline.org
SUMMARY:Israel Parent Meetup
DESCRIPTION:Join Eshel’s local chapter in Israel for parents of LGBTQ+ children. \nThis group will provide support and build community in an intimate\, confidential setting in English. This group meets in person most months\, with a Zoom meeting once per quarter. \nRegister below for monthly reminders\, links\, and location details. \n			\n			\n				\n				\n				\n				\n			\n				\n				\n				\n				\n				\n				\n				\n				\n				\n				\n				\n\n			\n				Sign up for our other newsletters
URL:https://www.eshelonline.org/event/israel-meetup-2022-05-24-2022-11-22-2022-12-19-2022-12-26-2023-09-25-2023-10-18-2024-01-17-2024-05-15-2024-06-19-2024-08-21-2024-09-18-2025-04-17-2025-08-21-2025-12-18/
END:VEVENT
BEGIN:VEVENT
DTSTART;TZID=America/New_York:20251222T210000
DTEND;TZID=America/New_York:20251222T220000
DTSTAMP:20260423T173548
CREATED:20200212T210217Z
LAST-MODIFIED:20241212T230221Z
UID:154721-1766437200-1766440800@www.eshelonline.org
SUMMARY:Parents of Trans & Gender Nonconforming Children Support Group
DESCRIPTION:What: This group is for traditional Jewish parents who may be struggling with their child’s gender identity and/or wish to connect with other parents like themselves.\n\n\n\nWhen: Fourth Monday of each month\, 9:00 PM EST – 8:00 PM CST – 6:00 PM PST \nWhere: For notifications and sign-in information\, please register below. (You only need to register for this group one time.) \nQuestions? Email info@eshelonline.org \n\n\n			\n				\n				\n				\n				\n				\n\n			\n			\n				\n				\n				\n				\n			\n				\n				\n				\n				\n				\n				\n			\n				\n				\n				\n				\n				\n				Subscribe to a Newsletter
URL:https://www.eshelonline.org/event/parents-of-transgender-and-gender-non-conforming-children-3/2025-12-22/
CATEGORIES:Events
ATTACH;FMTTYPE=image/jpeg:https://www.eshelonline.org/wp-content/uploads/2020/02/Eshel-Support-groups-and-meetups-16.jpg
END:VEVENT
BEGIN:VEVENT
DTSTART;TZID=America/New_York:20251223T203000
DTEND;TZID=America/New_York:20251223T214500
DTSTAMP:20260423T173548
CREATED:20200218T173239Z
LAST-MODIFIED:20251223T192535Z
UID:163440-1766521800-1766526300@www.eshelonline.org
SUMMARY:Women's LBTQ+ Support Group
DESCRIPTION:Women’s New York Area Meetup on Zoom \nWhat: Meet other individuals who identify as female and who are exploring their Orthodox LGBTQ+ identities. \nWhen: Meeting Weekly: Every Tuesday from 8:30 pm – 9:45 pm \nWhere: For notifications and sign-in information\, register below. (You only need to register for this group one time.)
URL:https://www.eshelonline.org/event/womens-lgbtq-support-group-2025-09-11/2025-12-23/
CATEGORIES:Events
ATTACH;FMTTYPE=image/jpeg:https://www.eshelonline.org/wp-content/uploads/2020/02/Eshel-Support-groups-and-meetups-14.jpg
END:VEVENT
BEGIN:VEVENT
DTSTART;TZID=America/New_York:20251230T203000
DTEND;TZID=America/New_York:20251230T214500
DTSTAMP:20260423T173548
CREATED:20200218T173239Z
LAST-MODIFIED:20251223T192536Z
UID:163441-1767126600-1767131100@www.eshelonline.org
SUMMARY:Women's LBTQ+ Support Group
DESCRIPTION:Women’s New York Area Meetup on Zoom \nWhat: Meet other individuals who identify as female and who are exploring their Orthodox LGBTQ+ identities. \nWhen: Meeting Weekly: Every Tuesday from 8:30 pm – 9:45 pm \nWhere: For notifications and sign-in information\, register below. (You only need to register for this group one time.)
URL:https://www.eshelonline.org/event/womens-lgbtq-support-group-2025-09-11/2025-12-30/
CATEGORIES:Events
ATTACH;FMTTYPE=image/jpeg:https://www.eshelonline.org/wp-content/uploads/2020/02/Eshel-Support-groups-and-meetups-14.jpg
END:VEVENT
BEGIN:VEVENT
DTSTART;TZID=America/New_York:20251231T120000
DTEND;TZID=America/New_York:20251231T130000
DTSTAMP:20260423T173548
CREATED:20200518T143444Z
LAST-MODIFIED:20251210T192630Z
UID:154746-1767182400-1767186000@www.eshelonline.org
SUMMARY:Parents Drop-In Support Group
DESCRIPTION:Drop-in every Wednesday to shmooze\, chat\, ask questions\, and hear topics of interest! \nFor notifications and sign-in information\, please fill out the form below. (You only need to register for this group one time.)\n			\n				\n				\n				\n				\n				\n\n			\n			\n				\n				\n				\n				\n			\n				\n				\n				\n				\n				\n				\n			\n				\n				\n				\n				\n				\n				Subscribe to a Newsletter
URL:https://www.eshelonline.org/event/parents-drop-in/2025-12-31/
CATEGORIES:Events
ATTACH;FMTTYPE=image/jpeg:https://www.eshelonline.org/wp-content/uploads/2023/09/Parents-Drop-In-1.jpg
END:VEVENT
END:VCALENDAR