BEGIN:VCALENDAR
VERSION:2.0
PRODID:-//Eshel Online - ECPv6.0.0.1//NONSGML v1.0//EN
CALSCALE:GREGORIAN
METHOD:PUBLISH
X-ORIGINAL-URL:https://www.eshelonline.org
X-WR-CALDESC:Events for Eshel Online
REFRESH-INTERVAL;VALUE=DURATION:PT1H
X-Robots-Tag:noindex
X-PUBLISHED-TTL:PT1H
BEGIN:VTIMEZONE
TZID:America/New_York
BEGIN:DAYLIGHT
TZOFFSETFROM:-0500
TZOFFSETTO:-0400
TZNAME:EDT
DTSTART:20250309T070000
END:DAYLIGHT
BEGIN:STANDARD
TZOFFSETFROM:-0400
TZOFFSETTO:-0500
TZNAME:EST
DTSTART:20251102T060000
END:STANDARD
END:VTIMEZONE
BEGIN:VEVENT
DTSTART;TZID=America/New_York:20250903T190000
DTEND;TZID=America/New_York:20250903T210000
DTSTAMP:20260423T130525
CREATED:20190418T151035Z
LAST-MODIFIED:20250825T222001Z
UID:152851-1756926000-1756933200@www.eshelonline.org
SUMMARY:Eshel Baltimore/DC Parents & LGBTQ+ Joint Meetup
DESCRIPTION:Get together with our Baltimore/DC Eshel family. Join us in this intimate\, confidential setting to meet others\, like yourself\, in the extended Eshel network. \nWHAT: A private gathering for LGBTQ+ individuals who are Orthodox\, Ortho-curious or formerly Orthodox and for traditional Jewish parents of LGBTQ+ people who may be struggling with their child’s sexual orientation or gender identity and/or wish to connect with other parents like themselves. \nWHEN: Meetings are usually held on the first Wednesday of every month\, 7:00-9:00 pm. \nWhere: For notifications and sign-in information\, please register below\, if you haven’t already. (You only need to register for this group one time.) \n			\n				\n				\n				\n				\n				\n\n			\n			\n				\n				\n				\n				\n			\n				\n				\n				\n				\n				\n				\n			\n				\n				\n				\n				\n				\n				Subscribe to a Newsletter
URL:https://www.eshelonline.org/event/baltimore-d-c-meet-up-2021-12-01/2025-09-03/
CATEGORIES:Events
ATTACH;FMTTYPE=image/jpeg:https://www.eshelonline.org/wp-content/uploads/2017/01/orthodox-lgbtq-support-group-meetup.jpg
END:VEVENT
BEGIN:VEVENT
DTSTART;TZID=America/New_York:20250904T203000
DTEND;TZID=America/New_York:20250904T214500
DTSTAMP:20260423T130525
CREATED:20200218T173239Z
LAST-MODIFIED:20250519T173346Z
UID:159482-1757017800-1757022300@www.eshelonline.org
SUMMARY:Women's LBTQ+ Support Group
DESCRIPTION:Women’s New York Area Meetup on Zoom \nWhat: Meet other individuals who identify as female and who are exploring their Orthodox LGBTQ+ identities. \nWhen: Meeting Weekly: Every THURSDAY (Previously Tuesday) from 8:30 pm – 9:45 pm \nWhere: For notifications and sign-in information\, register below. (You only need to register for this group one time.)
URL:https://www.eshelonline.org/event/womens-lgbtq-support-group/2025-09-04/
CATEGORIES:Events
ATTACH;FMTTYPE=image/jpeg:https://www.eshelonline.org/wp-content/uploads/2020/02/Eshel-Support-groups-and-meetups-14.jpg
END:VEVENT
BEGIN:VEVENT
DTSTART;TZID=America/New_York:20250908T193000
DTEND;TZID=America/New_York:20250908T213000
DTSTAMP:20260423T130525
CREATED:20250819T162526Z
LAST-MODIFIED:20250902T144606Z
UID:163284-1757359800-1757367000@www.eshelonline.org
SUMMARY:Elul Empowerment
DESCRIPTION:Join Eshel for a night of spiritual introspection as we approach the Yamim Noraim\, with text study and meditation led by our new Program Director\, Mendel Weintraub. At this event\, we will explore lessons relevant to the High Holidays from Chassidic texts\, which offer an uplifting and joyful vision of how to achieve divine connection in Elul\, even in the face of self-doubt. Pizza and refreshments will be served. Admission free. All ages welcome. \nWhen: September 8 at 7:30 pm \nWhere: Marlene Meyerson JCC Manhattan\, Floor 1.5 classroom
URL:https://www.eshelonline.org/event/elul-empowerment/
ATTACH;FMTTYPE=image/png:https://www.eshelonline.org/wp-content/uploads/2025/08/Elul-empowerment-september-8-2025.png
END:VEVENT
BEGIN:VEVENT
DTSTART;TZID=America/New_York:20250909T190000
DTEND;TZID=America/New_York:20250909T190000
DTSTAMP:20260423T130525
CREATED:20250721T160707Z
LAST-MODIFIED:20250903T203010Z
UID:163182-1757444400-1757444400@www.eshelonline.org
SUMMARY:Silver Spring Parent Meetup
DESCRIPTION:Connect with other parents of LGBTQ+  children in the DC\, Maryland\, and Virginia area. This is a great opportunity to learn from one another and build our community. At this meetup\, we’ll be discussing coming out to extended family\, including grandparents\, aunts and uncles\, and more\, and the impact on our larger family dynamics.
URL:https://www.eshelonline.org/event/silver-spring-parent-meetup-2/
ATTACH;FMTTYPE=image/jpeg:https://www.eshelonline.org/wp-content/uploads/2025/07/silver-spring-parents-3.jpg
END:VEVENT
BEGIN:VEVENT
DTSTART;TZID=America/New_York:20250910T120000
DTEND;TZID=America/New_York:20250910T130000
DTSTAMP:20260423T130525
CREATED:20200518T143444Z
LAST-MODIFIED:20251210T192618Z
UID:152874-1757505600-1757509200@www.eshelonline.org
SUMMARY:Parents Drop-In Support Group
DESCRIPTION:Drop-in every Wednesday to shmooze\, chat\, ask questions\, and hear topics of interest! \nFor notifications and sign-in information\, please fill out the form below. (You only need to register for this group one time.)\n			\n				\n				\n				\n				\n				\n\n			\n			\n				\n				\n				\n				\n			\n				\n				\n				\n				\n				\n				\n			\n				\n				\n				\n				\n				\n				Subscribe to a Newsletter
URL:https://www.eshelonline.org/event/parents-drop-in/2025-09-10/
CATEGORIES:Events
ATTACH;FMTTYPE=image/jpeg:https://www.eshelonline.org/wp-content/uploads/2023/09/Parents-Drop-In-1.jpg
END:VEVENT
BEGIN:VEVENT
DTSTART;TZID=America/New_York:20250915T200000
DTEND;TZID=America/New_York:20250915T210000
DTSTAMP:20260423T130525
CREATED:20230926T162921Z
LAST-MODIFIED:20250911T145200Z
UID:154344-1757966400-1757970000@www.eshelonline.org
SUMMARY:LGBTQ+ Support Group
DESCRIPTION:A confidential space for LGBTQ+ adults who are Orthodox\, formerly Orthodox\, or Orthodox-adjacent to access peer support\, share their experiences\, and connect and gain insights from others. \n  \nSecond Monday of the month \n8:00 pm ET\, 7:00 pm CT\, 6:00 pm MT\, 5:00 pm PT \nRegister below for Zoom link and to receive notifications each month.
URL:https://www.eshelonline.org/event/lgbtq-support-group-2-2024-01-01-2025-09-08/
ATTACH;FMTTYPE=image/png:https://www.eshelonline.org/wp-content/uploads/2023/09/Eshel-Support-groups-and-meetups.png
END:VEVENT
BEGIN:VEVENT
DTSTART;TZID=America/New_York:20250916T203000
DTEND;TZID=America/New_York:20250916T214500
DTSTAMP:20260423T130525
CREATED:20200218T173239Z
LAST-MODIFIED:20251223T192524Z
UID:159483-1758054600-1758059100@www.eshelonline.org
SUMMARY:Women's LBTQ+ Support Group
DESCRIPTION:Women’s New York Area Meetup on Zoom \nWhat: Meet other individuals who identify as female and who are exploring their Orthodox LGBTQ+ identities. \nWhen: Meeting Weekly: Every Tuesday from 8:30 pm – 9:45 pm \nWhere: For notifications and sign-in information\, register below. (You only need to register for this group one time.)
URL:https://www.eshelonline.org/event/womens-lgbtq-support-group-2025-09-11/2025-09-16/
CATEGORIES:Events
ATTACH;FMTTYPE=image/jpeg:https://www.eshelonline.org/wp-content/uploads/2020/02/Eshel-Support-groups-and-meetups-14.jpg
END:VEVENT
BEGIN:VEVENT
DTSTART;TZID=America/New_York:20250917T120000
DTEND;TZID=America/New_York:20250917T130000
DTSTAMP:20260423T130525
CREATED:20200518T143444Z
LAST-MODIFIED:20251210T192619Z
UID:153149-1758110400-1758114000@www.eshelonline.org
SUMMARY:Parents Drop-In Support Group
DESCRIPTION:Drop-in every Wednesday to shmooze\, chat\, ask questions\, and hear topics of interest! \nFor notifications and sign-in information\, please fill out the form below. (You only need to register for this group one time.)\n			\n				\n				\n				\n				\n				\n\n			\n			\n				\n				\n				\n				\n			\n				\n				\n				\n				\n				\n				\n			\n				\n				\n				\n				\n				\n				Subscribe to a Newsletter
URL:https://www.eshelonline.org/event/parents-drop-in/2025-09-17/
CATEGORIES:Events
ATTACH;FMTTYPE=image/jpeg:https://www.eshelonline.org/wp-content/uploads/2023/09/Parents-Drop-In-1.jpg
END:VEVENT
BEGIN:VEVENT
DTSTART;TZID=America/New_York:20250917T190000
DTEND;TZID=America/New_York:20250917T190000
DTSTAMP:20260423T130525
CREATED:20220412T230234Z
LAST-MODIFIED:20250904T133323Z
UID:159221-1758135600-1758135600@www.eshelonline.org
SUMMARY:Israel Parent Meetup
DESCRIPTION:Join Eshel’s local chapter in Israel for parents of LGBTQ+ children. \nThis group will provide support and build community in an intimate\, confidential setting in English. This group meets in person most months\, with a Zoom meeting once per quarter. \nRegister below for monthly reminders\, links\, and location details. \n			\n			\n				\n				\n				\n				\n			\n				\n				\n				\n				\n				\n				\n				\n				\n				\n				\n				\n\n			\n				Sign up for our other newsletters
URL:https://www.eshelonline.org/event/israel-meetup-2025-09-17/
END:VEVENT
BEGIN:VEVENT
DTSTART;TZID=America/New_York:20250918T210000
DTEND;TZID=America/New_York:20250918T223000
DTSTAMP:20260423T130526
CREATED:20201104T174130Z
LAST-MODIFIED:20240904T162618Z
UID:153165-1758229200-1758234600@www.eshelonline.org
SUMMARY:Orthodox+* People of Trans Experience Support Group
DESCRIPTION:Welcome to Eshel’s Meetup!\nWhat: This virtual support group will be a space for people who identify as transgender\, non-binary\, and gender questioning. All shades of Orthodox including Chareidi\, Modern Orthodox\, Ex-Orthodox\, are welcome to come and share in a safe and confidential virtual group. \nWhen: Meetings will be held on the third Thursday of every month at 9 pm EST – 6 pm PST. \nWhere: For notifications and sign-in information\, please register below. (You only need to register for this group one time.) \nThis group is confidential: all attendees are required to adhere to the privacy of its members. \nAbout the Group Coordinator \nThis Eshel Meetup is led by Joshua Avishur\, a transgender Orthodox Jew who enjoys connecting with people and embracing the beauty in all individuals. Joshua is a Masters-in-Social-Work student with experience in mentoring LGBTQ+ folk and developing and leading therapy groups for children and individual counseling with at-risk youth. Joshua is also a transgender panel moderator and panelist. \n			\n				\n				\n				\n				\n				\n\n			\n			\n				\n				\n				\n				\n			\n				\n				\n				\n				\n				\n				\n			\n				\n				\n				\n				\n				\n				Subscribe to a Newsletter
URL:https://www.eshelonline.org/event/a-support-group-for-orthodox-people-of-trans-experience/2025-09-18/
CATEGORIES:Events
ATTACH;FMTTYPE=image/jpeg:https://www.eshelonline.org/wp-content/uploads/2020/11/Eshel-Support-groups-and-meetups-15.jpg
END:VEVENT
BEGIN:VEVENT
DTSTART;TZID=America/New_York:20250929T210000
DTEND;TZID=America/New_York:20250929T220000
DTSTAMP:20260423T130526
CREATED:20200212T210217Z
LAST-MODIFIED:20250922T165206Z
UID:153199-1759179600-1759183200@www.eshelonline.org
SUMMARY:Parents of Trans & Gender Nonconforming Children Support Group
DESCRIPTION:What: This group is for traditional Jewish parents who may be struggling with their child’s gender identity and/or wish to connect with other parents like themselves.\n\n\n\nWhen: Fourth Monday of each month\, 9:00 PM EST – 8:00 PM CST – 6:00 PM PST \nWhere: For notifications and sign-in information\, please register below. (You only need to register for this group one time.) \nQuestions? Email info@eshelonline.org \n\n\n			\n				\n				\n				\n				\n				\n\n			\n			\n				\n				\n				\n				\n			\n				\n				\n				\n				\n				\n				\n			\n				\n				\n				\n				\n				\n				Subscribe to a Newsletter
URL:https://www.eshelonline.org/event/parents-of-transgender-and-gender-non-conforming-children-3-2025-09-22/
CATEGORIES:Events
ATTACH;FMTTYPE=image/jpeg:https://www.eshelonline.org/wp-content/uploads/2020/02/Eshel-Support-groups-and-meetups-16.jpg
END:VEVENT
BEGIN:VEVENT
DTSTART;TZID=America/New_York:20250930T203000
DTEND;TZID=America/New_York:20250930T214500
DTSTAMP:20260423T130526
CREATED:20200218T173239Z
LAST-MODIFIED:20251223T192524Z
UID:163428-1759264200-1759268700@www.eshelonline.org
SUMMARY:Women's LBTQ+ Support Group
DESCRIPTION:Women’s New York Area Meetup on Zoom \nWhat: Meet other individuals who identify as female and who are exploring their Orthodox LGBTQ+ identities. \nWhen: Meeting Weekly: Every Tuesday from 8:30 pm – 9:45 pm \nWhere: For notifications and sign-in information\, register below. (You only need to register for this group one time.)
URL:https://www.eshelonline.org/event/womens-lgbtq-support-group-2025-09-11/2025-09-30/
CATEGORIES:Events
ATTACH;FMTTYPE=image/jpeg:https://www.eshelonline.org/wp-content/uploads/2020/02/Eshel-Support-groups-and-meetups-14.jpg
END:VEVENT
END:VCALENDAR