BEGIN:VCALENDAR
VERSION:2.0
PRODID:-//Eshel Online - ECPv6.0.0.1//NONSGML v1.0//EN
CALSCALE:GREGORIAN
METHOD:PUBLISH
X-ORIGINAL-URL:https://www.eshelonline.org
X-WR-CALDESC:Events for Eshel Online
REFRESH-INTERVAL;VALUE=DURATION:PT1H
X-Robots-Tag:noindex
X-PUBLISHED-TTL:PT1H
BEGIN:VTIMEZONE
TZID:America/New_York
BEGIN:DAYLIGHT
TZOFFSETFROM:-0500
TZOFFSETTO:-0400
TZNAME:EDT
DTSTART:20250309T070000
END:DAYLIGHT
BEGIN:STANDARD
TZOFFSETFROM:-0400
TZOFFSETTO:-0500
TZNAME:EST
DTSTART:20251102T060000
END:STANDARD
END:VTIMEZONE
BEGIN:VEVENT
DTSTART;TZID=America/New_York:20250804T200000
DTEND;TZID=America/New_York:20250804T210000
DTSTAMP:20260423T143738
CREATED:20230912T015346Z
LAST-MODIFIED:20240819T154207Z
UID:152955-1754337600-1754341200@www.eshelonline.org
SUMMARY:Parents Drop-In Support Group
DESCRIPTION:Join our drop-in support group for parents! We meet every Wednesday at noon ET and the first Monday every month at 8pm ET. \nFor notifications and sign-in information\, please fill out the form below. (You only need to register for this group one time.) \n			\n				\n				\n				\n				\n				\n\n  hbspt.forms.create({\n    region: "na1"\,\n    portalId: "7837587"\,\n    formId: "7671fe05-c022-4625-b646-4d6c927cbdff"\n  });\n\n			\n			\n				\n				\n				\n				\n			\n				\n				\n				\n				\n				\n				\n				Sign up to Join\n			\n			\n				\n				\n				\n				\n				\n				Subscribe to a Newsletter
URL:https://www.eshelonline.org/event/drop-in-parents-support-group/2025-08-04/
ATTACH;FMTTYPE=image/jpeg:https://www.eshelonline.org/wp-content/uploads/2023/09/Parents-Drop-In-1.jpg
END:VEVENT
BEGIN:VEVENT
DTSTART;TZID=America/New_York:20250806T120000
DTEND;TZID=America/New_York:20250806T130000
DTSTAMP:20260423T143738
CREATED:20200518T143444Z
LAST-MODIFIED:20251210T192615Z
UID:152396-1754481600-1754485200@www.eshelonline.org
SUMMARY:Parents Drop-In Support Group
DESCRIPTION:Drop-in every Wednesday to shmooze\, chat\, ask questions\, and hear topics of interest! \nFor notifications and sign-in information\, please fill out the form below. (You only need to register for this group one time.)\n			\n				\n				\n				\n				\n				\n\n			\n			\n				\n				\n				\n				\n			\n				\n				\n				\n				\n				\n				\n			\n				\n				\n				\n				\n				\n				Subscribe to a Newsletter
URL:https://www.eshelonline.org/event/parents-drop-in/2025-08-06/
CATEGORIES:Events
ATTACH;FMTTYPE=image/jpeg:https://www.eshelonline.org/wp-content/uploads/2023/09/Parents-Drop-In-1.jpg
END:VEVENT
BEGIN:VEVENT
DTSTART;TZID=America/New_York:20250807T203000
DTEND;TZID=America/New_York:20250807T214500
DTSTAMP:20260423T143738
CREATED:20200218T173239Z
LAST-MODIFIED:20250519T173342Z
UID:159478-1754598600-1754603100@www.eshelonline.org
SUMMARY:Women's LBTQ+ Support Group
DESCRIPTION:Women’s New York Area Meetup on Zoom \nWhat: Meet other individuals who identify as female and who are exploring their Orthodox LGBTQ+ identities. \nWhen: Meeting Weekly: Every THURSDAY (Previously Tuesday) from 8:30 pm – 9:45 pm \nWhere: For notifications and sign-in information\, register below. (You only need to register for this group one time.)
URL:https://www.eshelonline.org/event/womens-lgbtq-support-group/2025-08-07/
CATEGORIES:Events
ATTACH;FMTTYPE=image/jpeg:https://www.eshelonline.org/wp-content/uploads/2020/02/Eshel-Support-groups-and-meetups-14.jpg
END:VEVENT
BEGIN:VEVENT
DTSTART;TZID=America/New_York:20250811T200000
DTEND;TZID=America/New_York:20250811T210000
DTSTAMP:20260423T143738
CREATED:20230926T162921Z
LAST-MODIFIED:20251126T132111Z
UID:154343-1754942400-1754946000@www.eshelonline.org
SUMMARY:LGBTQ+ Support Group
DESCRIPTION:A confidential space for LGBTQ+ adults who are Orthodox\, formerly Orthodox\, or Orthodox-adjacent to access peer support\, share their experiences\, and connect and gain insights from others. \n  \nSecond Monday of the month \n8:00 pm ET\, 7:00 pm CT\, 6:00 pm MT\, 5:00 pm PT \nRegister below for Zoom link and to receive notifications each month.
URL:https://www.eshelonline.org/event/lgbtq-support-group-2-2024-01-01/2025-08-11/
ATTACH;FMTTYPE=image/png:https://www.eshelonline.org/wp-content/uploads/2023/09/Eshel-Support-groups-and-meetups.png
END:VEVENT
BEGIN:VEVENT
DTSTART;TZID=America/New_York:20250813T120000
DTEND;TZID=America/New_York:20250813T130000
DTSTAMP:20260423T143738
CREATED:20200518T143444Z
LAST-MODIFIED:20251210T192616Z
UID:152503-1755086400-1755090000@www.eshelonline.org
SUMMARY:Parents Drop-In Support Group
DESCRIPTION:Drop-in every Wednesday to shmooze\, chat\, ask questions\, and hear topics of interest! \nFor notifications and sign-in information\, please fill out the form below. (You only need to register for this group one time.)\n			\n				\n				\n				\n				\n				\n\n			\n			\n				\n				\n				\n				\n			\n				\n				\n				\n				\n				\n				\n			\n				\n				\n				\n				\n				\n				Subscribe to a Newsletter
URL:https://www.eshelonline.org/event/parents-drop-in/2025-08-13/
CATEGORIES:Events
ATTACH;FMTTYPE=image/jpeg:https://www.eshelonline.org/wp-content/uploads/2023/09/Parents-Drop-In-1.jpg
END:VEVENT
BEGIN:VEVENT
DTSTART;TZID=America/New_York:20250814T203000
DTEND;TZID=America/New_York:20250814T214500
DTSTAMP:20260423T143738
CREATED:20200218T173239Z
LAST-MODIFIED:20250519T173343Z
UID:159479-1755203400-1755207900@www.eshelonline.org
SUMMARY:Women's LBTQ+ Support Group
DESCRIPTION:Women’s New York Area Meetup on Zoom \nWhat: Meet other individuals who identify as female and who are exploring their Orthodox LGBTQ+ identities. \nWhen: Meeting Weekly: Every THURSDAY (Previously Tuesday) from 8:30 pm – 9:45 pm \nWhere: For notifications and sign-in information\, register below. (You only need to register for this group one time.)
URL:https://www.eshelonline.org/event/womens-lgbtq-support-group/2025-08-14/
CATEGORIES:Events
ATTACH;FMTTYPE=image/jpeg:https://www.eshelonline.org/wp-content/uploads/2020/02/Eshel-Support-groups-and-meetups-14.jpg
END:VEVENT
BEGIN:VEVENT
DTSTART;TZID=America/New_York:20250818T200000
DTEND;TZID=America/New_York:20250818T213000
DTSTAMP:20260423T143738
CREATED:20200219T143836Z
LAST-MODIFIED:20251111T001744Z
UID:152748-1755547200-1755552600@www.eshelonline.org
SUMMARY:South Florida LGBTQ+ & Parents Meetup
DESCRIPTION:What: Meet other LGBTQ+ individuals in the area of Miami\, Florida! Family members and relatives of LGBTQ+ folks are also welcome to join! Our coordinators speak Spanish and French. \nWhen: The third Monday of each month from 8:00 pm – 9:00 pm. \nWhere: For notifications and sign-in information\, please register below. (You only need to register for this group one time.) \nFor more information or questions\, please contact us at southflorida@eshelonline.org. \n			\n				\n				\n				\n				\n				\n\n			\n			\n				\n				\n				\n				\n			\n				\n				\n				\n				\n				\n				\n			\n				\n				\n				\n				\n				\n				Subscribe to a Newsletter
URL:https://www.eshelonline.org/event/south-florida-meetup/2025-08-18/
CATEGORIES:Events
ATTACH;FMTTYPE=image/jpeg:https://www.eshelonline.org/wp-content/uploads/2020/02/Eshel-Support-groups-and-meetups-12.jpg
END:VEVENT
BEGIN:VEVENT
DTSTART;TZID=America/New_York:20250820T120000
DTEND;TZID=America/New_York:20250820T130000
DTSTAMP:20260423T143738
CREATED:20200518T143444Z
LAST-MODIFIED:20251210T192617Z
UID:152754-1755691200-1755694800@www.eshelonline.org
SUMMARY:Parents Drop-In Support Group
DESCRIPTION:Drop-in every Wednesday to shmooze\, chat\, ask questions\, and hear topics of interest! \nFor notifications and sign-in information\, please fill out the form below. (You only need to register for this group one time.)\n			\n				\n				\n				\n				\n				\n\n			\n			\n				\n				\n				\n				\n			\n				\n				\n				\n				\n				\n				\n			\n				\n				\n				\n				\n				\n				Subscribe to a Newsletter
URL:https://www.eshelonline.org/event/parents-drop-in/2025-08-20/
CATEGORIES:Events
ATTACH;FMTTYPE=image/jpeg:https://www.eshelonline.org/wp-content/uploads/2023/09/Parents-Drop-In-1.jpg
END:VEVENT
BEGIN:VEVENT
DTSTART;TZID=America/New_York:20250821T203000
DTEND;TZID=America/New_York:20250821T214500
DTSTAMP:20260423T143738
CREATED:20200218T173239Z
LAST-MODIFIED:20250519T173344Z
UID:159480-1755808200-1755812700@www.eshelonline.org
SUMMARY:Women's LBTQ+ Support Group
DESCRIPTION:Women’s New York Area Meetup on Zoom \nWhat: Meet other individuals who identify as female and who are exploring their Orthodox LGBTQ+ identities. \nWhen: Meeting Weekly: Every THURSDAY (Previously Tuesday) from 8:30 pm – 9:45 pm \nWhere: For notifications and sign-in information\, register below. (You only need to register for this group one time.)
URL:https://www.eshelonline.org/event/womens-lgbtq-support-group/2025-08-21/
CATEGORIES:Events
ATTACH;FMTTYPE=image/jpeg:https://www.eshelonline.org/wp-content/uploads/2020/02/Eshel-Support-groups-and-meetups-14.jpg
END:VEVENT
BEGIN:VEVENT
DTSTART;TZID=America/New_York:20250821T210000
DTEND;TZID=America/New_York:20250821T223000
DTSTAMP:20260423T143738
CREATED:20201104T174130Z
LAST-MODIFIED:20240904T162617Z
UID:152811-1755810000-1755815400@www.eshelonline.org
SUMMARY:Orthodox+* People of Trans Experience Support Group
DESCRIPTION:Welcome to Eshel’s Meetup!\nWhat: This virtual support group will be a space for people who identify as transgender\, non-binary\, and gender questioning. All shades of Orthodox including Chareidi\, Modern Orthodox\, Ex-Orthodox\, are welcome to come and share in a safe and confidential virtual group. \nWhen: Meetings will be held on the third Thursday of every month at 9 pm EST – 6 pm PST. \nWhere: For notifications and sign-in information\, please register below. (You only need to register for this group one time.) \nThis group is confidential: all attendees are required to adhere to the privacy of its members. \nAbout the Group Coordinator \nThis Eshel Meetup is led by Joshua Avishur\, a transgender Orthodox Jew who enjoys connecting with people and embracing the beauty in all individuals. Joshua is a Masters-in-Social-Work student with experience in mentoring LGBTQ+ folk and developing and leading therapy groups for children and individual counseling with at-risk youth. Joshua is also a transgender panel moderator and panelist. \n			\n				\n				\n				\n				\n				\n\n			\n			\n				\n				\n				\n				\n			\n				\n				\n				\n				\n				\n				\n			\n				\n				\n				\n				\n				\n				Subscribe to a Newsletter
URL:https://www.eshelonline.org/event/a-support-group-for-orthodox-people-of-trans-experience/2025-08-21/
CATEGORIES:Events
ATTACH;FMTTYPE=image/jpeg:https://www.eshelonline.org/wp-content/uploads/2020/11/Eshel-Support-groups-and-meetups-15.jpg
END:VEVENT
BEGIN:VEVENT
DTSTART;TZID=America/New_York:20250825T210000
DTEND;TZID=America/New_York:20250825T220000
DTSTAMP:20260423T143738
CREATED:20200212T210217Z
LAST-MODIFIED:20241212T230218Z
UID:152823-1756155600-1756159200@www.eshelonline.org
SUMMARY:Parents of Trans & Gender Nonconforming Children Support Group
DESCRIPTION:What: This group is for traditional Jewish parents who may be struggling with their child’s gender identity and/or wish to connect with other parents like themselves.\n\n\n\nWhen: Fourth Monday of each month\, 9:00 PM EST – 8:00 PM CST – 6:00 PM PST \nWhere: For notifications and sign-in information\, please register below. (You only need to register for this group one time.) \nQuestions? Email info@eshelonline.org \n\n\n			\n				\n				\n				\n				\n				\n\n			\n			\n				\n				\n				\n				\n			\n				\n				\n				\n				\n				\n				\n			\n				\n				\n				\n				\n				\n				Subscribe to a Newsletter
URL:https://www.eshelonline.org/event/parents-of-transgender-and-gender-non-conforming-children-3/2025-08-25/
CATEGORIES:Events
ATTACH;FMTTYPE=image/jpeg:https://www.eshelonline.org/wp-content/uploads/2020/02/Eshel-Support-groups-and-meetups-16.jpg
END:VEVENT
BEGIN:VEVENT
DTSTART;TZID=America/New_York:20250828T203000
DTEND;TZID=America/New_York:20250828T214500
DTSTAMP:20260423T143738
CREATED:20200218T173239Z
LAST-MODIFIED:20250519T173345Z
UID:159481-1756413000-1756417500@www.eshelonline.org
SUMMARY:Women's LBTQ+ Support Group
DESCRIPTION:Women’s New York Area Meetup on Zoom \nWhat: Meet other individuals who identify as female and who are exploring their Orthodox LGBTQ+ identities. \nWhen: Meeting Weekly: Every THURSDAY (Previously Tuesday) from 8:30 pm – 9:45 pm \nWhere: For notifications and sign-in information\, register below. (You only need to register for this group one time.)
URL:https://www.eshelonline.org/event/womens-lgbtq-support-group/2025-08-28/
CATEGORIES:Events
ATTACH;FMTTYPE=image/jpeg:https://www.eshelonline.org/wp-content/uploads/2020/02/Eshel-Support-groups-and-meetups-14.jpg
END:VEVENT
END:VCALENDAR