BEGIN:VCALENDAR
VERSION:2.0
PRODID:-//Eshel Online - ECPv6.0.0.1//NONSGML v1.0//EN
CALSCALE:GREGORIAN
METHOD:PUBLISH
X-WR-CALNAME:Eshel Online
X-ORIGINAL-URL:https://www.eshelonline.org
X-WR-CALDESC:Events for Eshel Online
REFRESH-INTERVAL;VALUE=DURATION:PT1H
X-Robots-Tag:noindex
X-PUBLISHED-TTL:PT1H
BEGIN:VTIMEZONE
TZID:America/New_York
BEGIN:DAYLIGHT
TZOFFSETFROM:-0500
TZOFFSETTO:-0400
TZNAME:EDT
DTSTART:20250309T070000
END:DAYLIGHT
BEGIN:STANDARD
TZOFFSETFROM:-0400
TZOFFSETTO:-0500
TZNAME:EST
DTSTART:20251102T060000
END:STANDARD
END:VTIMEZONE
BEGIN:VEVENT
DTSTART;TZID=America/New_York:20250501T203000
DTEND;TZID=America/New_York:20250501T214500
DTSTAMP:20260421T061840
CREATED:20200218T173239Z
LAST-MODIFIED:20250519T173327Z
UID:159464-1746131400-1746135900@www.eshelonline.org
SUMMARY:Women's LBTQ+ Support Group
DESCRIPTION:Women’s New York Area Meetup on Zoom \nWhat: Meet other individuals who identify as female and who are exploring their Orthodox LGBTQ+ identities. \nWhen: Meeting Weekly: Every THURSDAY (Previously Tuesday) from 8:30 pm – 9:45 pm \nWhere: For notifications and sign-in information\, register below. (You only need to register for this group one time.)
URL:https://www.eshelonline.org/event/womens-lgbtq-support-group/2025-05-01/
CATEGORIES:Events
ATTACH;FMTTYPE=image/jpeg:https://www.eshelonline.org/wp-content/uploads/2020/02/Eshel-Support-groups-and-meetups-14.jpg
END:VEVENT
BEGIN:VEVENT
DTSTART;TZID=America/New_York:20250505T193000
DTEND;TZID=America/New_York:20250505T210000
DTSTAMP:20260421T061840
CREATED:20240214T185353Z
LAST-MODIFIED:20250422T203008Z
UID:155360-1746473400-1746478800@www.eshelonline.org
SUMMARY:New York City Paint and Sip
DESCRIPTION:Unwind and get creative at our evening of painting\, sipping\, and socializing. Enjoy a relaxed atmosphere where you can tap into your artistic side while savoring a glass of bubbly\, a refreshing non-alcoholic beverage\, and light refreshments. All art supplies are provided—just bring your imagination and a sense of fun. It’s the perfect night to explore your creativity\, enjoy some tasty snacks\, and connect with others over drinks and art.
URL:https://www.eshelonline.org/event/new-york-city-paint-and-sip-05-05-2025/
END:VEVENT
BEGIN:VEVENT
DTSTART;TZID=America/New_York:20250505T200000
DTEND;TZID=America/New_York:20250505T210000
DTSTAMP:20260421T061840
CREATED:20230912T015346Z
LAST-MODIFIED:20240819T152115Z
UID:152952-1746475200-1746478800@www.eshelonline.org
SUMMARY:Parents Drop-In Support Group
DESCRIPTION:Join our drop-in support group for parents! We meet every Wednesday at noon ET and the first Monday every month at 8pm ET. \nFor notifications and sign-in information\, please fill out the form below. (You only need to register for this group one time.) \n			\n				\n				\n				\n				\n				\n\n			\n			\n				\n				\n				\n				\n			\n				\n				\n				\n				\n				\n				\n				Sign up to Join\n			\n			\n				\n				\n				\n				\n				\n				Subscribe to a Newsletter
URL:https://www.eshelonline.org/event/drop-in-parents-support-group/2025-05-05/
ATTACH;FMTTYPE=image/jpeg:https://www.eshelonline.org/wp-content/uploads/2023/09/Parents-Drop-In-1.jpg
END:VEVENT
BEGIN:VEVENT
DTSTART;TZID=America/New_York:20250507T123000
DTEND;TZID=America/New_York:20250507T130000
DTSTAMP:20260421T061840
CREATED:20220412T230234Z
LAST-MODIFIED:20250504T081732Z
UID:159217-1746621000-1746622800@www.eshelonline.org
SUMMARY:Israel Parent Meetup
DESCRIPTION:Join Eshel’s local chapter in Israel for parents of LGBTQ+ children. \nThis group will provide support and build community in an intimate\, confidential setting in English. This group meets in person most months\, with a Zoom meeting once per quarter. \nRegister below for monthly reminders\, links\, and location details. \n			\n			\n				\n				\n				\n				\n			\n				\n				\n				\n				\n				\n				\n				\n				\n				\n				\n				\n\n			\n				Sign up for our other newsletters
URL:https://www.eshelonline.org/event/israel-meetup-2022-05-24-2022-11-22-2022-12-19-2022-12-26-2023-09-25-2023-10-18-2024-01-17-2024-05-15-2024-06-19-2024-08-21-2024-09-18-2025-04-17-2025-05-15/
END:VEVENT
BEGIN:VEVENT
DTSTART;TZID=America/New_York:20250507T190000
DTEND;TZID=America/New_York:20250507T210000
DTSTAMP:20260421T061840
CREATED:20190418T151035Z
LAST-MODIFIED:20250825T221959Z
UID:151480-1746644400-1746651600@www.eshelonline.org
SUMMARY:Eshel Baltimore/DC Parents & LGBTQ+ Joint Meetup
DESCRIPTION:Get together with our Baltimore/DC Eshel family. Join us in this intimate\, confidential setting to meet others\, like yourself\, in the extended Eshel network. \nWHAT: A private gathering for LGBTQ+ individuals who are Orthodox\, Ortho-curious or formerly Orthodox and for traditional Jewish parents of LGBTQ+ people who may be struggling with their child’s sexual orientation or gender identity and/or wish to connect with other parents like themselves. \nWHEN: Meetings are usually held on the first Wednesday of every month\, 7:00-9:00 pm. \nWhere: For notifications and sign-in information\, please register below\, if you haven’t already. (You only need to register for this group one time.) \n			\n				\n				\n				\n				\n				\n\n			\n			\n				\n				\n				\n				\n			\n				\n				\n				\n				\n				\n				\n			\n				\n				\n				\n				\n				\n				Subscribe to a Newsletter
URL:https://www.eshelonline.org/event/baltimore-d-c-meet-up-2021-12-01/2025-05-07/
CATEGORIES:Events
ATTACH;FMTTYPE=image/jpeg:https://www.eshelonline.org/wp-content/uploads/2017/01/orthodox-lgbtq-support-group-meetup.jpg
END:VEVENT
BEGIN:VEVENT
DTSTART;VALUE=DATE:20250508
DTEND;VALUE=DATE:20250512
DTSTAMP:20260421T061840
CREATED:20250131T193818Z
LAST-MODIFIED:20250210T221917Z
UID:161283-1746662400-1747007999@www.eshelonline.org
SUMMARY:2025 Eshel Parent Retreat
DESCRIPTION:Learn More!
URL:https://www.eshelonline.org/event/2025-eshel-parent-retreat/
ATTACH;FMTTYPE=image/jpeg:https://www.eshelonline.org/wp-content/uploads/2025/01/main-graphic.jpg
END:VEVENT
BEGIN:VEVENT
DTSTART;TZID=America/New_York:20250508T203000
DTEND;TZID=America/New_York:20250508T214500
DTSTAMP:20260421T061840
CREATED:20200218T173239Z
LAST-MODIFIED:20250519T173328Z
UID:159465-1746736200-1746740700@www.eshelonline.org
SUMMARY:Women's LBTQ+ Support Group
DESCRIPTION:Women’s New York Area Meetup on Zoom \nWhat: Meet other individuals who identify as female and who are exploring their Orthodox LGBTQ+ identities. \nWhen: Meeting Weekly: Every THURSDAY (Previously Tuesday) from 8:30 pm – 9:45 pm \nWhere: For notifications and sign-in information\, register below. (You only need to register for this group one time.)
URL:https://www.eshelonline.org/event/womens-lgbtq-support-group/2025-05-08/
CATEGORIES:Events
ATTACH;FMTTYPE=image/jpeg:https://www.eshelonline.org/wp-content/uploads/2020/02/Eshel-Support-groups-and-meetups-14.jpg
END:VEVENT
BEGIN:VEVENT
DTSTART;TZID=America/New_York:20250512T200000
DTEND;TZID=America/New_York:20250512T210000
DTSTAMP:20260421T061840
CREATED:20230926T162921Z
LAST-MODIFIED:20251126T132109Z
UID:154340-1747080000-1747083600@www.eshelonline.org
SUMMARY:LGBTQ+ Support Group
DESCRIPTION:A confidential space for LGBTQ+ adults who are Orthodox\, formerly Orthodox\, or Orthodox-adjacent to access peer support\, share their experiences\, and connect and gain insights from others. \n  \nSecond Monday of the month \n8:00 pm ET\, 7:00 pm CT\, 6:00 pm MT\, 5:00 pm PT \nRegister below for Zoom link and to receive notifications each month.
URL:https://www.eshelonline.org/event/lgbtq-support-group-2-2024-01-01/2025-05-12/
ATTACH;FMTTYPE=image/png:https://www.eshelonline.org/wp-content/uploads/2023/09/Eshel-Support-groups-and-meetups.png
END:VEVENT
BEGIN:VEVENT
DTSTART;TZID=America/New_York:20250514T120000
DTEND;TZID=America/New_York:20250514T130000
DTSTAMP:20260421T061841
CREATED:20200518T143444Z
LAST-MODIFIED:20251210T192606Z
UID:151506-1747224000-1747227600@www.eshelonline.org
SUMMARY:Parents Drop-In Support Group
DESCRIPTION:Drop-in every Wednesday to shmooze\, chat\, ask questions\, and hear topics of interest! \nFor notifications and sign-in information\, please fill out the form below. (You only need to register for this group one time.)\n			\n				\n				\n				\n				\n				\n\n			\n			\n				\n				\n				\n				\n			\n				\n				\n				\n				\n				\n				\n			\n				\n				\n				\n				\n				\n				Subscribe to a Newsletter
URL:https://www.eshelonline.org/event/parents-drop-in/2025-05-14/
CATEGORIES:Events
ATTACH;FMTTYPE=image/jpeg:https://www.eshelonline.org/wp-content/uploads/2023/09/Parents-Drop-In-1.jpg
END:VEVENT
BEGIN:VEVENT
DTSTART;TZID=America/New_York:20250515T203000
DTEND;TZID=America/New_York:20250515T214500
DTSTAMP:20260421T061841
CREATED:20200218T173239Z
LAST-MODIFIED:20250519T173330Z
UID:159466-1747341000-1747345500@www.eshelonline.org
SUMMARY:Women's LBTQ+ Support Group
DESCRIPTION:Women’s New York Area Meetup on Zoom \nWhat: Meet other individuals who identify as female and who are exploring their Orthodox LGBTQ+ identities. \nWhen: Meeting Weekly: Every THURSDAY (Previously Tuesday) from 8:30 pm – 9:45 pm \nWhere: For notifications and sign-in information\, register below. (You only need to register for this group one time.)
URL:https://www.eshelonline.org/event/womens-lgbtq-support-group/2025-05-15/
CATEGORIES:Events
ATTACH;FMTTYPE=image/jpeg:https://www.eshelonline.org/wp-content/uploads/2020/02/Eshel-Support-groups-and-meetups-14.jpg
END:VEVENT
BEGIN:VEVENT
DTSTART;TZID=America/New_York:20250515T210000
DTEND;TZID=America/New_York:20250515T223000
DTSTAMP:20260421T061841
CREATED:20201104T174130Z
LAST-MODIFIED:20240904T162615Z
UID:151511-1747342800-1747348200@www.eshelonline.org
SUMMARY:Orthodox+* People of Trans Experience Support Group
DESCRIPTION:Welcome to Eshel’s Meetup!\nWhat: This virtual support group will be a space for people who identify as transgender\, non-binary\, and gender questioning. All shades of Orthodox including Chareidi\, Modern Orthodox\, Ex-Orthodox\, are welcome to come and share in a safe and confidential virtual group. \nWhen: Meetings will be held on the third Thursday of every month at 9 pm EST – 6 pm PST. \nWhere: For notifications and sign-in information\, please register below. (You only need to register for this group one time.) \nThis group is confidential: all attendees are required to adhere to the privacy of its members. \nAbout the Group Coordinator \nThis Eshel Meetup is led by Joshua Avishur\, a transgender Orthodox Jew who enjoys connecting with people and embracing the beauty in all individuals. Joshua is a Masters-in-Social-Work student with experience in mentoring LGBTQ+ folk and developing and leading therapy groups for children and individual counseling with at-risk youth. Joshua is also a transgender panel moderator and panelist. \n			\n				\n				\n				\n				\n				\n\n			\n			\n				\n				\n				\n				\n			\n				\n				\n				\n				\n				\n				\n			\n				\n				\n				\n				\n				\n				Subscribe to a Newsletter
URL:https://www.eshelonline.org/event/a-support-group-for-orthodox-people-of-trans-experience/2025-05-15/
CATEGORIES:Events
ATTACH;FMTTYPE=image/jpeg:https://www.eshelonline.org/wp-content/uploads/2020/11/Eshel-Support-groups-and-meetups-15.jpg
END:VEVENT
BEGIN:VEVENT
DTSTART;TZID=America/New_York:20250516T190000
DTEND;TZID=America/New_York:20250516T220000
DTSTAMP:20260421T061841
CREATED:20250502T150510Z
LAST-MODIFIED:20250516T123518Z
UID:162524-1747422000-1747432800@www.eshelonline.org
SUMMARY:UWS Shabbat Dinner
DESCRIPTION:Join Eshel at the Marlene Meyerson JCC Manhattan for a vibrant and festive Shabbos meal. We’ll welcome Shabbat with candle lighting\, song\, and divrei Torah\, followed by a delicious meal and meaningful conversation in a warm\, inclusive space for LGBTQ+ Jews. Come celebrate the beauty of Shabbos and the joy of queer community. \n7:00 pm Kabbalat Shabbat with Or Chayim8:15 pm Community Dinner \n			\n				\n				\n				\n				\n				This week’s Shababt dinner is full!
URL:https://www.eshelonline.org/event/uws-shabbat-dinner/
END:VEVENT
BEGIN:VEVENT
DTSTART;VALUE=DATE:20250518
DTEND;VALUE=DATE:20250519
DTSTAMP:20260421T061841
CREATED:20250430T142309Z
LAST-MODIFIED:20250430T204404Z
UID:162512-1747526400-1747612799@www.eshelonline.org
SUMMARY:Celebrate Israel Parade 2025
DESCRIPTION:Join A Wider Bridge\, Eshel and JQY as part of the LGBTQ+ Cluster in the Celebrate Israel Day Parade on Sunday\, May 18 in NYC.
URL:https://www.eshelonline.org/event/celebrate-israel-parade-2025/
ATTACH;FMTTYPE=image/jpeg:https://www.eshelonline.org/wp-content/uploads/2025/04/AWB-featured-israel-day.jpg
END:VEVENT
BEGIN:VEVENT
DTSTART;TZID=America/New_York:20250518T120000
DTEND;TZID=America/New_York:20250518T140000
DTSTAMP:20260421T061841
CREATED:20250505T211641Z
LAST-MODIFIED:20250505T213128Z
UID:162553-1747569600-1747576800@www.eshelonline.org
SUMMARY:Baltimore | Lag B'omer BBQ Picnic
DESCRIPTION:Join Eshel Baltimore for a BBQ picnic to celebrate Lag B’omer! This event is family-friendly and open to LGBTQ+ people\, parents\, and any other family members you’d like to bring. We’ll be gathering under a covered pavilion at the park\, rain or shine! \n📅 Sunday\, May 18⏰ 12:00 – 2:00 pm📍 Marriottsville\, MD
URL:https://www.eshelonline.org/event/baltimore-lag-bomer-bbq-picnic/
ATTACH;FMTTYPE=image/jpeg:https://www.eshelonline.org/wp-content/uploads/2025/05/Lag-BOmer-picnic.jpg
END:VEVENT
BEGIN:VEVENT
DTSTART;TZID=America/New_York:20250519T200000
DTEND;TZID=America/New_York:20250519T213000
DTSTAMP:20260421T061841
CREATED:20200219T143836Z
LAST-MODIFIED:20251111T001741Z
UID:151720-1747684800-1747690200@www.eshelonline.org
SUMMARY:South Florida LGBTQ+ & Parents Meetup
DESCRIPTION:What: Meet other LGBTQ+ individuals in the area of Miami\, Florida! Family members and relatives of LGBTQ+ folks are also welcome to join! Our coordinators speak Spanish and French. \nWhen: The third Monday of each month from 8:00 pm – 9:00 pm. \nWhere: For notifications and sign-in information\, please register below. (You only need to register for this group one time.) \nFor more information or questions\, please contact us at southflorida@eshelonline.org. \n			\n				\n				\n				\n				\n				\n\n			\n			\n				\n				\n				\n				\n			\n				\n				\n				\n				\n				\n				\n			\n				\n				\n				\n				\n				\n				Subscribe to a Newsletter
URL:https://www.eshelonline.org/event/south-florida-meetup/2025-05-19/
CATEGORIES:Events
ATTACH;FMTTYPE=image/jpeg:https://www.eshelonline.org/wp-content/uploads/2020/02/Eshel-Support-groups-and-meetups-12.jpg
END:VEVENT
BEGIN:VEVENT
DTSTART;TZID=America/New_York:20250521T120000
DTEND;TZID=America/New_York:20250521T130000
DTSTAMP:20260421T061841
CREATED:20200518T143444Z
LAST-MODIFIED:20251210T192607Z
UID:151723-1747828800-1747832400@www.eshelonline.org
SUMMARY:Parents Drop-In Support Group
DESCRIPTION:Drop-in every Wednesday to shmooze\, chat\, ask questions\, and hear topics of interest! \nFor notifications and sign-in information\, please fill out the form below. (You only need to register for this group one time.)\n			\n				\n				\n				\n				\n				\n\n			\n			\n				\n				\n				\n				\n			\n				\n				\n				\n				\n				\n				\n			\n				\n				\n				\n				\n				\n				Subscribe to a Newsletter
URL:https://www.eshelonline.org/event/parents-drop-in/2025-05-21/
CATEGORIES:Events
ATTACH;FMTTYPE=image/jpeg:https://www.eshelonline.org/wp-content/uploads/2023/09/Parents-Drop-In-1.jpg
END:VEVENT
BEGIN:VEVENT
DTSTART;TZID=America/New_York:20250522T203000
DTEND;TZID=America/New_York:20250522T214500
DTSTAMP:20260421T061841
CREATED:20200218T173239Z
LAST-MODIFIED:20250519T173331Z
UID:159467-1747945800-1747950300@www.eshelonline.org
SUMMARY:Women's LBTQ+ Support Group
DESCRIPTION:Women’s New York Area Meetup on Zoom \nWhat: Meet other individuals who identify as female and who are exploring their Orthodox LGBTQ+ identities. \nWhen: Meeting Weekly: Every THURSDAY (Previously Tuesday) from 8:30 pm – 9:45 pm \nWhere: For notifications and sign-in information\, register below. (You only need to register for this group one time.)
URL:https://www.eshelonline.org/event/womens-lgbtq-support-group/2025-05-22/
CATEGORIES:Events
ATTACH;FMTTYPE=image/jpeg:https://www.eshelonline.org/wp-content/uploads/2020/02/Eshel-Support-groups-and-meetups-14.jpg
END:VEVENT
BEGIN:VEVENT
DTSTART;TZID=America/New_York:20250526T133000
DTEND;TZID=America/New_York:20250526T150000
DTSTAMP:20260421T061841
CREATED:20220412T230234Z
LAST-MODIFIED:20251111T231203Z
UID:163056-1748266200-1748271600@www.eshelonline.org
SUMMARY:Israel Parent Meetup
DESCRIPTION:Join Eshel’s local chapter in Israel for parents of LGBTQ+ children. \nThis group will provide support and build community in an intimate\, confidential setting in English. This group meets in person most months\, with a Zoom meeting once per quarter. \nRegister below for monthly reminders\, links\, and location details. \n			\n			\n				\n				\n				\n				\n			\n				\n				\n				\n				\n				\n				\n				\n				\n				\n				\n				\n\n  hbspt.forms.create({\n	region: "na1"\,\n	portalId: "7837587"\,\n	formId: "ea4215e5-77f1-4432-8035-ff0dc7d3107c"\,\n});
URL:https://www.eshelonline.org/event/israel-meetup-2022-05-24-2022-11-22-2022-12-19-2022-12-26/2025-05-26/
END:VEVENT
BEGIN:VEVENT
DTSTART;TZID=America/New_York:20250526T210000
DTEND;TZID=America/New_York:20250526T220000
DTSTAMP:20260421T061841
CREATED:20200212T210217Z
LAST-MODIFIED:20241212T230214Z
UID:151783-1748293200-1748296800@www.eshelonline.org
SUMMARY:Parents of Trans & Gender Nonconforming Children Support Group
DESCRIPTION:What: This group is for traditional Jewish parents who may be struggling with their child’s gender identity and/or wish to connect with other parents like themselves.\n\n\n\nWhen: Fourth Monday of each month\, 9:00 PM EST – 8:00 PM CST – 6:00 PM PST \nWhere: For notifications and sign-in information\, please register below. (You only need to register for this group one time.) \nQuestions? Email info@eshelonline.org \n\n\n			\n				\n				\n				\n				\n				\n\n			\n			\n				\n				\n				\n				\n			\n				\n				\n				\n				\n				\n				\n			\n				\n				\n				\n				\n				\n				Subscribe to a Newsletter
URL:https://www.eshelonline.org/event/parents-of-transgender-and-gender-non-conforming-children-3/2025-05-26/
CATEGORIES:Events
ATTACH;FMTTYPE=image/jpeg:https://www.eshelonline.org/wp-content/uploads/2020/02/Eshel-Support-groups-and-meetups-16.jpg
END:VEVENT
BEGIN:VEVENT
DTSTART;TZID=America/New_York:20250527T183000
DTEND;TZID=America/New_York:20250527T183000
DTSTAMP:20260421T061841
CREATED:20250523T164152Z
LAST-MODIFIED:20250523T164238Z
UID:162822-1748370600-1748370600@www.eshelonline.org
SUMMARY:NYC | 20s and 30s Game Night
DESCRIPTION:Join Eshel and JQY for a pre-Pride pizza and game night on Tuesday May 27 at 6:30 pm. \n			\n				Sign Up!
URL:https://www.eshelonline.org/event/nyc-20s-and-30s-game-night/
END:VEVENT
BEGIN:VEVENT
DTSTART;TZID=America/New_York:20250527T190000
DTEND;TZID=America/New_York:20250527T190000
DTSTAMP:20260421T061841
CREATED:20250519T184146Z
LAST-MODIFIED:20250519T221002Z
UID:162650-1748372400-1748372400@www.eshelonline.org
SUMMARY:Silver Spring Parent Meetup
DESCRIPTION:Interested in connecting with other parents of LGBTQ+ children? \nJoin us for an exploratory meeting in Silver Spring for parents in DC\, Maryland\, and Virginia. We’ll gather and connect as parents of LGBTQ+ kids\, and explore the option of getting together more regularly. \nSign up below if you’d be interested in meeting up with other local Eshel parents\, even if you can’t make this meeting.
URL:https://www.eshelonline.org/event/silver-spring-parent-meetup/
ATTACH;FMTTYPE=image/jpeg:https://www.eshelonline.org/wp-content/uploads/2025/05/silver-spring-parents-1.jpg
END:VEVENT
BEGIN:VEVENT
DTSTART;TZID=America/New_York:20250529T203000
DTEND;TZID=America/New_York:20250529T214500
DTSTAMP:20260421T061841
CREATED:20200218T173239Z
LAST-MODIFIED:20250519T173331Z
UID:159468-1748550600-1748555100@www.eshelonline.org
SUMMARY:Women's LBTQ+ Support Group
DESCRIPTION:Women’s New York Area Meetup on Zoom \nWhat: Meet other individuals who identify as female and who are exploring their Orthodox LGBTQ+ identities. \nWhen: Meeting Weekly: Every THURSDAY (Previously Tuesday) from 8:30 pm – 9:45 pm \nWhere: For notifications and sign-in information\, register below. (You only need to register for this group one time.)
URL:https://www.eshelonline.org/event/womens-lgbtq-support-group/2025-05-29/
CATEGORIES:Events
ATTACH;FMTTYPE=image/jpeg:https://www.eshelonline.org/wp-content/uploads/2020/02/Eshel-Support-groups-and-meetups-14.jpg
END:VEVENT
END:VCALENDAR