BEGIN:VCALENDAR
VERSION:2.0
PRODID:-//Eshel Online - ECPv6.0.0.1//NONSGML v1.0//EN
CALSCALE:GREGORIAN
METHOD:PUBLISH
X-WR-CALNAME:Eshel Online
X-ORIGINAL-URL:https://www.eshelonline.org
X-WR-CALDESC:Events for Eshel Online
REFRESH-INTERVAL;VALUE=DURATION:PT1H
X-Robots-Tag:noindex
X-PUBLISHED-TTL:PT1H
BEGIN:VTIMEZONE
TZID:America/New_York
BEGIN:DAYLIGHT
TZOFFSETFROM:-0500
TZOFFSETTO:-0400
TZNAME:EDT
DTSTART:20220313T070000
END:DAYLIGHT
BEGIN:STANDARD
TZOFFSETFROM:-0400
TZOFFSETTO:-0500
TZNAME:EST
DTSTART:20221106T060000
END:STANDARD
END:VTIMEZONE
BEGIN:VEVENT
DTSTART;VALUE=DATE:20220512
DTEND;VALUE=DATE:20220516
DTSTAMP:20260420T093329
CREATED:20220308T163111Z
LAST-MODIFIED:20220308T163111Z
UID:146027-1652313600-1652659199@www.eshelonline.org
SUMMARY:2022 Eshel Parent Retreat
DESCRIPTION:
URL:https://www.eshelonline.org/event/2022-eshel-parent-retreat/
END:VEVENT
BEGIN:VEVENT
DTSTART;TZID=America/New_York:20220515T120000
DTEND;TZID=America/New_York:20220515T200000
DTSTAMP:20260420T093329
CREATED:20220429T175642Z
LAST-MODIFIED:20220429T175646Z
UID:146403-1652616000-1652644800@www.eshelonline.org
SUMMARY:Baltimore/DC Eshel Picnic
DESCRIPTION:Come join us for a Lag B’Omer picnic! Baltimore/DC Eshel has reserved a covered pavilion at Alpha Ridge Park in Marriotsville\, MD on May 15 for our group. We will hold it rain or shine. The space is reserved from noon to 8PM. Everyone (including families\, relatives and allies) is welcome. \nDirections and other details will be sent out closer to the event. \nA dairy bagel lunch will be provided FREE! Please RSVP by May 10 so that we know how much food to purchase. \nEmail leahmarks18@yahoo.com to RSVP \n			\n			\n				\n				\n				\n				\n			\n				\n				\n			\n				\n				\n				\n				\n				\n				\n				\n				\n				\n				\n				\n				\n				\n				Join A Newsletter
URL:https://www.eshelonline.org/event/baltimore-dc-eshel-picnic/
LOCATION:a covered pavilion at Alpha Ridge Park in Marriotsville\, MD
END:VEVENT
BEGIN:VEVENT
DTSTART;TZID=America/New_York:20220518T120000
DTEND;TZID=America/New_York:20220518T130000
DTSTAMP:20260420T093329
CREATED:20200518T143444Z
LAST-MODIFIED:20251210T192500Z
UID:144629-1652875200-1652878800@www.eshelonline.org
SUMMARY:Parents Drop-In Support Group
DESCRIPTION:Drop-in every Wednesday to shmooze\, chat\, ask questions\, and hear topics of interest! \nFor notifications and sign-in information\, please fill out the form below. (You only need to register for this group one time.)\n			\n				\n				\n				\n				\n				\n\n			\n			\n				\n				\n				\n				\n			\n				\n				\n				\n				\n				\n				\n			\n				\n				\n				\n				\n				\n				Subscribe to a Newsletter
URL:https://www.eshelonline.org/event/parents-drop-in/2022-05-18/
CATEGORIES:Events
ATTACH;FMTTYPE=image/jpeg:https://www.eshelonline.org/wp-content/uploads/2023/09/Parents-Drop-In-1.jpg
END:VEVENT
BEGIN:VEVENT
DTSTART;TZID=America/New_York:20220522T123000
DTEND;TZID=America/New_York:20220522T160000
DTSTAMP:20260420T093329
CREATED:20220506T194421Z
LAST-MODIFIED:20220506T225738Z
UID:146613-1653222600-1653235200@www.eshelonline.org
SUMMARY:NYC Celebrate Israel Parade
DESCRIPTION:March with Eshel\, JQY\, Keshet\, and A Wider Bridge in NYC’s Celebrate Israel Parade! \nThis year’s theme is Together Again – כולנו ביחד \nWe’ll meet up between 12:30 and 1:00 pm near Rockefeller Center. Sign up to reserve your t-shirt and get detailed instructions for marching with us. \nThe JCRC-NY Celebrate Israel Parade is the world’s largest expression of solidarity with the Jewish state. Come join us and cheer on more than 40\,000 marchers\, dozens of fabulous floats\, marching bands\, and some exciting Jewish and Israeli musical performers! The parade proceeds up Fifth Avenue from 57th Street to 74th Street\, displaying our passion for the State of Israel and our love for the global Jewish community.
URL:https://www.eshelonline.org/event/nyc-celebrate-israel-parade/
END:VEVENT
END:VCALENDAR