BEGIN:VCALENDAR
VERSION:2.0
PRODID:-//Eshel Online - ECPv6.0.0.1//NONSGML v1.0//EN
CALSCALE:GREGORIAN
METHOD:PUBLISH
X-ORIGINAL-URL:https://www.eshelonline.org
X-WR-CALDESC:Events for Eshel Online
REFRESH-INTERVAL;VALUE=DURATION:PT1H
X-Robots-Tag:noindex
X-PUBLISHED-TTL:PT1H
BEGIN:VTIMEZONE
TZID:America/New_York
BEGIN:DAYLIGHT
TZOFFSETFROM:-0500
TZOFFSETTO:-0400
TZNAME:EDT
DTSTART:20260308T070000
END:DAYLIGHT
BEGIN:STANDARD
TZOFFSETFROM:-0400
TZOFFSETTO:-0500
TZNAME:EST
DTSTART:20261101T060000
END:STANDARD
END:VTIMEZONE
BEGIN:VEVENT
DTSTART;TZID=America/New_York:20260320T185500
DTEND;TZID=America/New_York:20260320T220000
DTSTAMP:20260419T130617
CREATED:20260226T193425Z
LAST-MODIFIED:20260319T164740Z
UID:165333-1774032900-1774044000@www.eshelonline.org
SUMMARY:Upper West Side Community Shabbat Dinner feat. Rabbis Elie Friedman & Zvi Weiss
DESCRIPTION:THIS EVENT IS AT-CAPACITY AND REGISTRATION IS NOW CLOSED. \nEshel is thrilled to be partnering with Darkhei Noam Pride and Base UWS for this special community Shabbat\, celebrating the vibrancy of the Upper West Side LGBTQ+ Jewish community. We invite you to join us for davening and dinner at the Marlene Meyerson JCC Manhattan\, followed by a very special shiur led by Eshel’s very own board member\, Rabbi Elie Friedman (RIETS)\, and Rabbi Zvi Weiss (RIETS). \nWhere: Marlene Meyerson JCC Manhattan\, Auditorium \n6:55pm – Davening – Orthodox Kabbalat Shabbat/Maariv at the JCC\, Partnership Minyan at Kehilat Hadar Shaare Zedek \n8pm – Dinner  \n9-10pm – Torah from Rabbis Elie Friedman & Zvi Weiss \nThis program is open to all community members. No charge for children under the age of 3. Please note in the included field of the registration form if you will need childcare at this event. \nEarly Bird Price (ends March 6th): $25 \nRegular Price: $36 \nStudent Price: $18 \nChildren (under 18): $15 \nEshel and our partners believe that financial hurdles should never be an obstacle to participating in our programs. If financial circumstances are cost-prohibitive for you\, please reach out to info@eshelonline.org. \nPLEASE NOTE: For internal tracking and discretion purposes\, we require separate registrations for each guest. Thank you for your understanding.
URL:https://www.eshelonline.org/event/upper-west-side-community-shabbat-dinner/
END:VEVENT
END:VCALENDAR