BEGIN:VCALENDAR
VERSION:2.0
PRODID:-//Eshel Online - ECPv6.0.0.1//NONSGML v1.0//EN
CALSCALE:GREGORIAN
METHOD:PUBLISH
X-ORIGINAL-URL:https://www.eshelonline.org
X-WR-CALDESC:Events for Eshel Online
REFRESH-INTERVAL;VALUE=DURATION:PT1H
X-Robots-Tag:noindex
X-PUBLISHED-TTL:PT1H
BEGIN:VTIMEZONE
TZID:America/New_York
BEGIN:DAYLIGHT
TZOFFSETFROM:-0500
TZOFFSETTO:-0400
TZNAME:EDT
DTSTART:20260308T070000
END:DAYLIGHT
BEGIN:STANDARD
TZOFFSETFROM:-0400
TZOFFSETTO:-0500
TZNAME:EST
DTSTART:20261101T060000
END:STANDARD
END:VTIMEZONE
BEGIN:VEVENT
DTSTART;TZID=America/New_York:20260202T190000
DTEND;TZID=America/New_York:20260202T210000
DTSTAMP:20260421T050231
CREATED:20260115T170519Z
LAST-MODIFIED:20260121T212059Z
UID:165061-1770058800-1770066000@www.eshelonline.org
SUMMARY:NYC | Tu B'shvat Karaoke Night
DESCRIPTION:Back by popular demand\, Eshel is pleased to invite you to Karaoke Night at the Manhattan JCC! Even better\, we will be able to sing in celebration of not just one\, but two holidays: Tu B’Shvat and Groundhog Day! \nSushi and drinks to be served. Vegan options available! \nThis event is 21+ and free to attend. \nWhen: Monday\, February 2nd\, 7:00-9:00p\nWhere: Marlene Meyerson JCC Manhattan
URL:https://www.eshelonline.org/event/nyc-tu-bshvat-karaoke-night/
END:VEVENT
END:VCALENDAR