BEGIN:VCALENDAR
VERSION:2.0
PRODID:-//Eshel Online - ECPv6.0.0.1//NONSGML v1.0//EN
CALSCALE:GREGORIAN
METHOD:PUBLISH
X-ORIGINAL-URL:https://www.eshelonline.org
X-WR-CALDESC:Events for Eshel Online
REFRESH-INTERVAL;VALUE=DURATION:PT1H
X-Robots-Tag:noindex
X-PUBLISHED-TTL:PT1H
BEGIN:VTIMEZONE
TZID:America/New_York
BEGIN:DAYLIGHT
TZOFFSETFROM:-0500
TZOFFSETTO:-0400
TZNAME:EDT
DTSTART:20260308T070000
END:DAYLIGHT
BEGIN:STANDARD
TZOFFSETFROM:-0400
TZOFFSETTO:-0500
TZNAME:EST
DTSTART:20261101T060000
END:STANDARD
END:VTIMEZONE
BEGIN:VEVENT
DTSTART;VALUE=DATE:20260129
DTEND;VALUE=DATE:20260201
DTSTAMP:20260421T181201
CREATED:20251006T192826Z
LAST-MODIFIED:20251209T142158Z
UID:163673-1769644800-1769903999@www.eshelonline.org
SUMMARY:Israel Parent Shabbaton
DESCRIPTION:Enjoy an inspiring and restorative Shabbat with Eshel Israel! \nSpend Shabbat Shira with other religious parents of LGBTQ+ children. We’ll enjoy a relaxing Shabbat together\, connect\, give each other chizzuk\, and dive deep into the challenges and joys of parenting LGBTQ+ children. \nThis Shabbat is an opportunity for us to slow down\, take a break from our busy lives\, and connect with a community of parents who share our experiences. \nDate: January 29 – 31Location: Kibbutz Lavi \nWeekend Highlights Include: \n\nSpirited Shabbat davening\nThought-provoking sessions led by fellow parents and experts\nBeautiful and relaxing natural environment\nDelicious meals\nWarm\, welcoming community of parents\n\nRegister below! Payment is required via Paypal after submitting the form. Registration is not considered complete until payment is received. \nHousing Options: \n \nEden: Modern rooms\, most of which overlook the magical Galilean landscape.Double Occupancy: 2500 NIS per coupleSingle Occupancy: 2100 NIS per person \n \nHod: Welcoming and warm design\, with a balcony overlooking the spectacular view of the Galilee and Golan mountains.Double occupancy: 3000 NIS per coupleSingle occupancy: 2400 NIS per person \nRegistration is now closed.
URL:https://www.eshelonline.org/event/israel-parent-shabbaton/
ATTACH;FMTTYPE=image/jpeg:https://www.eshelonline.org/wp-content/uploads/2025/09/Israel-Parent-Retreat-1.jpg
END:VEVENT
END:VCALENDAR