BEGIN:VCALENDAR
VERSION:2.0
PRODID:-//Eshel Online - ECPv6.0.0.1//NONSGML v1.0//EN
CALSCALE:GREGORIAN
METHOD:PUBLISH
X-WR-CALNAME:Eshel Online
X-ORIGINAL-URL:https://www.eshelonline.org
X-WR-CALDESC:Events for Eshel Online
REFRESH-INTERVAL;VALUE=DURATION:PT1H
X-Robots-Tag:noindex
X-PUBLISHED-TTL:PT1H
BEGIN:VTIMEZONE
TZID:America/New_York
BEGIN:DAYLIGHT
TZOFFSETFROM:-0500
TZOFFSETTO:-0400
TZNAME:EDT
DTSTART:20250309T070000
END:DAYLIGHT
BEGIN:STANDARD
TZOFFSETFROM:-0400
TZOFFSETTO:-0500
TZNAME:EST
DTSTART:20251102T060000
END:STANDARD
END:VTIMEZONE
BEGIN:VEVENT
DTSTART;TZID=America/New_York:20250615T180000
DTEND;TZID=America/New_York:20250615T180000
DTSTAMP:20260419T154005
CREATED:20250519T141218Z
LAST-MODIFIED:20250520T132520Z
UID:162658-1750010400-1750010400@www.eshelonline.org
SUMMARY:Atlanta | Cocktails and Conversation
DESCRIPTION:An evening of connection and conversation over cocktails. The perfect way to start your summer with fellow LGBTQ+ Jews looking to connect for friendship and camaraderie.
URL:https://www.eshelonline.org/event/atlanta-cocktails-and-conversation/
END:VEVENT
END:VCALENDAR