BEGIN:VCALENDAR
VERSION:2.0
PRODID:-//Eshel Online - ECPv6.0.0.1//NONSGML v1.0//EN
CALSCALE:GREGORIAN
METHOD:PUBLISH
X-WR-CALNAME:Eshel Online
X-ORIGINAL-URL:https://www.eshelonline.org
X-WR-CALDESC:Events for Eshel Online
REFRESH-INTERVAL;VALUE=DURATION:PT1H
X-Robots-Tag:noindex
X-PUBLISHED-TTL:PT1H
BEGIN:VTIMEZONE
TZID:America/New_York
BEGIN:DAYLIGHT
TZOFFSETFROM:-0500
TZOFFSETTO:-0400
TZNAME:EDT
DTSTART:20250309T070000
END:DAYLIGHT
BEGIN:STANDARD
TZOFFSETFROM:-0400
TZOFFSETTO:-0500
TZNAME:EST
DTSTART:20251102T060000
END:STANDARD
END:VTIMEZONE
BEGIN:VEVENT
DTSTART;TZID=America/New_York:20250613T093000
DTEND;TZID=America/New_York:20250613T140000
DTSTAMP:20260419T134611
CREATED:20250505T235121Z
LAST-MODIFIED:20250512T163625Z
UID:162534-1749807000-1749823200@www.eshelonline.org
SUMMARY:Israel | Re-learning Our Children Yom Iyun
DESCRIPTION:Connect with other parents of LGBTQ+ children at a Yom Iyun devoted to learning and reflecting on our children’s identities and experiences. Come away with new skills\, and knowledge that will help you parent your LGBTQ child while taking care of yourself. \nThis confidential event is open only to parents of LGBTQ+ children. \n📅 DATE: Friday\, June 13⏰ TIME: 9:30 am – 2:00 pm📍 LOCATION: Modiin – address shared after registration \nSuggested Donation: ₪‎100\, payable via PayBox after registration. No one will be turned away for inability to pay.
URL:https://www.eshelonline.org/event/israel-re-learning-our-children-yom-iyun/
ATTACH;FMTTYPE=image/png:https://www.eshelonline.org/wp-content/uploads/2025/05/yom-iyun-eshel-israel-2.png
END:VEVENT
END:VCALENDAR