BEGIN:VCALENDAR
VERSION:2.0
PRODID:-//Eshel Online - ECPv6.0.0.1//NONSGML v1.0//EN
CALSCALE:GREGORIAN
METHOD:PUBLISH
X-WR-CALNAME:Eshel Online
X-ORIGINAL-URL:https://www.eshelonline.org
X-WR-CALDESC:Events for Eshel Online
REFRESH-INTERVAL;VALUE=DURATION:PT1H
X-Robots-Tag:noindex
X-PUBLISHED-TTL:PT1H
BEGIN:VTIMEZONE
TZID:America/New_York
BEGIN:DAYLIGHT
TZOFFSETFROM:-0500
TZOFFSETTO:-0400
TZNAME:EDT
DTSTART:20240310T070000
END:DAYLIGHT
BEGIN:STANDARD
TZOFFSETFROM:-0400
TZOFFSETTO:-0500
TZNAME:EST
DTSTART:20241103T060000
END:STANDARD
END:VTIMEZONE
BEGIN:VEVENT
DTSTART;TZID=America/New_York:20241219T120000
DTEND;TZID=America/New_York:20241219T130000
DTSTAMP:20260421T120639
CREATED:20220412T230234Z
LAST-MODIFIED:20241211T162125Z
UID:159212-1734609600-1734613200@www.eshelonline.org
SUMMARY:Israel Parent Meetup
DESCRIPTION:Join Eshel’s local chapter in Israel for parents of LGBTQ+ children.This group provides support and community in an intimate\, confidential setting in English. This group meets in person most months\, with a Zoom meeting once per quarter. \nThis month\, join us to hear about Parenting Your LGBT Child with Rabbi Yaakov Horowitz. \nRabbi Yaakov Horowitz\, is an innovative educator\, author\, and child safety advocate. He conducts child abuse prevention and parenting workshops in Jewish communities around the world and received the prestigious 2008 Covenant Award in recognition of his contribution to Jewish education. For the past three years\, many thousands of parents worldwide are benefitting from Rabbi Horowitz’s daily\, short Parenting Clips on WhatsApp and Instagram @brightbeginningsforum and @yakovhorowitz\, and 200+ couples/parents participated in the first three cohorts of Rabbi Horowitz’s 8-part series on “Raising Your Tween/Teenage Children.” \nRegister below for monthly reminders\, links\, and location details. \n			\n			\n				\n				\n				\n				\n			\n				\n				\n				\n				\n				\n				\n				\n				\n				\n				\n				\n\n			\n				Sign up for our other newsletters
URL:https://www.eshelonline.org/event/israel-meetup-2022-05-24-2022-11-22-2022-12-19-2022-12-26-2023-09-25-2023-10-18-2024-01-17-2024-05-15-2024-06-19-2024-08-21-2024-09-18-2024-12-19/
END:VEVENT
BEGIN:VEVENT
DTSTART;TZID=America/New_York:20241219T200000
DTEND;TZID=America/New_York:20241219T223000
DTSTAMP:20260421T120639
CREATED:20201104T174130Z
LAST-MODIFIED:20241126T210417Z
UID:150374-1734638400-1734647400@www.eshelonline.org
SUMMARY:Orthodox+* People of Trans Experience Support Group
DESCRIPTION:Welcome to Eshel’s Meetup!\nWhat: This virtual support group will be a space for people who identify as transgender\, non-binary\, and gender questioning. All shades of Orthodox including Chareidi\, Modern Orthodox\, Ex-Orthodox\, are welcome to come and share in a safe and confidential virtual group. \nWhen: Meetings will be held on the third Thursday of every month at 9 pm EST – 6 pm PST. \nWhere: For notifications and sign-in information\, please register below. (You only need to register for this group one time.) \nThis group is confidential: all attendees are required to adhere to the privacy of its members. \nAbout the Group Coordinator \nThis Eshel Meetup is led by Joshua Avishur\, a transgender Orthodox Jew who enjoys connecting with people and embracing the beauty in all individuals. Joshua is a Masters-in-Social-Work student with experience in mentoring LGBTQ+ folk and developing and leading therapy groups for children and individual counseling with at-risk youth. Joshua is also a transgender panel moderator and panelist. \n			\n				\n				\n				\n				\n				\n\n			\n			\n				\n				\n				\n				\n			\n				\n				\n				\n				\n				\n				\n			\n				\n				\n				\n				\n				\n				Subscribe to a Newsletter
URL:https://www.eshelonline.org/event/a-support-group-for-orthodox-people-of-trans-experience-2024-12-19/
CATEGORIES:Events
ATTACH;FMTTYPE=image/jpeg:https://www.eshelonline.org/wp-content/uploads/2020/11/Eshel-Support-groups-and-meetups-15.jpg
END:VEVENT
BEGIN:VEVENT
DTSTART;TZID=America/New_York:20241219T203000
DTEND;TZID=America/New_York:20241219T214500
DTSTAMP:20260421T120639
CREATED:20200218T173239Z
LAST-MODIFIED:20241212T225128Z
UID:159445-1734640200-1734644700@www.eshelonline.org
SUMMARY:Eshel Brooklyn Women's LBTQ+ Meetup
DESCRIPTION:Women’s New York Area Meetup on Zoom \nWhat: Meet other individuals who identify as female and who are exploring their Orthodox LGBTQ+ identities. \nWhen: Meeting Weekly: Every THURSDAY (Previously Tuesday) from 8:30 pm – 9:45 pm \nWhere: For notifications and sign-in information\, register below. (You only need to register for this group one time.)
URL:https://www.eshelonline.org/event/womens-new-york-area-meetup-2020-04-22-2022-03-22-2023-11-21-2024-09-10-2024-09-12-2024-12-19/
CATEGORIES:Events
ATTACH;FMTTYPE=image/jpeg:https://www.eshelonline.org/wp-content/uploads/2020/02/Eshel-Support-groups-and-meetups-14.jpg
END:VEVENT
END:VCALENDAR