BEGIN:VCALENDAR
VERSION:2.0
PRODID:-//Eshel Online - ECPv6.0.0.1//NONSGML v1.0//EN
CALSCALE:GREGORIAN
METHOD:PUBLISH
X-WR-CALNAME:Eshel Online
X-ORIGINAL-URL:https://www.eshelonline.org
X-WR-CALDESC:Events for Eshel Online
REFRESH-INTERVAL;VALUE=DURATION:PT1H
X-Robots-Tag:noindex
X-PUBLISHED-TTL:PT1H
BEGIN:VTIMEZONE
TZID:America/New_York
BEGIN:DAYLIGHT
TZOFFSETFROM:-0500
TZOFFSETTO:-0400
TZNAME:EDT
DTSTART:20240310T070000
END:DAYLIGHT
BEGIN:STANDARD
TZOFFSETFROM:-0400
TZOFFSETTO:-0500
TZNAME:EST
DTSTART:20241103T060000
END:STANDARD
END:VTIMEZONE
BEGIN:VEVENT
DTSTART;TZID=America/New_York:20241118T193000
DTEND;TZID=America/New_York:20241118T210000
DTSTAMP:20260422T093222
CREATED:20240214T185353Z
LAST-MODIFIED:20241118T182933Z
UID:155354-1731958200-1731963600@www.eshelonline.org
SUMMARY:NYC | Challah Bake
DESCRIPTION:Join Eshel for a New York City meetup every month! Connect in person with other Orthodox LGBTQ+ people\, make new friends\, and try something new. Check back for specific details and to RSVP for upcoming events. \nRegistration for the challah bake is now closed!
URL:https://www.eshelonline.org/event/nyc-challah-bake/
END:VEVENT
END:VCALENDAR