BEGIN:VCALENDAR
VERSION:2.0
PRODID:-//Eshel Online - ECPv6.0.0.1//NONSGML v1.0//EN
CALSCALE:GREGORIAN
METHOD:PUBLISH
X-WR-CALNAME:Eshel Online
X-ORIGINAL-URL:https://www.eshelonline.org
X-WR-CALDESC:Events for Eshel Online
REFRESH-INTERVAL;VALUE=DURATION:PT1H
X-Robots-Tag:noindex
X-PUBLISHED-TTL:PT1H
BEGIN:VTIMEZONE
TZID:America/New_York
BEGIN:DAYLIGHT
TZOFFSETFROM:-0500
TZOFFSETTO:-0400
TZNAME:EDT
DTSTART:20240310T070000
END:DAYLIGHT
BEGIN:STANDARD
TZOFFSETFROM:-0400
TZOFFSETTO:-0500
TZNAME:EST
DTSTART:20241103T060000
END:STANDARD
END:VTIMEZONE
BEGIN:VEVENT
DTSTART;VALUE=DATE:20241115
DTEND;VALUE=DATE:20241117
DTSTAMP:20260422T094753
CREATED:20240925T165806Z
LAST-MODIFIED:20241016T004601Z
UID:159344-1731628800-1731801599@www.eshelonline.org
SUMMARY:South Florida Shabbaton
DESCRIPTION:Building Our Community Together \nJoin Eshel South Florida for a Shabbaton bringing together our LGBTQ+ and parent communities in Florida! \nWe will enjoy meals together from Shabbat dinner through seudah shlishit\, with sessions to get to know each other and explore how we can strengthen our community. All our activities will be based out of a synagogue in Hollywood\, Florida. Address will be given upon registration. \nJoin us to meet new people and deepen your connections to your local Eshel community. \nThe cost of the Shabbaton is $180 per person. For financial assistance\, contact miryam@eshelonline.org.Attendees are responsible for arranging their own sleeping accommodations. You can view the Hollywood eruv map here. The closest hotel is the Quality Inn & Suites at 4900 Hollywood Blvd. MayDee Suites at 5101 Hollywood Blvd is another good option. Looking for an airbnb? Search for places near N. 47th Avenue and McKinley Street in Hollywood Hills. \nThis Shabbaton is open to LGBTQ+ people and parents of LGBTQ+ people. While Eshel is a confidential space\, and we require all participants to agree to our confidentiality policy in order to attend\, due to the nature of being in a public space we cannot guarantee anonymity in all cases. If you have more questions about confidentiality\, please reach out to miryam@eshelonline.org.
URL:https://www.eshelonline.org/event/south-florida-shabbaton/
END:VEVENT
END:VCALENDAR