BEGIN:VCALENDAR
VERSION:2.0
PRODID:-//Eshel Online - ECPv6.0.0.1//NONSGML v1.0//EN
CALSCALE:GREGORIAN
METHOD:PUBLISH
X-WR-CALNAME:Eshel Online
X-ORIGINAL-URL:https://www.eshelonline.org
X-WR-CALDESC:Events for Eshel Online
REFRESH-INTERVAL;VALUE=DURATION:PT1H
X-Robots-Tag:noindex
X-PUBLISHED-TTL:PT1H
BEGIN:VTIMEZONE
TZID:America/New_York
BEGIN:DAYLIGHT
TZOFFSETFROM:-0500
TZOFFSETTO:-0400
TZNAME:EDT
DTSTART:20240310T070000
END:DAYLIGHT
BEGIN:STANDARD
TZOFFSETFROM:-0400
TZOFFSETTO:-0500
TZNAME:EST
DTSTART:20241103T060000
END:STANDARD
END:VTIMEZONE
BEGIN:VEVENT
DTSTART;TZID=America/New_York:20241114T190000
DTEND;TZID=America/New_York:20241114T190000
DTSTAMP:20260422T075600
CREATED:20241023T192425Z
LAST-MODIFIED:20241104T144421Z
UID:159977-1731610800-1731610800@www.eshelonline.org
SUMMARY:Boca | Allies Training
DESCRIPTION:During this training\, you will learn to identify ways to be an ally and support LGBTQ+ people in your Orthodox community. This training will cover information about the nature of the LGBTQ+ population and their needs\, skills for allyship in a variety of situations and institutions\, and opportunities to practice. Open to anyone who would like to be an ally in Orthodox settings including in synagogues\, schools\, camps\, and at home.
URL:https://www.eshelonline.org/event/boca-allies-training/
ATTACH;FMTTYPE=image/png:https://www.eshelonline.org/wp-content/uploads/2024/10/allies-training-2.png
END:VEVENT
END:VCALENDAR