BEGIN:VCALENDAR
VERSION:2.0
PRODID:-//Eshel Online - ECPv6.0.0.1//NONSGML v1.0//EN
CALSCALE:GREGORIAN
METHOD:PUBLISH
X-WR-CALNAME:Eshel Online
X-ORIGINAL-URL:https://www.eshelonline.org
X-WR-CALDESC:Events for Eshel Online
REFRESH-INTERVAL;VALUE=DURATION:PT1H
X-Robots-Tag:noindex
X-PUBLISHED-TTL:PT1H
BEGIN:VTIMEZONE
TZID:America/New_York
BEGIN:DAYLIGHT
TZOFFSETFROM:-0500
TZOFFSETTO:-0400
TZNAME:EDT
DTSTART:20240310T070000
END:DAYLIGHT
BEGIN:STANDARD
TZOFFSETFROM:-0400
TZOFFSETTO:-0500
TZNAME:EST
DTSTART:20241103T060000
END:STANDARD
END:VTIMEZONE
BEGIN:VEVENT
DTSTART;TZID=America/New_York:20241021T190000
DTEND;TZID=America/New_York:20241021T210000
DTSTAMP:20260420T130240
CREATED:20190418T151035Z
LAST-MODIFIED:20241008T233746Z
UID:149328-1729537200-1729544400@www.eshelonline.org
SUMMARY:Baltimore Sukkot Party
DESCRIPTION:Monday\, October 21 from 7:00 – 9:00 pmIn Person – Location provided upon registration. \nCelebrate Sukkot with our Baltimore/DC Eshel family! Join us to celebrate with other LGBTQ+ Jews and parents of LGBTQ+ people. \n			\n				\n				\n				\n				\n				\n\n			\n			\n				\n				\n				\n				\n			\n				\n				\n				\n				\n				\n				\n			\n				\n				\n				\n				\n				\n				Subscribe to a Newsletter
URL:https://www.eshelonline.org/event/baltimore-sukkot-party-2024/
CATEGORIES:Events
ATTACH;FMTTYPE=image/jpeg:https://www.eshelonline.org/wp-content/uploads/2019/04/Baltimore-Sukkot-Party.jpg
END:VEVENT
BEGIN:VEVENT
DTSTART;TZID=America/New_York:20241021T190000
DTEND;TZID=America/New_York:20241021T220000
DTSTAMP:20260420T130240
CREATED:20240909T203631Z
LAST-MODIFIED:20241021T185942Z
UID:159410-1729537200-1729548000@www.eshelonline.org
SUMMARY:LGBTQ+ Community Sukkot Party
DESCRIPTION:Join Us for the Annual LGBTQ Sukkot Party! \nCome celebrate Sukkot with your fellow Queer Jews in the JCC’s rooftop Sukkah\, featuring breathtaking views of the NYC skyline. The Sukkah\, a cozy\, temporary structure covered in leaves and greenery\, is the perfect spot to gather the LGBTQ community for a night of fun and celebration! \nEnjoy our fabulous “Sukkah-bration” with an open bar\, sushi\, snacks\, and plenty of laughs with friends old and new. This event is open to the entire LGBTQIA+ community\, along with family and allies (due to JCC policy\, all attendees must be over 21). \nWe are sold out! Hope you can join us at a future event.
URL:https://www.eshelonline.org/event/lgbtq-community-sukkot-party/
END:VEVENT
END:VCALENDAR