BEGIN:VCALENDAR
VERSION:2.0
PRODID:-//Eshel Online - ECPv6.0.0.1//NONSGML v1.0//EN
CALSCALE:GREGORIAN
METHOD:PUBLISH
X-WR-CALNAME:Eshel Online
X-ORIGINAL-URL:https://www.eshelonline.org
X-WR-CALDESC:Events for Eshel Online
REFRESH-INTERVAL;VALUE=DURATION:PT1H
X-Robots-Tag:noindex
X-PUBLISHED-TTL:PT1H
BEGIN:VTIMEZONE
TZID:America/New_York
BEGIN:DAYLIGHT
TZOFFSETFROM:-0500
TZOFFSETTO:-0400
TZNAME:EDT
DTSTART:20240310T070000
END:DAYLIGHT
BEGIN:STANDARD
TZOFFSETFROM:-0400
TZOFFSETTO:-0500
TZNAME:EST
DTSTART:20241103T060000
END:STANDARD
END:VTIMEZONE
BEGIN:VEVENT
DTSTART;TZID=America/New_York:20241020T173000
DTEND;TZID=America/New_York:20241020T203000
DTSTAMP:20260420T145037
CREATED:20241008T221456Z
LAST-MODIFIED:20241008T221501Z
UID:159922-1729445400-1729456200@www.eshelonline.org
SUMMARY:Chicago | LGBTQ+ Sukkot Party
DESCRIPTION:Celebrate Sukkot with Chicago’s LGBTQ+ Jewish community! \nJoin us on Sunday\, October 20 from 5:30 – 8:30 pm in Skokie to meet new people\, build community\, and celebrate Sukkot with other LGBTQ+ Jews. Eshel builds community for LGBTQ+ adults connected to the traditional Jewish community.
URL:https://www.eshelonline.org/event/chicago-lgbtq-sukkot-party/
ATTACH;FMTTYPE=image/png:https://www.eshelonline.org/wp-content/uploads/2024/10/chicago-sukkot-24-facebook-event-cover.png
END:VEVENT
BEGIN:VEVENT
DTSTART;TZID=America/New_York:20241020T183000
DTEND;TZID=America/New_York:20241020T210000
DTSTAMP:20260420T145037
CREATED:20241014T200837Z
LAST-MODIFIED:20241014T200841Z
UID:159945-1729449000-1729458000@www.eshelonline.org
SUMMARY:Jerusalem Sukkot Gathering
DESCRIPTION:Join Eshel’s community in Israel for a Sukkot celebration in Jerusalem! Sunday\, October 20 from 6:30 – 9:00 pmRSVP to miriamlschwartz@gmail.com
URL:https://www.eshelonline.org/event/jerusalem-sukkot-gathering/
END:VEVENT
END:VCALENDAR