BEGIN:VCALENDAR
VERSION:2.0
PRODID:-//Eshel Online - ECPv6.0.0.1//NONSGML v1.0//EN
CALSCALE:GREGORIAN
METHOD:PUBLISH
X-WR-CALNAME:Eshel Online
X-ORIGINAL-URL:https://www.eshelonline.org
X-WR-CALDESC:Events for Eshel Online
REFRESH-INTERVAL;VALUE=DURATION:PT1H
X-Robots-Tag:noindex
X-PUBLISHED-TTL:PT1H
BEGIN:VTIMEZONE
TZID:America/New_York
BEGIN:DAYLIGHT
TZOFFSETFROM:-0500
TZOFFSETTO:-0400
TZNAME:EDT
DTSTART:20240310T070000
END:DAYLIGHT
BEGIN:STANDARD
TZOFFSETFROM:-0400
TZOFFSETTO:-0500
TZNAME:EST
DTSTART:20241103T060000
END:STANDARD
END:VTIMEZONE
BEGIN:VEVENT
DTSTART;TZID=America/New_York:20241014T193000
DTEND;TZID=America/New_York:20241014T210000
DTSTAMP:20260422T113150
CREATED:20240214T185353Z
LAST-MODIFIED:20241013T235128Z
UID:155353-1728934200-1728939600@www.eshelonline.org
SUMMARY:NYC | Challah Bake
DESCRIPTION:Join us for an evening of community\, reflection\, and connection at Eshel’s Challah Bake on Monday\, October 14th from 7:30 – 9:30 pm at the Manhattan JCC. In commemoration of the anniversary of October 7th\, we’ll come together to make challah with premade dough and a variety of toppings to customize your own loaf to take home. As part of this\, we’ll also take challah in memory of the victims of October 7th and pray for the safe return of the hostages. Whether you’re a challah-making pro or a beginner\, we’d love to have you join us. \n			\n				\n				\n				\n				\n				POSTPONED! Unfortunately we will need to postpone our challah bake to a future date. We look forward to seeing you later!
URL:https://www.eshelonline.org/event/challah-bake-2024-10-14/
END:VEVENT
END:VCALENDAR