BEGIN:VCALENDAR
VERSION:2.0
PRODID:-//Eshel Online - ECPv6.0.0.1//NONSGML v1.0//EN
CALSCALE:GREGORIAN
METHOD:PUBLISH
X-ORIGINAL-URL:https://www.eshelonline.org
X-WR-CALDESC:Events for Eshel Online
REFRESH-INTERVAL;VALUE=DURATION:PT1H
X-Robots-Tag:noindex
X-PUBLISHED-TTL:PT1H
BEGIN:VTIMEZONE
TZID:America/New_York
BEGIN:DAYLIGHT
TZOFFSETFROM:-0500
TZOFFSETTO:-0400
TZNAME:EDT
DTSTART:20240310T070000
END:DAYLIGHT
BEGIN:STANDARD
TZOFFSETFROM:-0400
TZOFFSETTO:-0500
TZNAME:EST
DTSTART:20241103T060000
END:STANDARD
END:VTIMEZONE
BEGIN:VEVENT
DTSTART;TZID=America/New_York:20240819T183000
DTEND;TZID=America/New_York:20240819T203000
DTSTAMP:20260425T194753
CREATED:20240807T184731Z
LAST-MODIFIED:20240807T184735Z
UID:158968-1724092200-1724099400@www.eshelonline.org
SUMMARY:NYC | 20s and 30s Game Night with JQY
DESCRIPTION:Join Eshel and JQY for a delightful evening filled with board games\, sushi\, and great company! Whether you’re a strategic mastermind or just love a good roll (of the dice and sushi)\, this night is for you. If you’re an LGBTQ+\, Jew in your 20s and 30s looking to connect and unwind then join us and bring your game face and an appetite! \n			\n				Register!
URL:https://www.eshelonline.org/event/nyc-20s-and-30s-game-night-with-jqy/
END:VEVENT
END:VCALENDAR