BEGIN:VCALENDAR
VERSION:2.0
PRODID:-//Eshel Online - ECPv6.0.0.1//NONSGML v1.0//EN
CALSCALE:GREGORIAN
METHOD:PUBLISH
X-WR-CALNAME:Eshel Online
X-ORIGINAL-URL:https://www.eshelonline.org
X-WR-CALDESC:Events for Eshel Online
REFRESH-INTERVAL;VALUE=DURATION:PT1H
X-Robots-Tag:noindex
X-PUBLISHED-TTL:PT1H
BEGIN:VTIMEZONE
TZID:America/New_York
BEGIN:DAYLIGHT
TZOFFSETFROM:-0500
TZOFFSETTO:-0400
TZNAME:EDT
DTSTART:20230312T070000
END:DAYLIGHT
BEGIN:STANDARD
TZOFFSETFROM:-0400
TZOFFSETTO:-0500
TZNAME:EST
DTSTART:20231105T060000
END:STANDARD
END:VTIMEZONE
BEGIN:VEVENT
DTSTART;TZID=America/New_York:20231108T213000
DTEND;TZID=America/New_York:20231108T213000
DTSTAMP:20260420T170828
CREATED:20231031T014040Z
LAST-MODIFIED:20231108T200554Z
UID:153763-1699479000-1699479000@www.eshelonline.org
SUMMARY:NYC Comedy Outing
DESCRIPTION:Event Sold out – Congrats Raye Schiller!\nCome grab a drink with some Eshel friends and enjoy a night of comedy from our very own Raye Schiller! \nSign up below to get a special Eshel discount! After you receive your discount code by email\, purchase your tickets through Eventbrite. We’ll meet up at the comedy show\, then finish the night with some drinks at a nearby bar. This event is 21+. \nBig Yenta Energy with Raye Schiller \nClub Cumming \n505 East 6th Street New York\, NY 10009 \nRaye Schiller and their hilarious comedian friends will make you laugh and cry and remember that you should call your mother. Slay. Oy Vey. \nFeaturing: \nClara Olshansky (Reductress) \nDylan Adler (The Late Late Show) \nLeah Forster (The Comedy Cellar) \nSami Schwaeber (TimeOut New York) \nRaye Schiller is a queer\, formerly Orthodox Jewish comedian and writer from New York currently based in LA. They’ve performed at top comedy clubs all over the U.S. including the Comedy Store and the Hollywood Improv\, and internationally in Rome\, Lisbon\, Tel Aviv\, and Peru. Check out their comedy podcast\, Yenta! wherever you can find podcasts and find them @rayeontheway
URL:https://www.eshelonline.org/event/nyc-comedy-outing/
END:VEVENT
END:VCALENDAR