BEGIN:VCALENDAR
VERSION:2.0
PRODID:-//Eshel Online - ECPv6.0.0.1//NONSGML v1.0//EN
CALSCALE:GREGORIAN
METHOD:PUBLISH
X-WR-CALNAME:Eshel Online
X-ORIGINAL-URL:https://www.eshelonline.org
X-WR-CALDESC:Events for Eshel Online
REFRESH-INTERVAL;VALUE=DURATION:PT1H
X-Robots-Tag:noindex
X-PUBLISHED-TTL:PT1H
BEGIN:VTIMEZONE
TZID:America/New_York
BEGIN:DAYLIGHT
TZOFFSETFROM:-0500
TZOFFSETTO:-0400
TZNAME:EDT
DTSTART:20230312T070000
END:DAYLIGHT
BEGIN:STANDARD
TZOFFSETFROM:-0400
TZOFFSETTO:-0500
TZNAME:EST
DTSTART:20231105T060000
END:STANDARD
END:VTIMEZONE
BEGIN:VEVENT
DTSTART;TZID=America/New_York:20231004T190000
DTEND;TZID=America/New_York:20231004T210000
DTSTAMP:20260422T113134
CREATED:20190418T151035Z
LAST-MODIFIED:20230919T115056Z
UID:144941-1696446000-1696453200@www.eshelonline.org
SUMMARY:Baltimore/DC Sukkah Party
DESCRIPTION:Get together with our Baltimore/DC Eshel family in the sukkah for an intimate\, fun gathering with light nosh\, games\, and Torah! Please RSVP to let us know you’re coming even if you have already signed up for this group. \nWHAT: A party to celebrate Sukkot with your Eshel family. \nWHEN: Wednesday\, October 4\, 7:00-9:00 pm. \nWHERE: In the Sukkah! RSVP for address. \n			\n				\n				\n				\n				\n				\n\n			\n			\n				\n				\n				\n				\n			\n				\n				\n				\n				\n				\n				\n				\n				\n				\n				\n				Thanks to Our Baltimore/DC Sponsor
URL:https://www.eshelonline.org/event/baltimore-d-c-meet-up-2021-12-01-2023-10-04/
CATEGORIES:Events
ATTACH;FMTTYPE=image/jpeg:https://www.eshelonline.org/wp-content/uploads/2019/04/Eshel-Baltimore-Sukkot-Party-1.jpg
END:VEVENT
END:VCALENDAR