BEGIN:VCALENDAR
VERSION:2.0
PRODID:-//Eshel Online - ECPv6.0.0.1//NONSGML v1.0//EN
CALSCALE:GREGORIAN
METHOD:PUBLISH
X-ORIGINAL-URL:https://www.eshelonline.org
X-WR-CALDESC:Events for Eshel Online
REFRESH-INTERVAL;VALUE=DURATION:PT1H
X-Robots-Tag:noindex
X-PUBLISHED-TTL:PT1H
BEGIN:VTIMEZONE
TZID:America/New_York
BEGIN:DAYLIGHT
TZOFFSETFROM:-0500
TZOFFSETTO:-0400
TZNAME:EDT
DTSTART:20230312T070000
END:DAYLIGHT
BEGIN:STANDARD
TZOFFSETFROM:-0400
TZOFFSETTO:-0500
TZNAME:EST
DTSTART:20231105T060000
END:STANDARD
END:VTIMEZONE
BEGIN:VEVENT
DTSTART;TZID=America/New_York:20230709T193000
DTEND;TZID=America/New_York:20230709T210000
DTSTAMP:20260425T080248
CREATED:20230630T200544Z
LAST-MODIFIED:20230707T192028Z
UID:152018-1688931000-1688936400@www.eshelonline.org
SUMMARY:It's Not About the Bakery: How to Be an Ally to the LGBTQ+ Community
DESCRIPTION:Join Eshel for an intimate\, sensitive discussion on how to be an Orthodox ally to the LGBTQ+ community in West Orange. We all have more to learn about how we can be supportive to LGBTQ+ people in Orthodox communities. \nJoin us Sunday\, July 9 at 7:30 pm in West Orange at the home of a parent of an LGBTQ+ child for a thought-provoking conversation led by Eshel Executive Director Miryam Kabakov.  \nThis event is for anyone who is an ally or looking to learn more\, families of LGTBQ+ people\, and members of the LGBTQ+ community within the West Orange Orthodox community. \nThis event is now full. Sign up below to hear about future events like this one.
URL:https://www.eshelonline.org/event/its-not-about-the-bakery-how-to-be-an-ally-to-the-lgbtq-community/
ATTACH;FMTTYPE=image/jpeg:https://www.eshelonline.org/wp-content/uploads/2023/06/THIS-ONE-1.jpg
END:VEVENT
END:VCALENDAR