BEGIN:VCALENDAR
VERSION:2.0
PRODID:-//Eshel Online - ECPv6.0.0.1//NONSGML v1.0//EN
CALSCALE:GREGORIAN
METHOD:PUBLISH
X-ORIGINAL-URL:https://www.eshelonline.org
X-WR-CALDESC:Events for Eshel Online
REFRESH-INTERVAL;VALUE=DURATION:PT1H
X-Robots-Tag:noindex
X-PUBLISHED-TTL:PT1H
BEGIN:VTIMEZONE
TZID:America/New_York
BEGIN:DAYLIGHT
TZOFFSETFROM:-0500
TZOFFSETTO:-0400
TZNAME:EDT
DTSTART:20230312T070000
END:DAYLIGHT
BEGIN:STANDARD
TZOFFSETFROM:-0400
TZOFFSETTO:-0500
TZNAME:EST
DTSTART:20231105T060000
END:STANDARD
END:VTIMEZONE
BEGIN:VEVENT
DTSTART;TZID=America/New_York:20230512T183000
DTEND;TZID=America/New_York:20230512T220000
DTSTAMP:20260422T063824
CREATED:20230420T153946Z
LAST-MODIFIED:20230512T145800Z
UID:151274-1683916200-1683928800@www.eshelonline.org
SUMMARY:Pre-Pride Shabbat Dinner
DESCRIPTION:Register\n			\n			\n				\n				\n				\n				\n				\n				Sponsor\n			\n			\n				\n				\n				\n				\n			\n				\n				\n				\n				\n				\n				\n				\n				\n				\n				\n				With Pride Month just around the corner\, we couldn’t wait to get the community together! Get a taste of Eshel’s famous LGBTQ retreat with this Orthodox LGBTQ-inclusive Kabbalat Shabbat and dinner on the Upper West Side. Whether you’ve looking to meet new friends or you’ve been to many Eshel events and want to reconnect\, you are welcome here! This is the place to connect with other Orthodox LGBTQ Jews. \nWhere: Marlene Meyerson JCC Manhattan \n334 Amsterdam Ave at\, W 76th St\, New York\, NY 10023 \nWhen: Friday May 12 \n6:30PM Kabbalat Shabbat \n8:00PM Dinner \nIf you’re coming from farther away and need help finding a place to stay for Shabbat\, we will do our best to connect you with attendees who have volunteered to host people. Please email info@eshelonline.org to request a host\, and specify gender\, host genders you’d be comfortable with\, any accessibility needs including type of bed/couch/air mattress\, and whether you’d also need to be hosted for shabbat lunch. We value confidentiality at Eshel events. Please keep in mind that hosts may have roommates who are not affiliated with Eshel. \n			\n			\n				\n				\n				\n				\n			\n				\n				\n				\n				\n				\n				\n				\n				\n				\n				\n				Registration is closed – Shabbat shalom!
URL:https://www.eshelonline.org/event/pre-pride-shabbat-dinner/
LOCATION:JCC in Manhattan\, 334 Amsterdam Ave. at 76th St.\, New York\, NY\, 10023
GEO:40.7811447;-73.9802025
X-APPLE-STRUCTURED-LOCATION;VALUE=URI;X-ADDRESS=JCC in Manhattan 334 Amsterdam Ave. at 76th St. New York NY 10023;X-APPLE-RADIUS=500;X-TITLE=334 Amsterdam Ave. at 76th St.:geo:-73.9802025,40.7811447
END:VEVENT
END:VCALENDAR