BEGIN:VCALENDAR
VERSION:2.0
PRODID:-//Eshel Online - ECPv6.0.0.1//NONSGML v1.0//EN
CALSCALE:GREGORIAN
METHOD:PUBLISH
X-ORIGINAL-URL:https://www.eshelonline.org
X-WR-CALDESC:Events for Eshel Online
REFRESH-INTERVAL;VALUE=DURATION:PT1H
X-Robots-Tag:noindex
X-PUBLISHED-TTL:PT1H
BEGIN:VTIMEZONE
TZID:America/New_York
BEGIN:DAYLIGHT
TZOFFSETFROM:-0500
TZOFFSETTO:-0400
TZNAME:EDT
DTSTART:20220313T070000
END:DAYLIGHT
BEGIN:STANDARD
TZOFFSETFROM:-0400
TZOFFSETTO:-0500
TZNAME:EST
DTSTART:20221106T060000
END:STANDARD
END:VTIMEZONE
BEGIN:VEVENT
DTSTART;TZID=America/New_York:20220522T123000
DTEND;TZID=America/New_York:20220522T160000
DTSTAMP:20260420T150526
CREATED:20220506T194421Z
LAST-MODIFIED:20220506T225738Z
UID:146613-1653222600-1653235200@www.eshelonline.org
SUMMARY:NYC Celebrate Israel Parade
DESCRIPTION:March with Eshel\, JQY\, Keshet\, and A Wider Bridge in NYC’s Celebrate Israel Parade! \nThis year’s theme is Together Again – כולנו ביחד \nWe’ll meet up between 12:30 and 1:00 pm near Rockefeller Center. Sign up to reserve your t-shirt and get detailed instructions for marching with us. \nThe JCRC-NY Celebrate Israel Parade is the world’s largest expression of solidarity with the Jewish state. Come join us and cheer on more than 40\,000 marchers\, dozens of fabulous floats\, marching bands\, and some exciting Jewish and Israeli musical performers! The parade proceeds up Fifth Avenue from 57th Street to 74th Street\, displaying our passion for the State of Israel and our love for the global Jewish community.
URL:https://www.eshelonline.org/event/nyc-celebrate-israel-parade/
END:VEVENT
END:VCALENDAR