BEGIN:VCALENDAR
VERSION:2.0
PRODID:-//Eshel Online - ECPv6.0.0.1//NONSGML v1.0//EN
CALSCALE:GREGORIAN
METHOD:PUBLISH
X-WR-CALNAME:Eshel Online
X-ORIGINAL-URL:https://www.eshelonline.org
X-WR-CALDESC:Events for Eshel Online
REFRESH-INTERVAL;VALUE=DURATION:PT1H
X-Robots-Tag:noindex
X-PUBLISHED-TTL:PT1H
BEGIN:VTIMEZONE
TZID:America/New_York
BEGIN:DAYLIGHT
TZOFFSETFROM:-0500
TZOFFSETTO:-0400
TZNAME:EDT
DTSTART:20150308T070000
END:DAYLIGHT
BEGIN:STANDARD
TZOFFSETFROM:-0400
TZOFFSETTO:-0500
TZNAME:EST
DTSTART:20151101T060000
END:STANDARD
END:VTIMEZONE
BEGIN:VEVENT
DTSTART;TZID=America/New_York:20151206T043000
DTEND;TZID=America/New_York:20151206T073000
DTSTAMP:20260422T142619
CREATED:20151125T010146Z
LAST-MODIFIED:20151130T073327Z
UID:1897-1449376200-1449387000@www.eshelonline.org
SUMMARY:Merchav Batuach: Barnard/Columbia Hillel
DESCRIPTION:Do you want to learn how to be an ally to an LGBTQ+ person in\nOrthodox community?\nAre you a student at Barnard/Columbia?\nThen sign up for the Merchav Batuach Training!\nMerchav Batuach will conduct a workshop at the Columbia/Barnard Hillel training those who want to be LGBTQ+ allies in the Orthodox community. This event is sponsored by Yavneh At Columbia\, the Orthodox student group on campus and Jewish Women on Campus (JWOC)\n\n) Bagel brunch will be provided.\n To RSVP\, fill out this Google Form: https://goo.gl/forms/jAxWakligJ\nDate: December 6th\, 2015\nTime: 9:30 am-12:30 pm\nPlace: The Kraft Center: 606 W 115th\, Room 6A\nFor more info Email us at merchavbatuach@eshelonline.org
URL:https://www.eshelonline.org/event/mb/
END:VEVENT
END:VCALENDAR