BEGIN:VCALENDAR
VERSION:2.0
PRODID:-//Eshel Online - ECPv6.0.0.1//NONSGML v1.0//EN
CALSCALE:GREGORIAN
METHOD:PUBLISH
X-ORIGINAL-URL:https://www.eshelonline.org
X-WR-CALDESC:Events for Eshel Online
REFRESH-INTERVAL;VALUE=DURATION:PT1H
X-Robots-Tag:noindex
X-PUBLISHED-TTL:PT1H
BEGIN:VTIMEZONE
TZID:America/New_York
BEGIN:DAYLIGHT
TZOFFSETFROM:-0500
TZOFFSETTO:-0400
TZNAME:EDT
DTSTART:20260308T070000
END:DAYLIGHT
BEGIN:STANDARD
TZOFFSETFROM:-0400
TZOFFSETTO:-0500
TZNAME:EST
DTSTART:20261101T060000
END:STANDARD
END:VTIMEZONE
BEGIN:VEVENT
DTSTART;TZID=America/New_York:20260422T120000
DTEND;TZID=America/New_York:20260422T130000
DTSTAMP:20260420T012138
CREATED:20200518T143444Z
LAST-MODIFIED:20251210T192647Z
UID:157074-1776859200-1776862800@www.eshelonline.org
SUMMARY:Parents Drop-In Support Group
DESCRIPTION:Drop-in every Wednesday to shmooze\, chat\, ask questions\, and hear topics of interest! \nFor notifications and sign-in information\, please fill out the form below. (You only need to register for this group one time.)\n			\n				\n				\n				\n				\n				\n\n			\n			\n				\n				\n				\n				\n			\n				\n				\n				\n				\n				\n				\n			\n				\n				\n				\n				\n				\n				Subscribe to a Newsletter
URL:https://www.eshelonline.org/event/parents-drop-in/2026-04-22/
CATEGORIES:Events
ATTACH;FMTTYPE=image/jpeg:https://www.eshelonline.org/wp-content/uploads/2023/09/Parents-Drop-In-1.jpg
END:VEVENT
BEGIN:VEVENT
DTSTART;TZID=America/New_York:20260429T120000
DTEND;TZID=America/New_York:20260429T130000
DTSTAMP:20260420T012138
CREATED:20200518T143444Z
LAST-MODIFIED:20251210T192647Z
UID:157084-1777464000-1777467600@www.eshelonline.org
SUMMARY:Parents Drop-In Support Group
DESCRIPTION:Drop-in every Wednesday to shmooze\, chat\, ask questions\, and hear topics of interest! \nFor notifications and sign-in information\, please fill out the form below. (You only need to register for this group one time.)\n			\n				\n				\n				\n				\n				\n\n			\n			\n				\n				\n				\n				\n			\n				\n				\n				\n				\n				\n				\n			\n				\n				\n				\n				\n				\n				Subscribe to a Newsletter
URL:https://www.eshelonline.org/event/parents-drop-in/2026-04-29/
CATEGORIES:Events
ATTACH;FMTTYPE=image/jpeg:https://www.eshelonline.org/wp-content/uploads/2023/09/Parents-Drop-In-1.jpg
END:VEVENT
BEGIN:VEVENT
DTSTART;TZID=America/New_York:20260506T120000
DTEND;TZID=America/New_York:20260506T130000
DTSTAMP:20260420T012138
CREATED:20200518T143444Z
LAST-MODIFIED:20251210T192648Z
UID:157171-1778068800-1778072400@www.eshelonline.org
SUMMARY:Parents Drop-In Support Group
DESCRIPTION:Drop-in every Wednesday to shmooze\, chat\, ask questions\, and hear topics of interest! \nFor notifications and sign-in information\, please fill out the form below. (You only need to register for this group one time.)\n			\n				\n				\n				\n				\n				\n\n			\n			\n				\n				\n				\n				\n			\n				\n				\n				\n				\n				\n				\n			\n				\n				\n				\n				\n				\n				Subscribe to a Newsletter
URL:https://www.eshelonline.org/event/parents-drop-in/2026-05-06/
CATEGORIES:Events
ATTACH;FMTTYPE=image/jpeg:https://www.eshelonline.org/wp-content/uploads/2023/09/Parents-Drop-In-1.jpg
END:VEVENT
BEGIN:VEVENT
DTSTART;TZID=America/New_York:20260513T120000
DTEND;TZID=America/New_York:20260513T130000
DTSTAMP:20260420T012138
CREATED:20200518T143444Z
LAST-MODIFIED:20251210T192649Z
UID:157301-1778673600-1778677200@www.eshelonline.org
SUMMARY:Parents Drop-In Support Group
DESCRIPTION:Drop-in every Wednesday to shmooze\, chat\, ask questions\, and hear topics of interest! \nFor notifications and sign-in information\, please fill out the form below. (You only need to register for this group one time.)\n			\n				\n				\n				\n				\n				\n\n			\n			\n				\n				\n				\n				\n			\n				\n				\n				\n				\n				\n				\n			\n				\n				\n				\n				\n				\n				Subscribe to a Newsletter
URL:https://www.eshelonline.org/event/parents-drop-in/2026-05-13/
CATEGORIES:Events
ATTACH;FMTTYPE=image/jpeg:https://www.eshelonline.org/wp-content/uploads/2023/09/Parents-Drop-In-1.jpg
END:VEVENT
BEGIN:VEVENT
DTSTART;TZID=America/New_York:20260520T120000
DTEND;TZID=America/New_York:20260520T130000
DTSTAMP:20260420T012138
CREATED:20200518T143444Z
LAST-MODIFIED:20251210T192650Z
UID:157334-1779278400-1779282000@www.eshelonline.org
SUMMARY:Parents Drop-In Support Group
DESCRIPTION:Drop-in every Wednesday to shmooze\, chat\, ask questions\, and hear topics of interest! \nFor notifications and sign-in information\, please fill out the form below. (You only need to register for this group one time.)\n			\n				\n				\n				\n				\n				\n\n			\n			\n				\n				\n				\n				\n			\n				\n				\n				\n				\n				\n				\n			\n				\n				\n				\n				\n				\n				Subscribe to a Newsletter
URL:https://www.eshelonline.org/event/parents-drop-in/2026-05-20/
CATEGORIES:Events
ATTACH;FMTTYPE=image/jpeg:https://www.eshelonline.org/wp-content/uploads/2023/09/Parents-Drop-In-1.jpg
END:VEVENT
BEGIN:VEVENT
DTSTART;TZID=America/New_York:20260527T120000
DTEND;TZID=America/New_York:20260527T130000
DTSTAMP:20260420T012138
CREATED:20200518T143444Z
LAST-MODIFIED:20251210T192651Z
UID:157403-1779883200-1779886800@www.eshelonline.org
SUMMARY:Parents Drop-In Support Group
DESCRIPTION:Drop-in every Wednesday to shmooze\, chat\, ask questions\, and hear topics of interest! \nFor notifications and sign-in information\, please fill out the form below. (You only need to register for this group one time.)\n			\n				\n				\n				\n				\n				\n\n			\n			\n				\n				\n				\n				\n			\n				\n				\n				\n				\n				\n				\n			\n				\n				\n				\n				\n				\n				Subscribe to a Newsletter
URL:https://www.eshelonline.org/event/parents-drop-in/2026-05-27/
CATEGORIES:Events
ATTACH;FMTTYPE=image/jpeg:https://www.eshelonline.org/wp-content/uploads/2023/09/Parents-Drop-In-1.jpg
END:VEVENT
BEGIN:VEVENT
DTSTART;TZID=America/New_York:20260603T120000
DTEND;TZID=America/New_York:20260603T130000
DTSTAMP:20260420T012138
CREATED:20200518T143444Z
LAST-MODIFIED:20251210T192651Z
UID:158235-1780488000-1780491600@www.eshelonline.org
SUMMARY:Parents Drop-In Support Group
DESCRIPTION:Drop-in every Wednesday to shmooze\, chat\, ask questions\, and hear topics of interest! \nFor notifications and sign-in information\, please fill out the form below. (You only need to register for this group one time.)\n			\n				\n				\n				\n				\n				\n\n			\n			\n				\n				\n				\n				\n			\n				\n				\n				\n				\n				\n				\n			\n				\n				\n				\n				\n				\n				Subscribe to a Newsletter
URL:https://www.eshelonline.org/event/parents-drop-in/2026-06-03/
CATEGORIES:Events
ATTACH;FMTTYPE=image/jpeg:https://www.eshelonline.org/wp-content/uploads/2023/09/Parents-Drop-In-1.jpg
END:VEVENT
BEGIN:VEVENT
DTSTART;TZID=America/New_York:20260610T120000
DTEND;TZID=America/New_York:20260610T130000
DTSTAMP:20260420T012138
CREATED:20200518T143444Z
LAST-MODIFIED:20251210T192659Z
UID:158308-1781092800-1781096400@www.eshelonline.org
SUMMARY:Parents Drop-In Support Group
DESCRIPTION:Drop-in every Wednesday to shmooze\, chat\, ask questions\, and hear topics of interest! \nFor notifications and sign-in information\, please fill out the form below. (You only need to register for this group one time.)\n			\n				\n				\n				\n				\n				\n\n			\n			\n				\n				\n				\n				\n			\n				\n				\n				\n				\n				\n				\n			\n				\n				\n				\n				\n				\n				Subscribe to a Newsletter
URL:https://www.eshelonline.org/event/parents-drop-in/2026-06-10/
CATEGORIES:Events
ATTACH;FMTTYPE=image/jpeg:https://www.eshelonline.org/wp-content/uploads/2023/09/Parents-Drop-In-1.jpg
END:VEVENT
BEGIN:VEVENT
DTSTART;TZID=America/New_York:20260617T120000
DTEND;TZID=America/New_York:20260617T130000
DTSTAMP:20260420T012138
CREATED:20200518T143444Z
LAST-MODIFIED:20251210T192700Z
UID:158356-1781697600-1781701200@www.eshelonline.org
SUMMARY:Parents Drop-In Support Group
DESCRIPTION:Drop-in every Wednesday to shmooze\, chat\, ask questions\, and hear topics of interest! \nFor notifications and sign-in information\, please fill out the form below. (You only need to register for this group one time.)\n			\n				\n				\n				\n				\n				\n\n			\n			\n				\n				\n				\n				\n			\n				\n				\n				\n				\n				\n				\n			\n				\n				\n				\n				\n				\n				Subscribe to a Newsletter
URL:https://www.eshelonline.org/event/parents-drop-in/2026-06-17/
CATEGORIES:Events
ATTACH;FMTTYPE=image/jpeg:https://www.eshelonline.org/wp-content/uploads/2023/09/Parents-Drop-In-1.jpg
END:VEVENT
BEGIN:VEVENT
DTSTART;TZID=America/New_York:20260624T120000
DTEND;TZID=America/New_York:20260624T130000
DTSTAMP:20260420T012138
CREATED:20200518T143444Z
LAST-MODIFIED:20251210T192701Z
UID:158415-1782302400-1782306000@www.eshelonline.org
SUMMARY:Parents Drop-In Support Group
DESCRIPTION:Drop-in every Wednesday to shmooze\, chat\, ask questions\, and hear topics of interest! \nFor notifications and sign-in information\, please fill out the form below. (You only need to register for this group one time.)\n			\n				\n				\n				\n				\n				\n\n			\n			\n				\n				\n				\n				\n			\n				\n				\n				\n				\n				\n				\n			\n				\n				\n				\n				\n				\n				Subscribe to a Newsletter
URL:https://www.eshelonline.org/event/parents-drop-in/2026-06-24/
CATEGORIES:Events
ATTACH;FMTTYPE=image/jpeg:https://www.eshelonline.org/wp-content/uploads/2023/09/Parents-Drop-In-1.jpg
END:VEVENT
BEGIN:VEVENT
DTSTART;TZID=America/New_York:20260701T120000
DTEND;TZID=America/New_York:20260701T130000
DTSTAMP:20260420T012138
CREATED:20200518T143444Z
LAST-MODIFIED:20251210T192702Z
UID:158457-1782907200-1782910800@www.eshelonline.org
SUMMARY:Parents Drop-In Support Group
DESCRIPTION:Drop-in every Wednesday to shmooze\, chat\, ask questions\, and hear topics of interest! \nFor notifications and sign-in information\, please fill out the form below. (You only need to register for this group one time.)\n			\n				\n				\n				\n				\n				\n\n			\n			\n				\n				\n				\n				\n			\n				\n				\n				\n				\n				\n				\n			\n				\n				\n				\n				\n				\n				Subscribe to a Newsletter
URL:https://www.eshelonline.org/event/parents-drop-in/2026-07-01/
CATEGORIES:Events
ATTACH;FMTTYPE=image/jpeg:https://www.eshelonline.org/wp-content/uploads/2023/09/Parents-Drop-In-1.jpg
END:VEVENT
BEGIN:VEVENT
DTSTART;TZID=America/New_York:20260708T120000
DTEND;TZID=America/New_York:20260708T130000
DTSTAMP:20260420T012138
CREATED:20200518T143444Z
LAST-MODIFIED:20251210T192703Z
UID:158529-1783512000-1783515600@www.eshelonline.org
SUMMARY:Parents Drop-In Support Group
DESCRIPTION:Drop-in every Wednesday to shmooze\, chat\, ask questions\, and hear topics of interest! \nFor notifications and sign-in information\, please fill out the form below. (You only need to register for this group one time.)\n			\n				\n				\n				\n				\n				\n\n			\n			\n				\n				\n				\n				\n			\n				\n				\n				\n				\n				\n				\n			\n				\n				\n				\n				\n				\n				Subscribe to a Newsletter
URL:https://www.eshelonline.org/event/parents-drop-in/2026-07-08/
CATEGORIES:Events
ATTACH;FMTTYPE=image/jpeg:https://www.eshelonline.org/wp-content/uploads/2023/09/Parents-Drop-In-1.jpg
END:VEVENT
BEGIN:VEVENT
DTSTART;TZID=America/New_York:20260715T120000
DTEND;TZID=America/New_York:20260715T130000
DTSTAMP:20260420T012138
CREATED:20200518T143444Z
LAST-MODIFIED:20251210T192703Z
UID:158590-1784116800-1784120400@www.eshelonline.org
SUMMARY:Parents Drop-In Support Group
DESCRIPTION:Drop-in every Wednesday to shmooze\, chat\, ask questions\, and hear topics of interest! \nFor notifications and sign-in information\, please fill out the form below. (You only need to register for this group one time.)\n			\n				\n				\n				\n				\n				\n\n			\n			\n				\n				\n				\n				\n			\n				\n				\n				\n				\n				\n				\n			\n				\n				\n				\n				\n				\n				Subscribe to a Newsletter
URL:https://www.eshelonline.org/event/parents-drop-in/2026-07-15/
CATEGORIES:Events
ATTACH;FMTTYPE=image/jpeg:https://www.eshelonline.org/wp-content/uploads/2023/09/Parents-Drop-In-1.jpg
END:VEVENT
BEGIN:VEVENT
DTSTART;TZID=America/New_York:20260722T120000
DTEND;TZID=America/New_York:20260722T130000
DTSTAMP:20260420T012138
CREATED:20200518T143444Z
LAST-MODIFIED:20251210T192704Z
UID:158658-1784721600-1784725200@www.eshelonline.org
SUMMARY:Parents Drop-In Support Group
DESCRIPTION:Drop-in every Wednesday to shmooze\, chat\, ask questions\, and hear topics of interest! \nFor notifications and sign-in information\, please fill out the form below. (You only need to register for this group one time.)\n			\n				\n				\n				\n				\n				\n\n			\n			\n				\n				\n				\n				\n			\n				\n				\n				\n				\n				\n				\n			\n				\n				\n				\n				\n				\n				Subscribe to a Newsletter
URL:https://www.eshelonline.org/event/parents-drop-in/2026-07-22/
CATEGORIES:Events
ATTACH;FMTTYPE=image/jpeg:https://www.eshelonline.org/wp-content/uploads/2023/09/Parents-Drop-In-1.jpg
END:VEVENT
BEGIN:VEVENT
DTSTART;TZID=America/New_York:20260729T120000
DTEND;TZID=America/New_York:20260729T130000
DTSTAMP:20260420T012138
CREATED:20200518T143444Z
LAST-MODIFIED:20251210T192705Z
UID:158893-1785326400-1785330000@www.eshelonline.org
SUMMARY:Parents Drop-In Support Group
DESCRIPTION:Drop-in every Wednesday to shmooze\, chat\, ask questions\, and hear topics of interest! \nFor notifications and sign-in information\, please fill out the form below. (You only need to register for this group one time.)\n			\n				\n				\n				\n				\n				\n\n			\n			\n				\n				\n				\n				\n			\n				\n				\n				\n				\n				\n				\n			\n				\n				\n				\n				\n				\n				Subscribe to a Newsletter
URL:https://www.eshelonline.org/event/parents-drop-in/2026-07-29/
CATEGORIES:Events
ATTACH;FMTTYPE=image/jpeg:https://www.eshelonline.org/wp-content/uploads/2023/09/Parents-Drop-In-1.jpg
END:VEVENT
BEGIN:VEVENT
DTSTART;TZID=America/New_York:20260805T120000
DTEND;TZID=America/New_York:20260805T130000
DTSTAMP:20260420T012138
CREATED:20200518T143444Z
LAST-MODIFIED:20251210T192706Z
UID:158943-1785931200-1785934800@www.eshelonline.org
SUMMARY:Parents Drop-In Support Group
DESCRIPTION:Drop-in every Wednesday to shmooze\, chat\, ask questions\, and hear topics of interest! \nFor notifications and sign-in information\, please fill out the form below. (You only need to register for this group one time.)\n			\n				\n				\n				\n				\n				\n\n			\n			\n				\n				\n				\n				\n			\n				\n				\n				\n				\n				\n				\n			\n				\n				\n				\n				\n				\n				Subscribe to a Newsletter
URL:https://www.eshelonline.org/event/parents-drop-in/2026-08-05/
CATEGORIES:Events
ATTACH;FMTTYPE=image/jpeg:https://www.eshelonline.org/wp-content/uploads/2023/09/Parents-Drop-In-1.jpg
END:VEVENT
BEGIN:VEVENT
DTSTART;TZID=America/New_York:20260812T120000
DTEND;TZID=America/New_York:20260812T130000
DTSTAMP:20260420T012138
CREATED:20200518T143444Z
LAST-MODIFIED:20251210T192707Z
UID:159130-1786536000-1786539600@www.eshelonline.org
SUMMARY:Parents Drop-In Support Group
DESCRIPTION:Drop-in every Wednesday to shmooze\, chat\, ask questions\, and hear topics of interest! \nFor notifications and sign-in information\, please fill out the form below. (You only need to register for this group one time.)\n			\n				\n				\n				\n				\n				\n\n			\n			\n				\n				\n				\n				\n			\n				\n				\n				\n				\n				\n				\n			\n				\n				\n				\n				\n				\n				Subscribe to a Newsletter
URL:https://www.eshelonline.org/event/parents-drop-in/2026-08-12/
CATEGORIES:Events
ATTACH;FMTTYPE=image/jpeg:https://www.eshelonline.org/wp-content/uploads/2023/09/Parents-Drop-In-1.jpg
END:VEVENT
BEGIN:VEVENT
DTSTART;TZID=America/New_York:20260819T120000
DTEND;TZID=America/New_York:20260819T130000
DTSTAMP:20260420T012138
CREATED:20200518T143444Z
LAST-MODIFIED:20251210T192710Z
UID:159207-1787140800-1787144400@www.eshelonline.org
SUMMARY:Parents Drop-In Support Group
DESCRIPTION:Drop-in every Wednesday to shmooze\, chat\, ask questions\, and hear topics of interest! \nFor notifications and sign-in information\, please fill out the form below. (You only need to register for this group one time.)\n			\n				\n				\n				\n				\n				\n\n			\n			\n				\n				\n				\n				\n			\n				\n				\n				\n				\n				\n				\n			\n				\n				\n				\n				\n				\n				Subscribe to a Newsletter
URL:https://www.eshelonline.org/event/parents-drop-in/2026-08-19/
CATEGORIES:Events
ATTACH;FMTTYPE=image/jpeg:https://www.eshelonline.org/wp-content/uploads/2023/09/Parents-Drop-In-1.jpg
END:VEVENT
BEGIN:VEVENT
DTSTART;TZID=America/New_York:20260826T120000
DTEND;TZID=America/New_York:20260826T130000
DTSTAMP:20260420T012139
CREATED:20200518T143444Z
LAST-MODIFIED:20251210T192711Z
UID:159285-1787745600-1787749200@www.eshelonline.org
SUMMARY:Parents Drop-In Support Group
DESCRIPTION:Drop-in every Wednesday to shmooze\, chat\, ask questions\, and hear topics of interest! \nFor notifications and sign-in information\, please fill out the form below. (You only need to register for this group one time.)\n			\n				\n				\n				\n				\n				\n\n			\n			\n				\n				\n				\n				\n			\n				\n				\n				\n				\n				\n				\n			\n				\n				\n				\n				\n				\n				Subscribe to a Newsletter
URL:https://www.eshelonline.org/event/parents-drop-in/2026-08-26/
CATEGORIES:Events
ATTACH;FMTTYPE=image/jpeg:https://www.eshelonline.org/wp-content/uploads/2023/09/Parents-Drop-In-1.jpg
END:VEVENT
BEGIN:VEVENT
DTSTART;TZID=America/New_York:20260902T120000
DTEND;TZID=America/New_York:20260902T130000
DTSTAMP:20260420T012139
CREATED:20200518T143444Z
LAST-MODIFIED:20251210T192712Z
UID:159297-1788350400-1788354000@www.eshelonline.org
SUMMARY:Parents Drop-In Support Group
DESCRIPTION:Drop-in every Wednesday to shmooze\, chat\, ask questions\, and hear topics of interest! \nFor notifications and sign-in information\, please fill out the form below. (You only need to register for this group one time.)\n			\n				\n				\n				\n				\n				\n\n			\n			\n				\n				\n				\n				\n			\n				\n				\n				\n				\n				\n				\n			\n				\n				\n				\n				\n				\n				Subscribe to a Newsletter
URL:https://www.eshelonline.org/event/parents-drop-in/2026-09-02/
CATEGORIES:Events
ATTACH;FMTTYPE=image/jpeg:https://www.eshelonline.org/wp-content/uploads/2023/09/Parents-Drop-In-1.jpg
END:VEVENT
BEGIN:VEVENT
DTSTART;TZID=America/New_York:20260909T120000
DTEND;TZID=America/New_York:20260909T130000
DTSTAMP:20260420T012139
CREATED:20200518T143444Z
LAST-MODIFIED:20251210T192713Z
UID:159424-1788955200-1788958800@www.eshelonline.org
SUMMARY:Parents Drop-In Support Group
DESCRIPTION:Drop-in every Wednesday to shmooze\, chat\, ask questions\, and hear topics of interest! \nFor notifications and sign-in information\, please fill out the form below. (You only need to register for this group one time.)\n			\n				\n				\n				\n				\n				\n\n			\n			\n				\n				\n				\n				\n			\n				\n				\n				\n				\n				\n				\n			\n				\n				\n				\n				\n				\n				Subscribe to a Newsletter
URL:https://www.eshelonline.org/event/parents-drop-in/2026-09-09/
CATEGORIES:Events
ATTACH;FMTTYPE=image/jpeg:https://www.eshelonline.org/wp-content/uploads/2023/09/Parents-Drop-In-1.jpg
END:VEVENT
BEGIN:VEVENT
DTSTART;TZID=America/New_York:20260916T120000
DTEND;TZID=America/New_York:20260916T130000
DTSTAMP:20260420T012139
CREATED:20200518T143444Z
LAST-MODIFIED:20251210T192714Z
UID:159793-1789560000-1789563600@www.eshelonline.org
SUMMARY:Parents Drop-In Support Group
DESCRIPTION:Drop-in every Wednesday to shmooze\, chat\, ask questions\, and hear topics of interest! \nFor notifications and sign-in information\, please fill out the form below. (You only need to register for this group one time.)\n			\n				\n				\n				\n				\n				\n\n			\n			\n				\n				\n				\n				\n			\n				\n				\n				\n				\n				\n				\n			\n				\n				\n				\n				\n				\n				Subscribe to a Newsletter
URL:https://www.eshelonline.org/event/parents-drop-in/2026-09-16/
CATEGORIES:Events
ATTACH;FMTTYPE=image/jpeg:https://www.eshelonline.org/wp-content/uploads/2023/09/Parents-Drop-In-1.jpg
END:VEVENT
BEGIN:VEVENT
DTSTART;TZID=America/New_York:20260923T120000
DTEND;TZID=America/New_York:20260923T130000
DTSTAMP:20260420T012139
CREATED:20200518T143444Z
LAST-MODIFIED:20251210T192715Z
UID:159819-1790164800-1790168400@www.eshelonline.org
SUMMARY:Parents Drop-In Support Group
DESCRIPTION:Drop-in every Wednesday to shmooze\, chat\, ask questions\, and hear topics of interest! \nFor notifications and sign-in information\, please fill out the form below. (You only need to register for this group one time.)\n			\n				\n				\n				\n				\n				\n\n			\n			\n				\n				\n				\n				\n			\n				\n				\n				\n				\n				\n				\n			\n				\n				\n				\n				\n				\n				Subscribe to a Newsletter
URL:https://www.eshelonline.org/event/parents-drop-in/2026-09-23/
CATEGORIES:Events
ATTACH;FMTTYPE=image/jpeg:https://www.eshelonline.org/wp-content/uploads/2023/09/Parents-Drop-In-1.jpg
END:VEVENT
BEGIN:VEVENT
DTSTART;TZID=America/New_York:20260930T120000
DTEND;TZID=America/New_York:20260930T130000
DTSTAMP:20260420T012139
CREATED:20200518T143444Z
LAST-MODIFIED:20251210T192716Z
UID:159868-1790769600-1790773200@www.eshelonline.org
SUMMARY:Parents Drop-In Support Group
DESCRIPTION:Drop-in every Wednesday to shmooze\, chat\, ask questions\, and hear topics of interest! \nFor notifications and sign-in information\, please fill out the form below. (You only need to register for this group one time.)\n			\n				\n				\n				\n				\n				\n\n			\n			\n				\n				\n				\n				\n			\n				\n				\n				\n				\n				\n				\n			\n				\n				\n				\n				\n				\n				Subscribe to a Newsletter
URL:https://www.eshelonline.org/event/parents-drop-in/2026-09-30/
CATEGORIES:Events
ATTACH;FMTTYPE=image/jpeg:https://www.eshelonline.org/wp-content/uploads/2023/09/Parents-Drop-In-1.jpg
END:VEVENT
BEGIN:VEVENT
DTSTART;TZID=America/New_York:20261007T120000
DTEND;TZID=America/New_York:20261007T130000
DTSTAMP:20260420T012139
CREATED:20200518T143444Z
LAST-MODIFIED:20251210T192717Z
UID:159910-1791374400-1791378000@www.eshelonline.org
SUMMARY:Parents Drop-In Support Group
DESCRIPTION:Drop-in every Wednesday to shmooze\, chat\, ask questions\, and hear topics of interest! \nFor notifications and sign-in information\, please fill out the form below. (You only need to register for this group one time.)\n			\n				\n				\n				\n				\n				\n\n			\n			\n				\n				\n				\n				\n			\n				\n				\n				\n				\n				\n				\n			\n				\n				\n				\n				\n				\n				Subscribe to a Newsletter
URL:https://www.eshelonline.org/event/parents-drop-in/2026-10-07/
CATEGORIES:Events
ATTACH;FMTTYPE=image/jpeg:https://www.eshelonline.org/wp-content/uploads/2023/09/Parents-Drop-In-1.jpg
END:VEVENT
BEGIN:VEVENT
DTSTART;TZID=America/New_York:20261014T120000
DTEND;TZID=America/New_York:20261014T130000
DTSTAMP:20260420T012139
CREATED:20200518T143444Z
LAST-MODIFIED:20251210T192717Z
UID:159955-1791979200-1791982800@www.eshelonline.org
SUMMARY:Parents Drop-In Support Group
DESCRIPTION:Drop-in every Wednesday to shmooze\, chat\, ask questions\, and hear topics of interest! \nFor notifications and sign-in information\, please fill out the form below. (You only need to register for this group one time.)\n			\n				\n				\n				\n				\n				\n\n			\n			\n				\n				\n				\n				\n			\n				\n				\n				\n				\n				\n				\n			\n				\n				\n				\n				\n				\n				Subscribe to a Newsletter
URL:https://www.eshelonline.org/event/parents-drop-in/2026-10-14/
CATEGORIES:Events
ATTACH;FMTTYPE=image/jpeg:https://www.eshelonline.org/wp-content/uploads/2023/09/Parents-Drop-In-1.jpg
END:VEVENT
BEGIN:VEVENT
DTSTART;TZID=America/New_York:20261021T120000
DTEND;TZID=America/New_York:20261021T130000
DTSTAMP:20260420T012139
CREATED:20200518T143444Z
LAST-MODIFIED:20251210T192718Z
UID:159975-1792584000-1792587600@www.eshelonline.org
SUMMARY:Parents Drop-In Support Group
DESCRIPTION:Drop-in every Wednesday to shmooze\, chat\, ask questions\, and hear topics of interest! \nFor notifications and sign-in information\, please fill out the form below. (You only need to register for this group one time.)\n			\n				\n				\n				\n				\n				\n\n			\n			\n				\n				\n				\n				\n			\n				\n				\n				\n				\n				\n				\n			\n				\n				\n				\n				\n				\n				Subscribe to a Newsletter
URL:https://www.eshelonline.org/event/parents-drop-in/2026-10-21/
CATEGORIES:Events
ATTACH;FMTTYPE=image/jpeg:https://www.eshelonline.org/wp-content/uploads/2023/09/Parents-Drop-In-1.jpg
END:VEVENT
BEGIN:VEVENT
DTSTART;TZID=America/New_York:20261028T120000
DTEND;TZID=America/New_York:20261028T130000
DTSTAMP:20260420T012139
CREATED:20200518T143444Z
LAST-MODIFIED:20251210T192721Z
UID:160009-1793188800-1793192400@www.eshelonline.org
SUMMARY:Parents Drop-In Support Group
DESCRIPTION:Drop-in every Wednesday to shmooze\, chat\, ask questions\, and hear topics of interest! \nFor notifications and sign-in information\, please fill out the form below. (You only need to register for this group one time.)\n			\n				\n				\n				\n				\n				\n\n			\n			\n				\n				\n				\n				\n			\n				\n				\n				\n				\n				\n				\n			\n				\n				\n				\n				\n				\n				Subscribe to a Newsletter
URL:https://www.eshelonline.org/event/parents-drop-in/2026-10-28/
CATEGORIES:Events
ATTACH;FMTTYPE=image/jpeg:https://www.eshelonline.org/wp-content/uploads/2023/09/Parents-Drop-In-1.jpg
END:VEVENT
BEGIN:VEVENT
DTSTART;TZID=America/New_York:20261104T120000
DTEND;TZID=America/New_York:20261104T130000
DTSTAMP:20260420T012139
CREATED:20200518T143444Z
LAST-MODIFIED:20251210T192721Z
UID:160080-1793793600-1793797200@www.eshelonline.org
SUMMARY:Parents Drop-In Support Group
DESCRIPTION:Drop-in every Wednesday to shmooze\, chat\, ask questions\, and hear topics of interest! \nFor notifications and sign-in information\, please fill out the form below. (You only need to register for this group one time.)\n			\n				\n				\n				\n				\n				\n\n			\n			\n				\n				\n				\n				\n			\n				\n				\n				\n				\n				\n				\n			\n				\n				\n				\n				\n				\n				Subscribe to a Newsletter
URL:https://www.eshelonline.org/event/parents-drop-in/2026-11-04/
CATEGORIES:Events
ATTACH;FMTTYPE=image/jpeg:https://www.eshelonline.org/wp-content/uploads/2023/09/Parents-Drop-In-1.jpg
END:VEVENT
BEGIN:VEVENT
DTSTART;TZID=America/New_York:20261111T120000
DTEND;TZID=America/New_York:20261111T130000
DTSTAMP:20260420T012139
CREATED:20200518T143444Z
LAST-MODIFIED:20251210T192722Z
UID:160125-1794398400-1794402000@www.eshelonline.org
SUMMARY:Parents Drop-In Support Group
DESCRIPTION:Drop-in every Wednesday to shmooze\, chat\, ask questions\, and hear topics of interest! \nFor notifications and sign-in information\, please fill out the form below. (You only need to register for this group one time.)\n			\n				\n				\n				\n				\n				\n\n			\n			\n				\n				\n				\n				\n			\n				\n				\n				\n				\n				\n				\n			\n				\n				\n				\n				\n				\n				Subscribe to a Newsletter
URL:https://www.eshelonline.org/event/parents-drop-in/2026-11-11/
CATEGORIES:Events
ATTACH;FMTTYPE=image/jpeg:https://www.eshelonline.org/wp-content/uploads/2023/09/Parents-Drop-In-1.jpg
END:VEVENT
END:VCALENDAR