BEGIN:VCALENDAR
VERSION:2.0
PRODID:-//Eshel Online - ECPv6.0.0.1//NONSGML v1.0//EN
CALSCALE:GREGORIAN
METHOD:PUBLISH
X-ORIGINAL-URL:https://www.eshelonline.org
X-WR-CALDESC:Events for Eshel Online
REFRESH-INTERVAL;VALUE=DURATION:PT1H
X-Robots-Tag:noindex
X-PUBLISHED-TTL:PT1H
BEGIN:VTIMEZONE
TZID:America/New_York
BEGIN:DAYLIGHT
TZOFFSETFROM:-0500
TZOFFSETTO:-0400
TZNAME:EDT
DTSTART:20260308T070000
END:DAYLIGHT
BEGIN:STANDARD
TZOFFSETFROM:-0400
TZOFFSETTO:-0500
TZNAME:EST
DTSTART:20261101T060000
END:STANDARD
BEGIN:DAYLIGHT
TZOFFSETFROM:-0500
TZOFFSETTO:-0400
TZNAME:EDT
DTSTART:20270314T070000
END:DAYLIGHT
BEGIN:STANDARD
TZOFFSETFROM:-0400
TZOFFSETTO:-0500
TZNAME:EST
DTSTART:20271107T060000
END:STANDARD
BEGIN:DAYLIGHT
TZOFFSETFROM:-0500
TZOFFSETTO:-0400
TZNAME:EDT
DTSTART:20280312T070000
END:DAYLIGHT
BEGIN:STANDARD
TZOFFSETFROM:-0400
TZOFFSETTO:-0500
TZNAME:EST
DTSTART:20281105T060000
END:STANDARD
END:VTIMEZONE
BEGIN:VEVENT
DTSTART;TZID=America/New_York:20260511T200000
DTEND;TZID=America/New_York:20260511T210000
DTSTAMP:20260425T163538
CREATED:20230926T162921Z
LAST-MODIFIED:20251126T132119Z
UID:157254-1778529600-1778533200@www.eshelonline.org
SUMMARY:LGBTQ+ Support Group
DESCRIPTION:A confidential space for LGBTQ+ adults who are Orthodox\, formerly Orthodox\, or Orthodox-adjacent to access peer support\, share their experiences\, and connect and gain insights from others. \n  \nSecond Monday of the month \n8:00 pm ET\, 7:00 pm CT\, 6:00 pm MT\, 5:00 pm PT \nRegister below for Zoom link and to receive notifications each month.
URL:https://www.eshelonline.org/event/lgbtq-support-group-2-2024-01-01/2026-05-11/
ATTACH;FMTTYPE=image/png:https://www.eshelonline.org/wp-content/uploads/2023/09/Eshel-Support-groups-and-meetups.png
END:VEVENT
BEGIN:VEVENT
DTSTART;TZID=America/New_York:20260608T200000
DTEND;TZID=America/New_York:20260608T210000
DTSTAMP:20260425T163538
CREATED:20230926T162921Z
LAST-MODIFIED:20251126T132119Z
UID:158297-1780948800-1780952400@www.eshelonline.org
SUMMARY:LGBTQ+ Support Group
DESCRIPTION:A confidential space for LGBTQ+ adults who are Orthodox\, formerly Orthodox\, or Orthodox-adjacent to access peer support\, share their experiences\, and connect and gain insights from others. \n  \nSecond Monday of the month \n8:00 pm ET\, 7:00 pm CT\, 6:00 pm MT\, 5:00 pm PT \nRegister below for Zoom link and to receive notifications each month.
URL:https://www.eshelonline.org/event/lgbtq-support-group-2-2024-01-01/2026-06-08/
ATTACH;FMTTYPE=image/png:https://www.eshelonline.org/wp-content/uploads/2023/09/Eshel-Support-groups-and-meetups.png
END:VEVENT
BEGIN:VEVENT
DTSTART;TZID=America/New_York:20260713T200000
DTEND;TZID=America/New_York:20260713T210000
DTSTAMP:20260425T163538
CREATED:20230926T162921Z
LAST-MODIFIED:20251126T132120Z
UID:158573-1783972800-1783976400@www.eshelonline.org
SUMMARY:LGBTQ+ Support Group
DESCRIPTION:A confidential space for LGBTQ+ adults who are Orthodox\, formerly Orthodox\, or Orthodox-adjacent to access peer support\, share their experiences\, and connect and gain insights from others. \n  \nSecond Monday of the month \n8:00 pm ET\, 7:00 pm CT\, 6:00 pm MT\, 5:00 pm PT \nRegister below for Zoom link and to receive notifications each month.
URL:https://www.eshelonline.org/event/lgbtq-support-group-2-2024-01-01/2026-07-13/
ATTACH;FMTTYPE=image/png:https://www.eshelonline.org/wp-content/uploads/2023/09/Eshel-Support-groups-and-meetups.png
END:VEVENT
BEGIN:VEVENT
DTSTART;TZID=America/New_York:20260810T200000
DTEND;TZID=America/New_York:20260810T210000
DTSTAMP:20260425T163538
CREATED:20230926T162921Z
LAST-MODIFIED:20251126T132121Z
UID:159124-1786392000-1786395600@www.eshelonline.org
SUMMARY:LGBTQ+ Support Group
DESCRIPTION:A confidential space for LGBTQ+ adults who are Orthodox\, formerly Orthodox\, or Orthodox-adjacent to access peer support\, share their experiences\, and connect and gain insights from others. \n  \nSecond Monday of the month \n8:00 pm ET\, 7:00 pm CT\, 6:00 pm MT\, 5:00 pm PT \nRegister below for Zoom link and to receive notifications each month.
URL:https://www.eshelonline.org/event/lgbtq-support-group-2-2024-01-01/2026-08-10/
ATTACH;FMTTYPE=image/png:https://www.eshelonline.org/wp-content/uploads/2023/09/Eshel-Support-groups-and-meetups.png
END:VEVENT
BEGIN:VEVENT
DTSTART;TZID=America/New_York:20260914T200000
DTEND;TZID=America/New_York:20260914T210000
DTSTAMP:20260425T163538
CREATED:20230926T162921Z
LAST-MODIFIED:20251126T132122Z
UID:159677-1789416000-1789419600@www.eshelonline.org
SUMMARY:LGBTQ+ Support Group
DESCRIPTION:A confidential space for LGBTQ+ adults who are Orthodox\, formerly Orthodox\, or Orthodox-adjacent to access peer support\, share their experiences\, and connect and gain insights from others. \n  \nSecond Monday of the month \n8:00 pm ET\, 7:00 pm CT\, 6:00 pm MT\, 5:00 pm PT \nRegister below for Zoom link and to receive notifications each month.
URL:https://www.eshelonline.org/event/lgbtq-support-group-2-2024-01-01/2026-09-14/
ATTACH;FMTTYPE=image/png:https://www.eshelonline.org/wp-content/uploads/2023/09/Eshel-Support-groups-and-meetups.png
END:VEVENT
BEGIN:VEVENT
DTSTART;TZID=America/New_York:20261012T200000
DTEND;TZID=America/New_York:20261012T210000
DTSTAMP:20260425T163538
CREATED:20230926T162921Z
LAST-MODIFIED:20251126T132122Z
UID:159936-1791835200-1791838800@www.eshelonline.org
SUMMARY:LGBTQ+ Support Group
DESCRIPTION:A confidential space for LGBTQ+ adults who are Orthodox\, formerly Orthodox\, or Orthodox-adjacent to access peer support\, share their experiences\, and connect and gain insights from others. \n  \nSecond Monday of the month \n8:00 pm ET\, 7:00 pm CT\, 6:00 pm MT\, 5:00 pm PT \nRegister below for Zoom link and to receive notifications each month.
URL:https://www.eshelonline.org/event/lgbtq-support-group-2-2024-01-01/2026-10-12/
ATTACH;FMTTYPE=image/png:https://www.eshelonline.org/wp-content/uploads/2023/09/Eshel-Support-groups-and-meetups.png
END:VEVENT
BEGIN:VEVENT
DTSTART;TZID=America/New_York:20261109T200000
DTEND;TZID=America/New_York:20261109T210000
DTSTAMP:20260425T163538
CREATED:20230926T162921Z
LAST-MODIFIED:20251126T132123Z
UID:160115-1794254400-1794258000@www.eshelonline.org
SUMMARY:LGBTQ+ Support Group
DESCRIPTION:A confidential space for LGBTQ+ adults who are Orthodox\, formerly Orthodox\, or Orthodox-adjacent to access peer support\, share their experiences\, and connect and gain insights from others. \n  \nSecond Monday of the month \n8:00 pm ET\, 7:00 pm CT\, 6:00 pm MT\, 5:00 pm PT \nRegister below for Zoom link and to receive notifications each month.
URL:https://www.eshelonline.org/event/lgbtq-support-group-2-2024-01-01/2026-11-09/
ATTACH;FMTTYPE=image/png:https://www.eshelonline.org/wp-content/uploads/2023/09/Eshel-Support-groups-and-meetups.png
END:VEVENT
BEGIN:VEVENT
DTSTART;TZID=America/New_York:20261214T200000
DTEND;TZID=America/New_York:20261214T210000
DTSTAMP:20260425T163538
CREATED:20230926T162921Z
LAST-MODIFIED:20251126T134200Z
UID:160749-1797278400-1797282000@www.eshelonline.org
SUMMARY:LGBTQ+ Support Group
DESCRIPTION:A confidential space for LGBTQ+ adults who are Orthodox\, formerly Orthodox\, or Orthodox-adjacent to access peer support\, share their experiences\, and connect and gain insights from others. \n  \nSecond Monday of the month \n8:00 pm ET\, 7:00 pm CT\, 6:00 pm MT\, 5:00 pm PT \nRegister below for Zoom link and to receive notifications each month. \n			\n				\n				\n				\n				\n				\n\n  hbspt.forms.create({\n    region: "na1"\,\n    portalId: "7837587"\,\n    formId: "5cedcd16-2123-4da6-adce-e27bbf417a31"\n  });
URL:https://www.eshelonline.org/event/lgbtq-support-group-2-2024-01-01/2026-12-14/
ATTACH;FMTTYPE=image/png:https://www.eshelonline.org/wp-content/uploads/2023/09/Eshel-Support-groups-and-meetups.png
END:VEVENT
BEGIN:VEVENT
DTSTART;TZID=America/New_York:20270111T200000
DTEND;TZID=America/New_York:20270111T210000
DTSTAMP:20260425T163538
CREATED:20230926T162921Z
LAST-MODIFIED:20251126T134201Z
UID:160960-1799697600-1799701200@www.eshelonline.org
SUMMARY:LGBTQ+ Support Group
DESCRIPTION:A confidential space for LGBTQ+ adults who are Orthodox\, formerly Orthodox\, or Orthodox-adjacent to access peer support\, share their experiences\, and connect and gain insights from others. \n  \nSecond Monday of the month \n8:00 pm ET\, 7:00 pm CT\, 6:00 pm MT\, 5:00 pm PT \nRegister below for Zoom link and to receive notifications each month. \n			\n				\n				\n				\n				\n				\n\n  hbspt.forms.create({\n    region: "na1"\,\n    portalId: "7837587"\,\n    formId: "5cedcd16-2123-4da6-adce-e27bbf417a31"\n  });
URL:https://www.eshelonline.org/event/lgbtq-support-group-2-2024-01-01/2027-01-11/
ATTACH;FMTTYPE=image/png:https://www.eshelonline.org/wp-content/uploads/2023/09/Eshel-Support-groups-and-meetups.png
END:VEVENT
BEGIN:VEVENT
DTSTART;TZID=America/New_York:20270208T200000
DTEND;TZID=America/New_York:20270208T210000
DTSTAMP:20260425T163538
CREATED:20230926T162921Z
LAST-MODIFIED:20251126T134202Z
UID:161370-1802116800-1802120400@www.eshelonline.org
SUMMARY:LGBTQ+ Support Group
DESCRIPTION:A confidential space for LGBTQ+ adults who are Orthodox\, formerly Orthodox\, or Orthodox-adjacent to access peer support\, share their experiences\, and connect and gain insights from others. \n  \nSecond Monday of the month \n8:00 pm ET\, 7:00 pm CT\, 6:00 pm MT\, 5:00 pm PT \nRegister below for Zoom link and to receive notifications each month. \n			\n				\n				\n				\n				\n				\n\n  hbspt.forms.create({\n    region: "na1"\,\n    portalId: "7837587"\,\n    formId: "5cedcd16-2123-4da6-adce-e27bbf417a31"\n  });
URL:https://www.eshelonline.org/event/lgbtq-support-group-2-2024-01-01/2027-02-08/
ATTACH;FMTTYPE=image/png:https://www.eshelonline.org/wp-content/uploads/2023/09/Eshel-Support-groups-and-meetups.png
END:VEVENT
BEGIN:VEVENT
DTSTART;TZID=America/New_York:20270308T200000
DTEND;TZID=America/New_York:20270308T210000
DTSTAMP:20260425T163538
CREATED:20230926T162921Z
LAST-MODIFIED:20251126T134203Z
UID:161674-1804536000-1804539600@www.eshelonline.org
SUMMARY:LGBTQ+ Support Group
DESCRIPTION:A confidential space for LGBTQ+ adults who are Orthodox\, formerly Orthodox\, or Orthodox-adjacent to access peer support\, share their experiences\, and connect and gain insights from others. \n  \nSecond Monday of the month \n8:00 pm ET\, 7:00 pm CT\, 6:00 pm MT\, 5:00 pm PT \nRegister below for Zoom link and to receive notifications each month. \n			\n				\n				\n				\n				\n				\n\n  hbspt.forms.create({\n    region: "na1"\,\n    portalId: "7837587"\,\n    formId: "5cedcd16-2123-4da6-adce-e27bbf417a31"\n  });
URL:https://www.eshelonline.org/event/lgbtq-support-group-2-2024-01-01/2027-03-08/
ATTACH;FMTTYPE=image/png:https://www.eshelonline.org/wp-content/uploads/2023/09/Eshel-Support-groups-and-meetups.png
END:VEVENT
BEGIN:VEVENT
DTSTART;TZID=America/New_York:20270412T200000
DTEND;TZID=America/New_York:20270412T210000
DTSTAMP:20260425T163538
CREATED:20230926T162921Z
LAST-MODIFIED:20251126T134204Z
UID:162107-1807560000-1807563600@www.eshelonline.org
SUMMARY:LGBTQ+ Support Group
DESCRIPTION:A confidential space for LGBTQ+ adults who are Orthodox\, formerly Orthodox\, or Orthodox-adjacent to access peer support\, share their experiences\, and connect and gain insights from others. \n  \nSecond Monday of the month \n8:00 pm ET\, 7:00 pm CT\, 6:00 pm MT\, 5:00 pm PT \nRegister below for Zoom link and to receive notifications each month. \n			\n				\n				\n				\n				\n				\n\n  hbspt.forms.create({\n    region: "na1"\,\n    portalId: "7837587"\,\n    formId: "5cedcd16-2123-4da6-adce-e27bbf417a31"\n  });
URL:https://www.eshelonline.org/event/lgbtq-support-group-2-2024-01-01/2027-04-12/
ATTACH;FMTTYPE=image/png:https://www.eshelonline.org/wp-content/uploads/2023/09/Eshel-Support-groups-and-meetups.png
END:VEVENT
BEGIN:VEVENT
DTSTART;TZID=America/New_York:20270510T200000
DTEND;TZID=America/New_York:20270510T210000
DTSTAMP:20260425T163538
CREATED:20230926T162921Z
LAST-MODIFIED:20251126T134204Z
UID:162615-1809979200-1809982800@www.eshelonline.org
SUMMARY:LGBTQ+ Support Group
DESCRIPTION:A confidential space for LGBTQ+ adults who are Orthodox\, formerly Orthodox\, or Orthodox-adjacent to access peer support\, share their experiences\, and connect and gain insights from others. \n  \nSecond Monday of the month \n8:00 pm ET\, 7:00 pm CT\, 6:00 pm MT\, 5:00 pm PT \nRegister below for Zoom link and to receive notifications each month. \n			\n				\n				\n				\n				\n				\n\n  hbspt.forms.create({\n    region: "na1"\,\n    portalId: "7837587"\,\n    formId: "5cedcd16-2123-4da6-adce-e27bbf417a31"\n  });
URL:https://www.eshelonline.org/event/lgbtq-support-group-2-2024-01-01/2027-05-10/
ATTACH;FMTTYPE=image/png:https://www.eshelonline.org/wp-content/uploads/2023/09/Eshel-Support-groups-and-meetups.png
END:VEVENT
BEGIN:VEVENT
DTSTART;TZID=America/New_York:20270614T200000
DTEND;TZID=America/New_York:20270614T210000
DTSTAMP:20260425T163538
CREATED:20230926T162921Z
LAST-MODIFIED:20251126T134205Z
UID:162916-1813003200-1813006800@www.eshelonline.org
SUMMARY:LGBTQ+ Support Group
DESCRIPTION:A confidential space for LGBTQ+ adults who are Orthodox\, formerly Orthodox\, or Orthodox-adjacent to access peer support\, share their experiences\, and connect and gain insights from others. \n  \nSecond Monday of the month \n8:00 pm ET\, 7:00 pm CT\, 6:00 pm MT\, 5:00 pm PT \nRegister below for Zoom link and to receive notifications each month. \n			\n				\n				\n				\n				\n				\n\n  hbspt.forms.create({\n    region: "na1"\,\n    portalId: "7837587"\,\n    formId: "5cedcd16-2123-4da6-adce-e27bbf417a31"\n  });
URL:https://www.eshelonline.org/event/lgbtq-support-group-2-2024-01-01/2027-06-14/
ATTACH;FMTTYPE=image/png:https://www.eshelonline.org/wp-content/uploads/2023/09/Eshel-Support-groups-and-meetups.png
END:VEVENT
BEGIN:VEVENT
DTSTART;TZID=America/New_York:20270712T200000
DTEND;TZID=America/New_York:20270712T210000
DTSTAMP:20260425T163538
CREATED:20230926T162921Z
LAST-MODIFIED:20251126T134206Z
UID:163157-1815422400-1815426000@www.eshelonline.org
SUMMARY:LGBTQ+ Support Group
DESCRIPTION:A confidential space for LGBTQ+ adults who are Orthodox\, formerly Orthodox\, or Orthodox-adjacent to access peer support\, share their experiences\, and connect and gain insights from others. \n  \nSecond Monday of the month \n8:00 pm ET\, 7:00 pm CT\, 6:00 pm MT\, 5:00 pm PT \nRegister below for Zoom link and to receive notifications each month. \n			\n				\n				\n				\n				\n				\n\n  hbspt.forms.create({\n    region: "na1"\,\n    portalId: "7837587"\,\n    formId: "5cedcd16-2123-4da6-adce-e27bbf417a31"\n  });
URL:https://www.eshelonline.org/event/lgbtq-support-group-2-2024-01-01/2027-07-12/
ATTACH;FMTTYPE=image/png:https://www.eshelonline.org/wp-content/uploads/2023/09/Eshel-Support-groups-and-meetups.png
END:VEVENT
BEGIN:VEVENT
DTSTART;TZID=America/New_York:20270809T200000
DTEND;TZID=America/New_York:20270809T210000
DTSTAMP:20260425T163538
CREATED:20230926T162921Z
LAST-MODIFIED:20251126T134207Z
UID:163259-1817841600-1817845200@www.eshelonline.org
SUMMARY:LGBTQ+ Support Group
DESCRIPTION:A confidential space for LGBTQ+ adults who are Orthodox\, formerly Orthodox\, or Orthodox-adjacent to access peer support\, share their experiences\, and connect and gain insights from others. \n  \nSecond Monday of the month \n8:00 pm ET\, 7:00 pm CT\, 6:00 pm MT\, 5:00 pm PT \nRegister below for Zoom link and to receive notifications each month. \n			\n				\n				\n				\n				\n				\n\n  hbspt.forms.create({\n    region: "na1"\,\n    portalId: "7837587"\,\n    formId: "5cedcd16-2123-4da6-adce-e27bbf417a31"\n  });
URL:https://www.eshelonline.org/event/lgbtq-support-group-2-2024-01-01/2027-08-09/
ATTACH;FMTTYPE=image/png:https://www.eshelonline.org/wp-content/uploads/2023/09/Eshel-Support-groups-and-meetups.png
END:VEVENT
BEGIN:VEVENT
DTSTART;TZID=America/New_York:20270913T200000
DTEND;TZID=America/New_York:20270913T210000
DTSTAMP:20260425T163538
CREATED:20230926T162921Z
LAST-MODIFIED:20251126T134207Z
UID:163531-1820865600-1820869200@www.eshelonline.org
SUMMARY:LGBTQ+ Support Group
DESCRIPTION:A confidential space for LGBTQ+ adults who are Orthodox\, formerly Orthodox\, or Orthodox-adjacent to access peer support\, share their experiences\, and connect and gain insights from others. \n  \nSecond Monday of the month \n8:00 pm ET\, 7:00 pm CT\, 6:00 pm MT\, 5:00 pm PT \nRegister below for Zoom link and to receive notifications each month. \n			\n				\n				\n				\n				\n				\n\n  hbspt.forms.create({\n    region: "na1"\,\n    portalId: "7837587"\,\n    formId: "5cedcd16-2123-4da6-adce-e27bbf417a31"\n  });
URL:https://www.eshelonline.org/event/lgbtq-support-group-2-2024-01-01/2027-09-13/
ATTACH;FMTTYPE=image/png:https://www.eshelonline.org/wp-content/uploads/2023/09/Eshel-Support-groups-and-meetups.png
END:VEVENT
BEGIN:VEVENT
DTSTART;TZID=America/New_York:20271011T200000
DTEND;TZID=America/New_York:20271011T210000
DTSTAMP:20260425T163538
CREATED:20230926T162921Z
LAST-MODIFIED:20251126T134208Z
UID:163954-1823284800-1823288400@www.eshelonline.org
SUMMARY:LGBTQ+ Support Group
DESCRIPTION:A confidential space for LGBTQ+ adults who are Orthodox\, formerly Orthodox\, or Orthodox-adjacent to access peer support\, share their experiences\, and connect and gain insights from others. \n  \nSecond Monday of the month \n8:00 pm ET\, 7:00 pm CT\, 6:00 pm MT\, 5:00 pm PT \nRegister below for Zoom link and to receive notifications each month. \n			\n				\n				\n				\n				\n				\n\n  hbspt.forms.create({\n    region: "na1"\,\n    portalId: "7837587"\,\n    formId: "5cedcd16-2123-4da6-adce-e27bbf417a31"\n  });
URL:https://www.eshelonline.org/event/lgbtq-support-group-2-2024-01-01/2027-10-11/
ATTACH;FMTTYPE=image/png:https://www.eshelonline.org/wp-content/uploads/2023/09/Eshel-Support-groups-and-meetups.png
END:VEVENT
BEGIN:VEVENT
DTSTART;TZID=America/New_York:20271108T200000
DTEND;TZID=America/New_York:20271108T210000
DTSTAMP:20260425T163538
CREATED:20230926T162921Z
LAST-MODIFIED:20251126T134209Z
UID:164205-1825704000-1825707600@www.eshelonline.org
SUMMARY:LGBTQ+ Support Group
DESCRIPTION:A confidential space for LGBTQ+ adults who are Orthodox\, formerly Orthodox\, or Orthodox-adjacent to access peer support\, share their experiences\, and connect and gain insights from others. \n  \nSecond Monday of the month \n8:00 pm ET\, 7:00 pm CT\, 6:00 pm MT\, 5:00 pm PT \nRegister below for Zoom link and to receive notifications each month. \n			\n				\n				\n				\n				\n				\n\n  hbspt.forms.create({\n    region: "na1"\,\n    portalId: "7837587"\,\n    formId: "5cedcd16-2123-4da6-adce-e27bbf417a31"\n  });
URL:https://www.eshelonline.org/event/lgbtq-support-group-2-2024-01-01/2027-11-08/
ATTACH;FMTTYPE=image/png:https://www.eshelonline.org/wp-content/uploads/2023/09/Eshel-Support-groups-and-meetups.png
END:VEVENT
BEGIN:VEVENT
DTSTART;TZID=America/New_York:20271213T200000
DTEND;TZID=America/New_York:20271213T210000
DTSTAMP:20260425T163538
CREATED:20230926T162921Z
LAST-MODIFIED:20230926T162921Z
UID:164796-1828728000-1828731600@www.eshelonline.org
SUMMARY:LGBTQ+ Support Group
DESCRIPTION:A confidential space for LGBTQ+ adults who are Orthodox\, formerly Orthodox\, or Orthodox-adjacent to access peer support\, share their experiences\, and connect and gain insights from others. \n  \nSecond Monday of the month \n8:00 pm ET\, 7:00 pm CT\, 6:00 pm MT\, 5:00 pm PT \nRegister below for Zoom link and to receive notifications each month. \n			\n				\n				\n				\n				\n				\n\n  hbspt.forms.create({\n    region: "na1"\,\n    portalId: "7837587"\,\n    formId: "5cedcd16-2123-4da6-adce-e27bbf417a31"\n  });
URL:https://www.eshelonline.org/event/lgbtq-support-group-2-2024-01-01/2027-12-13/
ATTACH;FMTTYPE=image/png:https://www.eshelonline.org/wp-content/uploads/2023/09/Eshel-Support-groups-and-meetups.png
END:VEVENT
BEGIN:VEVENT
DTSTART;TZID=America/New_York:20280110T200000
DTEND;TZID=America/New_York:20280110T210000
DTSTAMP:20260425T163538
CREATED:20230926T162921Z
LAST-MODIFIED:20230926T162921Z
UID:165048-1831147200-1831150800@www.eshelonline.org
SUMMARY:LGBTQ+ Support Group
DESCRIPTION:A confidential space for LGBTQ+ adults who are Orthodox\, formerly Orthodox\, or Orthodox-adjacent to access peer support\, share their experiences\, and connect and gain insights from others. \n  \nSecond Monday of the month \n8:00 pm ET\, 7:00 pm CT\, 6:00 pm MT\, 5:00 pm PT \nRegister below for Zoom link and to receive notifications each month. \n			\n				\n				\n				\n				\n				\n\n  hbspt.forms.create({\n    region: "na1"\,\n    portalId: "7837587"\,\n    formId: "5cedcd16-2123-4da6-adce-e27bbf417a31"\n  });
URL:https://www.eshelonline.org/event/lgbtq-support-group-2-2024-01-01/2028-01-10/
ATTACH;FMTTYPE=image/png:https://www.eshelonline.org/wp-content/uploads/2023/09/Eshel-Support-groups-and-meetups.png
END:VEVENT
BEGIN:VEVENT
DTSTART;TZID=America/New_York:20280214T200000
DTEND;TZID=America/New_York:20280214T210000
DTSTAMP:20260425T163538
CREATED:20230926T162921Z
LAST-MODIFIED:20230926T162921Z
UID:165240-1834171200-1834174800@www.eshelonline.org
SUMMARY:LGBTQ+ Support Group
DESCRIPTION:A confidential space for LGBTQ+ adults who are Orthodox\, formerly Orthodox\, or Orthodox-adjacent to access peer support\, share their experiences\, and connect and gain insights from others. \n  \nSecond Monday of the month \n8:00 pm ET\, 7:00 pm CT\, 6:00 pm MT\, 5:00 pm PT \nRegister below for Zoom link and to receive notifications each month. \n			\n				\n				\n				\n				\n				\n\n  hbspt.forms.create({\n    region: "na1"\,\n    portalId: "7837587"\,\n    formId: "5cedcd16-2123-4da6-adce-e27bbf417a31"\n  });
URL:https://www.eshelonline.org/event/lgbtq-support-group-2-2024-01-01/2028-02-14/
ATTACH;FMTTYPE=image/png:https://www.eshelonline.org/wp-content/uploads/2023/09/Eshel-Support-groups-and-meetups.png
END:VEVENT
BEGIN:VEVENT
DTSTART;TZID=America/New_York:20280313T200000
DTEND;TZID=America/New_York:20280313T210000
DTSTAMP:20260425T163538
CREATED:20230926T162921Z
LAST-MODIFIED:20230926T162921Z
UID:165415-1836590400-1836594000@www.eshelonline.org
SUMMARY:LGBTQ+ Support Group
DESCRIPTION:A confidential space for LGBTQ+ adults who are Orthodox\, formerly Orthodox\, or Orthodox-adjacent to access peer support\, share their experiences\, and connect and gain insights from others. \n  \nSecond Monday of the month \n8:00 pm ET\, 7:00 pm CT\, 6:00 pm MT\, 5:00 pm PT \nRegister below for Zoom link and to receive notifications each month. \n			\n				\n				\n				\n				\n				\n\n  hbspt.forms.create({\n    region: "na1"\,\n    portalId: "7837587"\,\n    formId: "5cedcd16-2123-4da6-adce-e27bbf417a31"\n  });
URL:https://www.eshelonline.org/event/lgbtq-support-group-2-2024-01-01/2028-03-13/
ATTACH;FMTTYPE=image/png:https://www.eshelonline.org/wp-content/uploads/2023/09/Eshel-Support-groups-and-meetups.png
END:VEVENT
BEGIN:VEVENT
DTSTART;TZID=America/New_York:20280410T200000
DTEND;TZID=America/New_York:20280410T210000
DTSTAMP:20260425T163538
CREATED:20230926T162921Z
LAST-MODIFIED:20230926T162921Z
UID:165561-1839009600-1839013200@www.eshelonline.org
SUMMARY:LGBTQ+ Support Group
DESCRIPTION:A confidential space for LGBTQ+ adults who are Orthodox\, formerly Orthodox\, or Orthodox-adjacent to access peer support\, share their experiences\, and connect and gain insights from others. \n  \nSecond Monday of the month \n8:00 pm ET\, 7:00 pm CT\, 6:00 pm MT\, 5:00 pm PT \nRegister below for Zoom link and to receive notifications each month. \n			\n				\n				\n				\n				\n				\n\n  hbspt.forms.create({\n    region: "na1"\,\n    portalId: "7837587"\,\n    formId: "5cedcd16-2123-4da6-adce-e27bbf417a31"\n  });
URL:https://www.eshelonline.org/event/lgbtq-support-group-2-2024-01-01/2028-04-10/
ATTACH;FMTTYPE=image/png:https://www.eshelonline.org/wp-content/uploads/2023/09/Eshel-Support-groups-and-meetups.png
END:VEVENT
END:VCALENDAR